Workbook

Sheet TABELA
B3: Nº da OS | C3: Data Solicitação | D3: Data Incio da manutenção | E3: Data Fim da manutenção | F3: Downtime Planejado | G3: Tempo Planejado | H3: Tempo de Downtime | I3: Prioridade | J3: Tipo de Ocorrência | K3: Equipamento | L3: Operador | M3: Problema | N3: Especialidade | O3: Status | P3: Equipe | Q3: Realizado | R3: Categoria
B4: 202511260800HMPM | C4: 45986.333 | D4: 45986.333 | E4: 45986.375 | F4: Sim | G4: 01:00:00 | H4: =IF(Fpcm[[#This Row],[Data Fim da manutenção]]="","",Fpcm[[#This Row],[Data Fim da manutenção]]-Fpcm[[#This Row],[Data Incio da manutenção]]) -> 0.041666667 | I4: 1 | J4: Preventiva | K4: Robô 15kg | L4: Cleyton Castro | M4: xxxxxxxxxxxxxxxxxxxxxxx | N4: Mecânica | O4: Concluído | P4: =dOperadores[[#This Row],[Equipe]] -> Equipe A | Q4: xxxxxxxxxxxxxxxxxxxxxxx | R4: =IF(Fpcm[[#This Row],[Tipo de Ocorrência]]="","",VLOOKUP(Fpcm[[#This Row],[Tipo de Ocorrência]],dOcorrencia!$C:$D,2,0)) -> Sem falha
B5: 202511260800HMPM | C5: 45987.375 | D5: 45987.375 | E5: 45987.417 | F5: Sim | G5: 01:00:00 | H5: =IF(Fpcm[[#This Row],[Data Fim da manutenção]]="","",Fpcm[[#This Row],[Data Fim da manutenção]]-Fpcm[[#This Row],[Data Incio da manutenção]]) -> 0.041666667 | I5: 1 | J5: Preventiva | K5: Prensa Encosto | L5: Cleyton Castro | M5: xxxxxxxxxxxxxxxxxxxxxxx | N5: Mecânica | O5: Concluído | P5: Equipe A | Q5: xxxxxxxxxxxxxxxxxxxxxxx | R5: =IF(Fpcm[[#This Row],[Tipo de Ocorrência]]="","",VLOOKUP(Fpcm[[#This Row],[Tipo de Ocorrência]],dOcorrencia!$C:$D,2,0)) -> Sem falha
B6: 202511261000HMPE | C6: 45987.438 | D6: 45987.438 | E6: 45987.542 | F6: Sim | G6: 02:30:00 | H6: =IF(Fpcm[[#This Row],[Data Fim da manutenção]]="","",Fpcm[[#This Row],[Data Fim da manutenção]]-Fpcm[[#This Row],[Data Incio da manutenção]]) -> 0.10416667 | I6: 1 | J6: Preventiva | K6: Medidora Folga | L6: Lázaro Rogerio | M6: xxxxxxxxxxxxxxxxxxxxxxx | N6: Elétrica | O6: Concluído | P6: Equipe ADM | Q6: xxxxxxxxxxxxxxxxxxxxxxx | R6: =IF(Fpcm[[#This Row],[Tipo de Ocorrência]]="","",VLOOKUP(Fpcm[[#This Row],[Tipo de Ocorrência]],dOcorrencia!$C:$D,2,0)) -> Sem falha
B7: 202511261030HMPM | C7: 45987.451 | D7: 45987.451 | E7: 45987.708 | F7: Sim | G7: 06:10:00 | H7: =IF(Fpcm[[#This Row],[Data Fim da manutenção]]="","",Fpcm[[#This Row],[Data Fim da manutenção]]-Fpcm[[#This Row],[Data Incio da manutenção]]) -> 0.25694444 | I7: 1 | J7: Preventiva | K7: Granalhadora | L7: Cleyton Castro | M7: xxxxxxxxxxxxxxxxxxxxxxx | N7: Mecânica | O7: Concluído | P7: Equipe A | Q7: xxxxxxxxxxxxxxxxxxxxxxx | R7: =IF(Fpcm[[#This Row],[Tipo de Ocorrência]]="","",VLOOKUP(Fpcm[[#This Row],[Tipo de Ocorrência]],dOcorrencia!$C:$D,2,0)) -> Sem falha
B8: 202511261300HMPE | C8: 45987.542 | D8: 45987.542 | E8: 45987.583 | F8: Sim | G8: 01:00:00 | H8: =IF(Fpcm[[#This Row],[Data Fim da manutenção]]="","",Fpcm[[#This Row],[Data Fim da manutenção]]-Fpcm[[#This Row],[Data Incio da manutenção]]) -> 0.041666667 | I8: 1 | J8: Preventiva | K8: Medidora Degrau e Espaçador | L8: Lázaro Rogerio | M8: xxxxxxxxxxxxxxxxxxxxxxx | N8: Elétrica | O8: Concluído | P8: Equipe ADM | Q8: xxxxxxxxxxxxxxxxxxxxxxx | R8: =IF(Fpcm[[#This Row],[Tipo de Ocorrência]]="","",VLOOKUP(Fpcm[[#This Row],[Tipo de Ocorrência]],dOcorrencia!$C:$D,2,0)) -> Sem falha
B9: 202511260800HMPE | C9: 45987.333 | D9: 45987.333 | E9: 45987.417 | F9: Sim | G9: 02:00:00 | H9: =IF(Fpcm[[#This Row],[Data Fim da manutenção]]="","",Fpcm[[#This Row],[Data Fim da manutenção]]-Fpcm[[#This Row],[Data Incio da manutenção]]) -> 0.083333333 | I9: 1 | J9: Preventiva | K9: Robô 15kg | L9: Lázaro Rogerio | M9: xxxxxxxxxxxxxxxxxxxxxxx | N9: Elétrica | O9: Concluído | P9: Equipe ADM | Q9: xxxxxxxxxxxxxxxxxxxxxxx | R9: =IF(Fpcm[[#This Row],[Tipo de Ocorrência]]="","",VLOOKUP(Fpcm[[#This Row],[Tipo de Ocorrência]],dOcorrencia!$C:$D,2,0)) -> Sem falha
B10: 202509070800HMPM | C10: 45914.333 | D10: 45914.333 | E10: 45914.708 | F10: Sim | G10: 09:00:00 | H10: =IF(Fpcm[[#This Row],[Data Fim da manutenção]]="","",Fpcm[[#This Row],[Data Fim da manutenção]]-Fpcm[[#This Row],[Data Incio da manutenção]]) -> 0.375 | I10: 1 | J10: Preventiva | K10: Pórtico | L10: Cleyton Castro | M10: xxxxxxxxxxxxxxxxxxxxxxx | N10: Mecânica | O10: Concluído | P10: Equipe A | Q10: xxxxxxxxxxxxxxxxxxxxxxx | R10: =IF(Fpcm[[#This Row],[Tipo de Ocorrência]]="","",VLOOKUP(Fpcm[[#This Row],[Tipo de Ocorrência]],dOcorrencia!$C:$D,2,0)) -> Sem falha
B11: 202509070801HMPE | C11: 45907.333 | D11: 45907.333 | E11: 45907.5 | F11: Sim | G11: 04:00:00 | H11: =IF(Fpcm[[#This Row],[Data Fim da manutenção]]="","",Fpcm[[#This Row],[Data Fim da manutenção]]-Fpcm[[#This Row],[Data Incio da manutenção]]) -> 0.16666667 | I11: 1 | J11: Preventiva | K11: Pórtico | L11: Lázaro Rogerio | M11: xxxxxxxxxxxxxxxxxxxxxxx | N11: Elétrica | O11: Concluído | P11: Equipe ADM | Q11: xxxxxxxxxxxxxxxxxxxxxxx | R11: =IF(Fpcm[[#This Row],[Tipo de Ocorrência]]="","",VLOOKUP(Fpcm[[#This Row],[Tipo de Ocorrência]],dOcorrencia!$C:$D,2,0)) -> Sem falha
B12: 202509071300HMPM | C12: 45914.417 | D12: 45914.417 | E12: 45914.542 | F12: Sim | G12: 03:00:00 | H12: =IF(Fpcm[[#This Row],[Data Fim da manutenção]]="","",Fpcm[[#This Row],[Data Fim da manutenção]]-Fpcm[[#This Row],[Data Incio da manutenção]]) -> 0.125 | I12: 1 | J12: Preventiva | K12: Escovadora de Capa | L12: Francisco Rodrigues | M12: xxxxxxxxxxxxxxxxxxxxxxx | N12: Mecânica | O12: Concluído | P12: Equipe B | Q12: xxxxxxxxxxxxxxxxxxxxxxx | R12: =IF(Fpcm[[#This Row],[Tipo de Ocorrência]]="","",VLOOKUP(Fpcm[[#This Row],[Tipo de Ocorrência]],dOcorrencia!$C:$D,2,0)) -> Sem falha
B13: 202509071301HMPE | C13: 45907.333 | D13: 45907.333 | E13: 45907.417 | F13: Sim | G13: 02:00:00 | H13: =IF(Fpcm[[#This Row],[Data Fim da manutenção]]="","",Fpcm[[#This Row],[Data Fim da manutenção]]-Fpcm[[#This Row],[Data Incio da manutenção]]) -> 0.083333333 | I13: 1 | J13: Preventiva | K13: Escovadora de Capa | L13: Francisco Rodrigues | M13: xxxxxxxxxxxxxxxxxxxxxxx | N13: Elétrica | O13: Concluído | P13: Equipe B | Q13: xxxxxxxxxxxxxxxxxxxxxxx | R13: =IF(Fpcm[[#This Row],[Tipo de Ocorrência]]="","",VLOOKUP(Fpcm[[#This Row],[Tipo de Ocorrência]],dOcorrencia!$C:$D,2,0)) -> Sem falha
B14: 202509140800HMPM | C14: 45921.333 | D14: 45921.333 | E14: 45921.75 | F14: Sim | G14: 10:00:00 | H14: =IF(Fpcm[[#This Row],[Data Fim da manutenção]]="","",Fpcm[[#This Row],[Data Fim da manutenção]]-Fpcm[[#This Row],[Data Incio da manutenção]]) -> 0.41666667 | I14: 1 | J14: Preventiva | K14: Máquina Desmontar Vedação | L14: Francisco Rodrigues | M14: xxxxxxxxxxxxxxxxxxxxxxx | N14: Mecânica | O14: Concluído | P14: Equipe B | Q14: xxxxxxxxxxxxxxxxxxxxxxx | R14: =IF(Fpcm[[#This Row],[Tipo de Ocorrência]]="","",VLOOKUP(Fpcm[[#This Row],[Tipo de Ocorrência]],dOcorrencia!$C:$D,2,0)) -> Sem falha
B15: 202509140801HMPE | C15: 45914.333 | D15: 45914.333 | E15: 45914.542 | F15: Sim | G15: 05:00:00 | H15: =IF(Fpcm[[#This Row],[Data Fim da manutenção]]="","",Fpcm[[#This Row],[Data Fim da manutenção]]-Fpcm[[#This Row],[Data Incio da manutenção]]) -> 0.20833333 | I15: 1 | J15: Preventiva | K15: Máquina Desmontar Vedação | L15: Lázaro Rogerio | M15: xxxxxxxxxxxxxxxxxxxxxxx | N15: Elétrica | O15: Concluído | P15: Equipe ADM | Q15: xxxxxxxxxxxxxxxxxxxxxxx | R15: =IF(Fpcm[[#This Row],[Tipo de Ocorrência]]="","",VLOOKUP(Fpcm[[#This Row],[Tipo de Ocorrência]],dOcorrencia!$C:$D,2,0)) -> Sem falha
B16: 202509141200HMPM | C16: 45914.5 | D16: 45914.5 | E16: 45914.583 | F16: Sim | G16: 02:00:00 | H16: =IF(Fpcm[[#This Row],[Data Fim da manutenção]]="","",Fpcm[[#This Row],[Data Fim da manutenção]]-Fpcm[[#This Row],[Data Incio da manutenção]]) -> 0.083333333 | I16: 1 | J16: Preventiva | K16: Esteira Transferência 1 | L16: Francisco Rodrigues | M16: xxxxxxxxxxxxxxxxxxxxxxx | N16: Mecânica | O16: Concluído | P16: Equipe B | Q16: xxxxxxxxxxxxxxxxxxxxxxx | R16: =IF(Fpcm[[#This Row],[Tipo de Ocorrência]]="","",VLOOKUP(Fpcm[[#This Row],[Tipo de Ocorrência]],dOcorrencia!$C:$D,2,0)) -> Sem falha
... B20: 202509140800HMPE | C20: 45914.333 | D20: 45914.333 | E20: 45914.417 | F20: Sim | G20: 02:00:00 | H20: =IF(Fpcm[[#This Row],[Data Fim da manutenção]]="","",Fpcm[[#This Row],[Data Fim da manutenção]]-Fpcm[[#This Row],[Data Incio da manutenção]]) -> 0.083333333 | I20: 1 | J20: Preventiva | K20: Medidora Capa | L20: Lázaro Rogerio | M20: xxxxxxxxxxxxxxxxxxxxxxx | N20: Elétrica | O20: Concluído | P20: Equipe ADM | Q20: xxxxxxxxxxxxxxxxxxxxxxx | R20: =IF(Fpcm[[#This Row],[Tipo de Ocorrência]]="","",VLOOKUP(Fpcm[[#This Row],[Tipo de Ocorrência]],dOcorrencia!$C:$D,2,0)) -> Sem falha
B21: 202509140800HMPO | C21: 45914.333 | D21: 45914.333 | E21: 45914.708 | F21: Sim | G21: 09:00:00 | H21: =IF(Fpcm[[#This Row],[Data Fim da manutenção]]="","",Fpcm[[#This Row],[Data Fim da manutenção]]-Fpcm[[#This Row],[Data Incio da manutenção]]) -> 0.375 | I21: 1 | J21: Preventiva | L21: Turno | M21: xxxxxxxxxxxxxxxxxxxxxxx | N21: Operação | O21: Concluído | P21: Equipe A | Q21: xxxxxxxxxxxxxxxxxxxxxxx | R21: =IF(Fpcm[[#This Row],[Tipo de Ocorrência]]="","",VLOOKUP(Fpcm[[#This Row],[Tipo de Ocorrência]],dOcorrencia!$C:$D,2,0)) -> Sem falha
B22: 202509140801HMPA | C22: 45914.333 | D22: 45914.333 | E22: 45914.542 | F22: Sim | G22: 05:00:00 | H22: =IF(Fpcm[[#This Row],[Data Fim da manutenção]]="","",Fpcm[[#This Row],[Data Fim da manutenção]]-Fpcm[[#This Row],[Data Incio da manutenção]]) -> 0.20833333 | I22: 1 | J22: Preventiva | K22: Buffer | L22: Aylan | M22: xxxxxxxxxxxxxxxxxxxxxxx | N22: Operação | O22: Concluído | P22: Equipe C | Q22: xxxxxxxxxxxxxxxxxxxxxxx | R22: =IF(Fpcm[[#This Row],[Tipo de Ocorrência]]="","",VLOOKUP(Fpcm[[#This Row],[Tipo de Ocorrência]],dOcorrencia!$C:$D,2,0)) -> Sem falha
B23: 202509140801HMPM | C23: 45914.333 | D23: 45914.333 | E23: 45914.542 | F23: Sim | G23: 05:00:00 | H23: =IF(Fpcm[[#This Row],[Data Fim da manutenção]]="","",Fpcm[[#This Row],[Data Fim da manutenção]]-Fpcm[[#This Row],[Data Incio da manutenção]]) -> 0.20833333 | I23: 1 | J23: Preventiva | K23: Lavadora Principal | L23: Francisco Rodrigues | M23: xxxxxxxxxxxxxxxxxxxxxxx | N23: Mecânica | O23: Concluído | P23: Equipe B | Q23: xxxxxxxxxxxxxxxxxxxxxxx | R23: =IF(Fpcm[[#This Row],[Tipo de Ocorrência]]="","",VLOOKUP(Fpcm[[#This Row],[Tipo de Ocorrência]],dOcorrencia!$C:$D,2,0)) -> Sem falha
B24: 202509141000HMPE | C24: 45914.375 | D24: 45914.375 | E24: 45914.708 | F24: Sim | G24: 08:00:00 | H24: =IF(Fpcm[[#This Row],[Data Fim da manutenção]]="","",Fpcm[[#This Row],[Data Fim da manutenção]]-Fpcm[[#This Row],[Data Incio da manutenção]]) -> 0.33333333 | I24: 1 | J24: Preventiva | K24: Lavadora Principal | L24: Lázaro Rogerio | M24: xxxxxxxxxxxxxxxxxxxxxxx | N24: Elétrica | O24: Concluído | P24: Equipe ADM | Q24: xxxxxxxxxxxxxxxxxxxxxxx | R24: =IF(Fpcm[[#This Row],[Tipo de Ocorrência]]="","",VLOOKUP(Fpcm[[#This Row],[Tipo de Ocorrência]],dOcorrencia!$C:$D,2,0)) -> Sem falha
B25: 202509141001HMPA | C25: 45914.375 | D25: 45914.375 | E25: 45914.708 | F25: Sim | G25: 08:00:00 | H25: =IF(Fpcm[[#This Row],[Data Fim da manutenção]]="","",Fpcm[[#This Row],[Data Fim da manutenção]]-Fpcm[[#This Row],[Data Incio da manutenção]]) -> 0.33333333 | I25: 1 | J25: Preventiva | K25: Esteira Transferência 2 | L25: Marcio Fernando | M25: xxxxxxxxxxxxxxxxxxxxxxx | N25: Mecânica | O25: Concluído | P25: Equipe A | Q25: xxxxxxxxxxxxxxxxxxxxxxx | R25: =IF(Fpcm[[#This Row],[Tipo de Ocorrência]]="","",VLOOKUP(Fpcm[[#This Row],[Tipo de Ocorrência]],dOcorrencia!$C:$D,2,0)) -> Sem falha
B26: 202509210801HMPM | C26: 45921.375 | D26: 45921.375 | E26: 45921.438 | F26: Sim | G26: 01:30:00 | H26: =IF(Fpcm[[#This Row],[Data Fim da manutenção]]="","",Fpcm[[#This Row],[Data Fim da manutenção]]-Fpcm[[#This Row],[Data Incio da manutenção]]) -> 0.0625 | I26: 1 | J26: Preventiva | K26: Máquina Desmontar Vedação | L26: Francisco Rodrigues | M26: xxxxxxxxxxxxxxxxxxxxxxx | N26: Mecânica | O26: Concluído | P26: Equipe B | Q26: xxxxxxxxxxxxxxxxxxxxxxx | R26: =IF(Fpcm[[#This Row],[Tipo de Ocorrência]]="","",VLOOKUP(Fpcm[[#This Row],[Tipo de Ocorrência]],dOcorrencia!$C:$D,2,0)) -> Sem falha
B27: 202509210803HMPE | C27: 45921.375 | D27: 45921.375 | E27: 45921.438 | F27: Sim | G27: 01:30:00 | H27: =IF(Fpcm[[#This Row],[Data Fim da manutenção]]="","",Fpcm[[#This Row],[Data Fim da manutenção]]-Fpcm[[#This Row],[Data Incio da manutenção]]) -> 0.0625 | I27: 1 | J27: Preventiva | K27: Robô 15kg | L27: Lázaro Rogerio | M27: xxxxxxxxxxxxxxxxxxxxxxx | N27: Elétrica | O27: Concluído | P27: Equipe ADM | Q27: xxxxxxxxxxxxxxxxxxxxxxx | R27: =IF(Fpcm[[#This Row],[Tipo de Ocorrência]]="","",VLOOKUP(Fpcm[[#This Row],[Tipo de Ocorrência]],dOcorrencia!$C:$D,2,0)) -> Sem falha
B28: 202509251630HMPE | C28: 45925.667 | D28: 45925.667 | E28: 45925.75 | F28: Sim | G28: 02:00:00 | H28: =IF(Fpcm[[#This Row],[Data Fim da manutenção]]="","",Fpcm[[#This Row],[Data Fim da manutenção]]-Fpcm[[#This Row],[Data Incio da manutenção]]) -> 0.083333333 | I28: 1 | J28: Preventiva | L28: Lázaro Rogerio | M28: xxxxxxxxxxxxxxxxxxxxxxx | N28: Elétrica | O28: Concluído | P28: Equipe ADM | Q28: xxxxxxxxxxxxxxxxxxxxxxx | R28: =IF(Fpcm[[#This Row],[Tipo de Ocorrência]]="","",VLOOKUP(Fpcm[[#This Row],[Tipo de Ocorrência]],dOcorrencia!$C:$D,2,0)) -> Sem falha
B29: 202509260710HMPM | C29: 45926.299 | D29: 45926.299 | E29: 45926.309 | F29: Não | G29: 00:15:00 | H29: =IF(Fpcm[[#This Row],[Data Fim da manutenção]]="","",Fpcm[[#This Row],[Data Fim da manutenção]]-Fpcm[[#This Row],[Data Incio da manutenção]]) -> 0.010416667 | I29: 1 | J29: Corretiva Não Planejada | K29: Escovadora de Capa | L29: Cleyton Castro | M29: xxxxxxxxxxxxxxxxxxxxxxx | N29: Mecânica | O29: Concluído | P29: Equipe A | Q29: xxxxxxxxxxxxxxxxxxxxxxx | R29: =IF(Fpcm[[#This Row],[Tipo de Ocorrência]]="","",VLOOKUP(Fpcm[[#This Row],[Tipo de Ocorrência]],dOcorrencia!$C:$D,2,0)) -> Com falha
B30: 202510050900HMMM | C30: 45927.333 | D30: 45927.333 | E30: 45927.583 | F30: Sim | G30: 06:00:00 | H30: =IF(Fpcm[[#This Row],[Data Fim da manutenção]]="","",Fpcm[[#This Row],[Data Fim da manutenção]]-Fpcm[[#This Row],[Data Incio da manutenção]]) -> 0.25 | I30: 1 | J30: Melhoria | K30: Inspeção Visual | L30: Cleyton Castro | M30: xxxxxxxxxxxxxxxxxxxxxxx | N30: Elétrica | O30: Concluído | P30: Equipe A | Q30: xxxxxxxxxxxxxxxxxxxxxxx | R30: =IF(Fpcm[[#This Row],[Tipo de Ocorrência]]="","",VLOOKUP(Fpcm[[#This Row],[Tipo de Ocorrência]],dOcorrencia!$C:$D,2,0)) -> Sem falha
B31: 202510120801HMPE | C31: 45942.333 | D31: 45942.333 | E31: 45942.417 | F31: Sim | G31: 02:00:00 | H31: =IF(Fpcm[[#This Row],[Data Fim da manutenção]]="","",Fpcm[[#This Row],[Data Fim da manutenção]]-Fpcm[[#This Row],[Data Incio da manutenção]]) -> 0.083333333 | I31: 1 | J31: Preventiva | K31: Lavadora Principal | L31: Lázaro Rogerio | M31: xxxxxxxxxxxxxxxxxxxxxxx | N31: Elétrica | O31: Concluído | P31: Equipe B | Q31: xxxxxxxxxxxxxxxxxxxxxxx | R31: =IF(Fpcm[[#This Row],[Tipo de Ocorrência]]="","",VLOOKUP(Fpcm[[#This Row],[Tipo de Ocorrência]],dOcorrencia!$C:$D,2,0)) -> Sem falha
B32: 202510120800HMPM | C32: 45942.333 | D32: 45942.333 | E32: 45942.458 | F32: Sim | G32: 03:00:00 | H32: =IF(Fpcm[[#This Row],[Data Fim da manutenção]]="","",Fpcm[[#This Row],[Data Fim da manutenção]]-Fpcm[[#This Row],[Data Incio da manutenção]]) -> 0.125 | I32: 1 | J32: Preventiva | K32: Lavadora Principal | L32: Francisco Rodrigues | M32: xxxxxxxxxxxxxxxxxxxxxxx | N32: Mecânica | O32: Concluído | P32: Equipe B | Q32: xxxxxxxxxxxxxxxxxxxxxxx | R32: =IF(Fpcm[[#This Row],[Tipo de Ocorrência]]="","",VLOOKUP(Fpcm[[#This Row],[Tipo de Ocorrência]],dOcorrencia!$C:$D,2,0)) -> Sem falha
B33: 202510120900HMPE | C33: 45942.375 | D33: 45942.375 | E33: 45942.417 | F33: Sim | G33: 01:00:00 | H33: =IF(Fpcm[[#This Row],[Data Fim da manutenção]]="","",Fpcm[[#This Row],[Data Fim da manutenção]]-Fpcm[[#This Row],[Data Incio da manutenção]]) -> 0.041666667 | I33: 1 | J33: Preventiva | K33: Máquina Laser | L33: Lázaro Rogerio | M33: xxxxxxxxxxxxxxxxxxxxxxx | N33: Elétrica | O33: Concluído | P33: Equipe ADM | Q33: xxxxxxxxxxxxxxxxxxxxxxx | R33: =IF(Fpcm[[#This Row],[Tipo de Ocorrência]]="","",VLOOKUP(Fpcm[[#This Row],[Tipo de Ocorrência]],dOcorrencia!$C:$D,2,0)) -> Sem falha
B34: 202510121000HMPE | C34: 45942.417 | D34: 45942.417 | E34: 45942.542 | F34: Sim | G34: 03:00:00 | H34: =IF(Fpcm[[#This Row],[Data Fim da manutenção]]="","",Fpcm[[#This Row],[Data Fim da manutenção]]-Fpcm[[#This Row],[Data Incio da manutenção]]) -> 0.125 | I34: 1 | J34: Preventiva | K34: Inspeção Visual | L34: Lázaro Rogerio | M34: xxxxxxxxxxxxxxxxxxxxxxx | N34: Elétrica | O34: Concluído | P34: Equipe ADM | Q34: xxxxxxxxxxxxxxxxxxxxxxx | R34: =IF(Fpcm[[#This Row],[Tipo de Ocorrência]]="","",VLOOKUP(Fpcm[[#This Row],[Tipo de Ocorrência]],dOcorrencia!$C:$D,2,0)) -> Sem falha
B35: 202510121100HMPE | C35: 45941.458 | D35: 45941.458 | E35: 45941.583 | F35: Sim | G35: 03:00:00 | H35: =IF(Fpcm[[#This Row],[Data Fim da manutenção]]="","",Fpcm[[#This Row],[Data Fim da manutenção]]-Fpcm[[#This Row],[Data Incio da manutenção]]) -> 0.125 | I35: 1 | J35: Preventiva | K35: Máquina de Graxa | L35: Lázaro Rogerio | M35: xxxxxxxxxxxxxxxxxxxxxxx | N35: Elétrica | O35: Concluído | P35: Equipe ADM | Q35: xxxxxxxxxxxxxxxxxxxxxxx | R35: =IF(Fpcm[[#This Row],[Tipo de Ocorrência]]="","",VLOOKUP(Fpcm[[#This Row],[Tipo de Ocorrência]],dOcorrencia!$C:$D,2,0)) -> Sem falha
B36: 202510121200HMPE | C36: 45942.5 | D36: 45942.5 | E36: 45942.542 | F36: Sim | G36: 01:00:00 | H36: =IF(Fpcm[[#This Row],[Data Fim da manutenção]]="","",Fpcm[[#This Row],[Data Fim da manutenção]]-Fpcm[[#This Row],[Data Incio da manutenção]]) -> 0.041666667 | I36: 1 | J36: Preventiva | K36: Máquina de Graxa | L36: Lázaro Rogerio | M36: xxxxxxxxxxxxxxxxxxxxxxx | N36: Elétrica | O36: Concluído | P36: Equipe ADM | Q36: xxxxxxxxxxxxxxxxxxxxxxx | R36: =IF(Fpcm[[#This Row],[Tipo de Ocorrência]]="","",VLOOKUP(Fpcm[[#This Row],[Tipo de Ocorrência]],dOcorrencia!$C:$D,2,0)) -> Sem falha
B37: 202510121200HMPM | C37: 45942.5 | D37: 45942.5 | E37: 45942.708 | F37: Sim | G37: 05:00:00 | H37: =IF(Fpcm[[#This Row],[Data Fim da manutenção]]="","",Fpcm[[#This Row],[Data Fim da manutenção]]-Fpcm[[#This Row],[Data Incio da manutenção]]) -> 0.20833333 | I37: 1 | J37: Preventiva | K37: Escovadora de Capa | L37: Francisco Rodrigues | M37: xxxxxxxxxxxxxxxxxxxxxxx | N37: Mecânica | O37: Concluído | P37: Equipe B | Q37: xxxxxxxxxxxxxxxxxxxxxxx | R37: =IF(Fpcm[[#This Row],[Tipo de Ocorrência]]="","",VLOOKUP(Fpcm[[#This Row],[Tipo de Ocorrência]],dOcorrencia!$C:$D,2,0)) -> Sem falha
B38: 202512111550HMCM | C38: 46002.625 | D38: 46002.66 | E38: 46002.688 | F38: Não | G38: 00:30:00 | H38: =IF(Fpcm[[#This Row],[Data Fim da manutenção]]="","",Fpcm[[#This Row],[Data Fim da manutenção]]-Fpcm[[#This Row],[Data Incio da manutenção]]) -> 0.027777778 | I38: 0 | J38: Corretiva Não Planejada | K38: Granalhadora | L38: Cleyton Castro | M38: Obstrução no Mangote da Turbina | N38: Mecânica | O38: Concluído | P38: Equipe A | Q38: Desobstrução do mangote, foram encontrados fragmentos gerados pelo trabalho da granalhadora. | R38: =IF(Fpcm[[#This Row],[Tipo de Ocorrência]]="","",VLOOKUP(Fpcm[[#This Row],[Tipo de Ocorrência]],dOcorrencia!$C:$D,2,0)) -> Com falha
B39: 202512111050HMCM | C39: 46002.417 | D39: 46002.451 | E39: 46002.701 | F39: Não | G39: 05:00:00 | H39: =IF(Fpcm[[#This Row],[Data Fim da manutenção]]="","",Fpcm[[#This Row],[Data Fim da manutenção]]-Fpcm[[#This Row],[Data Incio da manutenção]]) -> 0.25 | I39: 0 | J39: Corretiva Não Planejada | K39: Granalhadora | L39: Cleyton Castro | M39: Quebra dos parafusos da peneira da granalhadora. | N39: Mecânica | O39: Concluído | P39: Equipe A | Q39: Foram substituídos 3 parafusos quebrados nos mancais , reparos em trincas ,reaperto em todos os mancais . | R39: =IF(Fpcm[[#This Row],[Tipo de Ocorrência]]="","",VLOOKUP(Fpcm[[#This Row],[Tipo de Ocorrência]],dOcorrencia!$C:$D,2,0)) -> Com falha
B40: 202612100840HMCM | C40: 46001.361 | D40: 46001.361 | E40: 46003.378 | F40: Não | G40: 0.041666667 | H40: =IF(Fpcm[[#This Row],[Data Fim da manutenção]]="","",Fpcm[[#This Row],[Data Fim da manutenção]]-Fpcm[[#This Row],[Data Incio da manutenção]]) -> 2.0173611 | I40: 0 | J40: Corretiva Não Planejada | K40: Escovadora de Capa | L40: Francisco Rodrigues | M40: Escova fim de vida útil | N40: Mecânica | O40: Concluído | P40: Equipe B | Q40: Substituição da escova rotativa. | R40: =IF(Fpcm[[#This Row],[Tipo de Ocorrência]]="","",VLOOKUP(Fpcm[[#This Row],[Tipo de Ocorrência]],dOcorrencia!$C:$D,2,0)) -> Com falha
B41: 202512101025HMCM | C41: 46001.434 | D41: 46001.434 | E41: 46001.451 | F41: Não | G41: 0.041666667 | H41: =IF(Fpcm[[#This Row],[Data Fim da manutenção]]="","",Fpcm[[#This Row],[Data Fim da manutenção]]-Fpcm[[#This Row],[Data Incio da manutenção]]) -> 0.017361111 | I41: 0 | J41: Corretiva Não Planejada | K41: Balança Tara | L41: Francisco Rodrigues | M41: Haste cilindro avariado | N41: Mecânica | O41: Concluído | P41: Equipe B | Q41: Realizado troca do cilindro de posicionamento do rolamento na balança. | R41: =IF(Fpcm[[#This Row],[Tipo de Ocorrência]]="","",VLOOKUP(Fpcm[[#This Row],[Tipo de Ocorrência]],dOcorrencia!$C:$D,2,0)) -> Com falha
B42: 202512112030HOFV | C42: 46002.854 | D42: 46002.854 | E42: 46002.885 | F42: Não | G42: 0 | H42: =IF(Fpcm[[#This Row],[Data Fim da manutenção]]="","",Fpcm[[#This Row],[Data Fim da manutenção]]-Fpcm[[#This Row],[Data Incio da manutenção]]) -> 0.03125 | I42: 0 | J42: Operacional | K42: Planta Geral | L42: José Augusto | M42: Falta de vedações | N42: Operação | O42: Concluído | P42: Equipe C | Q42: Realizado montagem de vedações para iniciar p processo de montagem. | R42: =IF(Fpcm[[#This Row],[Tipo de Ocorrência]]="","",VLOOKUP(Fpcm[[#This Row],[Tipo de Ocorrência]],dOcorrencia!$C:$D,2,0)) -> Sem falha
B43: 202512112128HOPE | C43: 46002.894 | D43: 46002.894 | E43: 46002.897 | F43: Não | G43: 0.041666667 | H43: =IF(Fpcm[[#This Row],[Data Fim da manutenção]]="","",Fpcm[[#This Row],[Data Fim da manutenção]]-Fpcm[[#This Row],[Data Incio da manutenção]]) -> 0.0027777778 | I43: 0 | J43: Operacional | K43: Magazine Espaçador | L43: José Augusto | M43: Calibração | N43: Operação | O43: Concluído | P43: Equipe C | Q43: Foi desligado a máquina e feito a calibagem da medidora. | R43: =IF(Fpcm[[#This Row],[Tipo de Ocorrência]]="","",VLOOKUP(Fpcm[[#This Row],[Tipo de Ocorrência]],dOcorrencia!$C:$D,2,0)) -> Sem falha
B44: 202512131100HMPM | C44: 46004.458 | D44: 46004.458 | E44: 46004.5 | F44: Sim | G44: 0.0625 | H44: =IF(Fpcm[[#This Row],[Data Fim da manutenção]]="","",Fpcm[[#This Row],[Data Fim da manutenção]]-Fpcm[[#This Row],[Data Incio da manutenção]]) -> 0.041666667 | I44: 1 | J44: Preventiva | K44: Buffer | L44: Francisco Rodrigues | M44: 1° Piso Buffer sem redutor | N44: Mecânica | O44: Em Andamento | P44: Equipe B | Q44: Repor motoredutor 1° piso. | R44: =IF(Fpcm[[#This Row],[Tipo de Ocorrência]]="","",VLOOKUP(Fpcm[[#This Row],[Tipo de Ocorrência]],dOcorrencia!$C:$D,2,0)) -> Sem falha
B45: 202512190900HMMM | C45: 46010.375 | D45: 46010.375 | E45: 46010.438 | F45: Sim | G45: 0.083333333 | H45: =IF(Fpcm[[#This Row],[Data Fim da manutenção]]="","",Fpcm[[#This Row],[Data Fim da manutenção]]-Fpcm[[#This Row],[Data Incio da manutenção]]) -> 0.0625 | I45: 1 | J45: Melhoria | K45: Medidora Folga | L45: Cleyton Castro | M45: Máquina colidi com espaçador no local | N45: Mecânica | O45: Concluído | P45: Equipe A | R45: =IF(Fpcm[[#This Row],[Tipo de Ocorrência]]="","",VLOOKUP(Fpcm[[#This Row],[Tipo de Ocorrência]],dOcorrencia!$C:$D,2,0)) -> Sem falha
...

Sheet dEquipamentos
B3: ID Equipamento | C3: Equipamento | D3: TAG | E3: Status
B4: 1 | C4: Pórtico | D4: Port_01 | E4: Ativo
B5: 2 | C5: Escovadora de Capa | D5: Escov_Cap_01 | E5: Ativo
B6: 3 | C6: Máquina Desmontar Vedação | D6: Máqui_Desm_Veda_01 | E6: Ativo
B7: 4 | C7: Lavadora Principal | D7: Lav_Princ_01 | E7: Ativo
B8: 5 | C8: Desoleadora | D8: Desol_01 | E8: Ativo
B9: 6 | C9: Esteira Transferência 1 | D9: Est_Transf_01 | E9: Ativo
B10: 7 | C10: Robô 200Kg | D10: Rob_200Kg_01 | E10: Ativo
B11: 8 | C11: Polidora da Capa | D11: Polid_Capa_01 | E11: Ativo
B12: 9 | C12: Polidora Cone 1 | D12: Polid_01 | E12: Ativo
B13: 10 | C13: Polidora Cone 2 | D13: Polid_02 | E13: Ativo
B14: 11 | C14: Polidora Espaçador | D14: Pol_Espaç_01 | E14: Ativo
B15: 12 | C15: Máquina Laser | D15: Máq_Laser_01 | E15: Ativo
... B45: 42 | C45: Planta Geral | D45: Plan_GE | E45: Ativo

Sheet dOperadores
B3: ID Operador | C3: Operador | D3: Especialidade | E3: Equipe | H3: Especialidade | J3: Equipe
B4: 1 | C4: Cleyton Castro | D4: Mecânica | E4: Equipe A | H4: Mecânica | J4: Equipe A
B5: 2 | C5: Francisco Rodrigues | D5: Mecânica | E5: Equipe B | H5: Elétrica | J5: Equipe B
B6: 3 | C6: José Augusto | D6: Operação | E6: Equipe C | H6: Automação | J6: Equipe C
B7: 4 | C7: Lázaro Rogerio | D7: Automação | E7: Equipe ADM | H7: Hidráulica | J7: Equipe ADM
B8: 5 | C8: Roberth | D8: Operação | E8: Equipe B | H8: Engenharia
B9: 6 | C9: Rodrigo | D9: Operação | E9: Equipe A | H9: Operação

Sheet dOcorrencia
B3: ID Ocorrencia | C3: Ocorrencia | D3: Categoria | F3: Horas por dia Operação
B4: 1 | C4: Preventiva | D4: Sem falha | F4: 8
B5: 2 | C5: Preditiva | D5: Sem falha | F5: 12
B6: 3 | C6: Corretiva Planejada | D6: Com falha | F6: 24
B7: 4 | C7: Corretiva Não Planejada | D7: Com falha | F7: 17
B8: 5 | C8: Detectiva | D8: Com falha
B9: 6 | C9: Engenharia De Manutenção | D9: Sem falha
B10: 7 | C10: Melhoria | D10: Sem falha
B11: 8 | C11: Operacional | D11: Sem falha
