Workbook

Sheet Cadastros
D1: Cadastros
E3: Motorista | G3: Tipo de Manutenção | I3: Cliente | K3: Empresa | M3: Filial | O3: Documentos | Q3: Custos | R3: Valores
E4: Carlos | G4: Preventiva | I4: Cliente 01 | K4: Empresa 1 | M4: Filial 1 | O4: Multa | Q4: 1.0 Custo Com viagens (=) | R4: =SUM(R5,R6,R7) -> 211600
E5: Miguel | G5: Corretiva | I5: Cliente 02 | K5: Empresa 2 | M5: Filial 2 | O5: Licenciamento | Q5: 1.1 Custo com combustível (+) | R5: =SUM(Rotas!$Q:$Q) -> 177392
E6: João | I6: Cliente 03 | K6: Empresa 3 | M6: Filial 3 | O6: IPVA | Q6: 1.2 Custo com Pedágio (+) | R6: =SUM(Rotas!R:R) -> 1728
E7: Ricardo | I7: Cliente 04 | O7: Seguros | Q7: 1.3 Custo Outros (+) | R7: =SUM(Rotas!S:S) -> 32480
Q8: 2.0 Custo com Manutenção (+) | R8: =SUM(Manutenção!J:J) -> 4150
Q9: 3.0 Custo com Documentos (+) | R9: =SUM(Documentos!J:J) -> 3258
Q10: 4.0 Custo Total (=) | R10: =SUM(R4,R8,R9) -> 219008

Sheet Veículos
D1: Veículos
E3: Nº | F3: Placa | G3: Veículo | H3: Ano Fabricação | I3: Cor | J3: Rodagem Aquisição (Km) | K3: Rodagem Atual (Km) | L3: Carga Máxima (Kg) | M3: Tipo de veículo | N3: Imagem
E4: 1 | F4: placa001 | G4: Caminhão 1 | H4: 2020 | I4: Branco | J4: 40000 | K4: =DVeiculos[[#This Row],[Rodagem Aquisição (Km)]]+SUMIFS(Rotas!N:N,Rotas!I:I,DVeiculos[[#This Row],[Veículo]]) -> 52585 | L4: 12000 | M4: Terceiro
E5: 2 | F5: placa002 | G5: Van | H5: 2021 | I5: Prata | J5: 50500 | K5: =DVeiculos[[#This Row],[Rodagem Aquisição (Km)]]+SUMIFS(Rotas!N:N,Rotas!I:I,DVeiculos[[#This Row],[Veículo]]) -> 64600 | L5: 4000 | M5: Próprio
E6: 3 | F6: placa003 | G6: Caminhão 2 | H6: 2021 | I6: Prata | J6: 50500 | K6: =DVeiculos[[#This Row],[Rodagem Aquisição (Km)]]+SUMIFS(Rotas!N:N,Rotas!I:I,DVeiculos[[#This Row],[Veículo]]) -> 63198 | L6: 10000 | M6: Terceiro
E7: 4 | F7: placa004 | G7: SAVEIRO | H7: 2021 | I7: Branco | J7: 57500 | K7: =DVeiculos[[#This Row],[Rodagem Aquisição (Km)]]+SUMIFS(Rotas!N:N,Rotas!I:I,DVeiculos[[#This Row],[Veículo]]) -> 71421 | L7: 6666.6667 | M7: Terceiro
E8: 5 | F8: placa005 | G8: STRADA | H8: 2021 | I8: Prata | J8: 62750 | K8: =DVeiculos[[#This Row],[Rodagem Aquisição (Km)]]+SUMIFS(Rotas!N:N,Rotas!I:I,DVeiculos[[#This Row],[Veículo]]) -> 77539 | L8: 5666.6667 | M8: Próprio
E9: 6 | F9: placa006 | G9: CAMINHÃO | H9: 2021 | I9: Preto | J9: 68000 | K9: =DVeiculos[[#This Row],[Rodagem Aquisição (Km)]]+SUMIFS(Rotas!N:N,Rotas!I:I,DVeiculos[[#This Row],[Veículo]]) -> 82411 | L9: 4666.6667 | M9: Terceiro
E10: 7 | F10: placa007 | G10: Kombi | H10: 2020 | I10: Branco | J10: 40000 | K10: =DVeiculos[[#This Row],[Rodagem Aquisição (Km)]]+SUMIFS(Rotas!N:N,Rotas!I:I,DVeiculos[[#This Row],[Veículo]]) -> 52890 | L10: 12000 | M10: Terceiro
E11: 8 | F11: placa008 | G11: Golf | H11: 2021 | I11: Prata | J11: 50500 | K11: =DVeiculos[[#This Row],[Rodagem Aquisição (Km)]]+SUMIFS(Rotas!N:N,Rotas!I:I,DVeiculos[[#This Row],[Veículo]]) -> 63830 | L11: 4000 | M11: Próprio
E12: 9 | F12: placa009 | G12: Furgão | H12: 2021 | I12: Prata | J12: 50500 | K12: =DVeiculos[[#This Row],[Rodagem Aquisição (Km)]]+SUMIFS(Rotas!N:N,Rotas!I:I,DVeiculos[[#This Row],[Veículo]]) -> 63459 | L12: 10000 | M12: Terceiro
E13: 10 | F13: placa010 | G13: Caminhão Baú | H13: 2021 | I13: Branco | J13: 57500 | K13: =DVeiculos[[#This Row],[Rodagem Aquisição (Km)]]+SUMIFS(Rotas!N:N,Rotas!I:I,DVeiculos[[#This Row],[Veículo]]) -> 70775 | L13: 6666.6667 | M13: Terceiro
E14: 11 | F14: placa011 | G14: Caminhão tanque | H14: 2021 | I14: Prata | J14: 62750 | K14: =DVeiculos[[#This Row],[Rodagem Aquisição (Km)]]+SUMIFS(Rotas!N:N,Rotas!I:I,DVeiculos[[#This Row],[Veículo]]) -> 78363 | L14: 5666.6667 | M14: Próprio
E15: 12 | F15: placa012 | G15: Saveiro 2 | H15: 2021 | I15: Preto | J15: 68000 | K15: =DVeiculos[[#This Row],[Rodagem Aquisição (Km)]]+SUMIFS(Rotas!N:N,Rotas!I:I,DVeiculos[[#This Row],[Veículo]]) -> 81791 | L15: 4666.6667 | M15: Terceiro
... E27: 24 | F27: placa024 | G27: Civic | H27: 2021 | I27: Preto | J27: 68000 | K27: =DVeiculos[[#This Row],[Rodagem Aquisição (Km)]]+SUMIFS(Rotas!N:N,Rotas!I:I,DVeiculos[[#This Row],[Veículo]]) -> 80876 | L27: 4666.6667 | M27: Terceiro

Sheet Rotas
D1: Rotas
E3: Data | F3: Empresa | G3: Filial | H3: Placa | I3: Veículo | J3: Motorista | K3: Origem | L3: Destino | M3: Cliente | N3: Distância (Km) | O3: Peso Carga (Kg) | P3: Receitas | Q3: Combustível | R3: Pedágio | S3: Outros | T3: No Prazo? | U3: Motivo | V3: Tipo Veículo
E4: 45292 | F4: Empresa 1 | G4: Filial 1 | H4: placa001 | I4: =IF(FRotas[[#This Row],[Placa]]="","",VLOOKUP(FRotas[[#This Row],[Placa]],Veículos!$F:$G,2,0)) -> Caminhão 1 | J4: Carlos | K4: São Paulo | L4: São Paulo | M4: Cliente 01 | N4: 898 | O4: 19610 | P4: 2680 | Q4: 528 | R4: 6 | S4: 50 | T4: Sim | V4: =IF(FRotas[[#This Row],[Placa]]="","",VLOOKUP(FRotas[[#This Row],[Placa]],Veículos!$F:$M,8,0)) -> Terceiro
E5: 45292 | F5: Empresa 2 | G5: Filial 1 | H5: placa002 | I5: =IF(FRotas[[#This Row],[Placa]]="","",VLOOKUP(FRotas[[#This Row],[Placa]],Veículos!$F:$G,2,0)) -> Van | J5: Miguel | K5: São Paulo | L5: São Paulo | M5: Cliente 02 | N5: 1268 | O5: 28084 | P5: 1203 | Q5: 814 | R5: 6 | S5: 60 | T5: Sim | V5: =IF(FRotas[[#This Row],[Placa]]="","",VLOOKUP(FRotas[[#This Row],[Placa]],Veículos!$F:$M,8,0)) -> Próprio
E6: 45292 | F6: Empresa 1 | G6: Filial 2 | H6: placa003 | I6: =IF(FRotas[[#This Row],[Placa]]="","",VLOOKUP(FRotas[[#This Row],[Placa]],Veículos!$F:$G,2,0)) -> Caminhão 2 | J6: João | K6: São Paulo | L6: São Paulo | M6: Cliente 03 | N6: 737 | O6: 28809 | P6: 762 | Q6: 381 | R6: 6 | S6: 60 | T6: Sim | V6: =IF(FRotas[[#This Row],[Placa]]="","",VLOOKUP(FRotas[[#This Row],[Placa]],Veículos!$F:$M,8,0)) -> Terceiro
E7: 45292 | F7: Empresa 1 | G7: Filial 1 | H7: placa004 | I7: =IF(FRotas[[#This Row],[Placa]]="","",VLOOKUP(FRotas[[#This Row],[Placa]],Veículos!$F:$G,2,0)) -> SAVEIRO | J7: Ricardo | K7: São Paulo | L7: São Paulo | M7: Cliente 04 | N7: 1331 | O7: 30097 | P7: 2128 | Q7: 285 | R7: 6 | S7: 70 | T7: Não | U7: Cliente ausente | V7: =IF(FRotas[[#This Row],[Placa]]="","",VLOOKUP(FRotas[[#This Row],[Placa]],Veículos!$F:$M,8,0)) -> Terceiro
E8: 45292 | F8: Empresa 1 | G8: Filial 1 | H8: placa005 | I8: =IF(FRotas[[#This Row],[Placa]]="","",VLOOKUP(FRotas[[#This Row],[Placa]],Veículos!$F:$G,2,0)) -> STRADA | J8: Carlos | K8: São Paulo | L8: São Paulo | M8: Cliente 01 | N8: 1452 | O8: 19389 | P8: 1114 | Q8: 323 | R8: 6 | S8: 60 | T8: Não | U8: Cliente recusou | V8: =IF(FRotas[[#This Row],[Placa]]="","",VLOOKUP(FRotas[[#This Row],[Placa]],Veículos!$F:$M,8,0)) -> Próprio
E9: 45292 | F9: Empresa 2 | G9: Filial 1 | H9: placa006 | I9: =IF(FRotas[[#This Row],[Placa]]="","",VLOOKUP(FRotas[[#This Row],[Placa]],Veículos!$F:$G,2,0)) -> CAMINHÃO | J9: Carlos | K9: São Paulo | L9: São Paulo | M9: Cliente 02 | N9: 1162 | O9: 32263 | P9: 53 | Q9: 860 | R9: 6 | S9: 50 | T9: Sim | V9: =IF(FRotas[[#This Row],[Placa]]="","",VLOOKUP(FRotas[[#This Row],[Placa]],Veículos!$F:$M,8,0)) -> Terceiro
E10: 45292 | F10: Empresa 1 | G10: Filial 2 | H10: placa007 | I10: =IF(FRotas[[#This Row],[Placa]]="","",VLOOKUP(FRotas[[#This Row],[Placa]],Veículos!$F:$G,2,0)) -> Kombi | J10: Ricardo | K10: São Paulo | L10: São Paulo | M10: Cliente 03 | N10: 1460 | O10: 12073 | P10: 2552 | Q10: 351 | R10: 6 | S10: 100 | T10: Sim | V10: =IF(FRotas[[#This Row],[Placa]]="","",VLOOKUP(FRotas[[#This Row],[Placa]],Veículos!$F:$M,8,0)) -> Terceiro
E11: 45292 | F11: Empresa 1 | G11: Filial 1 | H11: placa008 | I11: =IF(FRotas[[#This Row],[Placa]]="","",VLOOKUP(FRotas[[#This Row],[Placa]],Veículos!$F:$G,2,0)) -> Golf | J11: Carlos | K11: São Paulo | L11: São Paulo | M11: Cliente 04 | N11: 1487 | O11: 4279 | P11: 162 | Q11: 576 | R11: 6 | S11: 50 | T11: Não | U11: Cliente recusou | V11: =IF(FRotas[[#This Row],[Placa]]="","",VLOOKUP(FRotas[[#This Row],[Placa]],Veículos!$F:$M,8,0)) -> Próprio
E12: 45292 | F12: Empresa 3 | G12: Filial 1 | H12: placa009 | I12: =IF(FRotas[[#This Row],[Placa]]="","",VLOOKUP(FRotas[[#This Row],[Placa]],Veículos!$F:$G,2,0)) -> Furgão | J12: Miguel | K12: São Paulo | L12: São Paulo | M12: Cliente 02 | N12: 629 | O12: 9861 | P12: 1694 | Q12: 385 | R12: 6 | S12: 50 | T12: Sim | V12: =IF(FRotas[[#This Row],[Placa]]="","",VLOOKUP(FRotas[[#This Row],[Placa]],Veículos!$F:$M,8,0)) -> Terceiro
E13: 45292 | F13: Empresa 1 | G13: Filial 3 | H13: placa010 | I13: =IF(FRotas[[#This Row],[Placa]]="","",VLOOKUP(FRotas[[#This Row],[Placa]],Veículos!$F:$G,2,0)) -> Caminhão Baú | J13: Ricardo | K13: São Paulo | L13: São Paulo | M13: Cliente 01 | N13: 1626 | O13: 4009 | P13: 2274 | Q13: 680 | R13: 6 | S13: 50 | T13: Sim | V13: =IF(FRotas[[#This Row],[Placa]]="","",VLOOKUP(FRotas[[#This Row],[Placa]],Veículos!$F:$M,8,0)) -> Terceiro
E14: 45292 | F14: Empresa 2 | G14: Filial 1 | H14: placa011 | I14: =IF(FRotas[[#This Row],[Placa]]="","",VLOOKUP(FRotas[[#This Row],[Placa]],Veículos!$F:$G,2,0)) -> Caminhão tanque | J14: Carlos | K14: São Paulo | L14: São Paulo | M14: Cliente 02 | N14: 667 | O14: 14758 | P14: 1745 | Q14: 511 | R14: 6 | S14: 60 | T14: Sim | V14: =IF(FRotas[[#This Row],[Placa]]="","",VLOOKUP(FRotas[[#This Row],[Placa]],Veículos!$F:$M,8,0)) -> Próprio
E15: 45292 | F15: Empresa 1 | G15: Filial 1 | H15: placa012 | I15: =IF(FRotas[[#This Row],[Placa]]="","",VLOOKUP(FRotas[[#This Row],[Placa]],Veículos!$F:$G,2,0)) -> Saveiro 2 | J15: Carlos | K15: São Paulo | L15: São Paulo | M15: Cliente 01 | N15: 1183 | O15: 23697 | P15: 1328 | Q15: 857 | R15: 6 | S15: 60 | T15: Sim | V15: =IF(FRotas[[#This Row],[Placa]]="","",VLOOKUP(FRotas[[#This Row],[Placa]],Veículos!$F:$M,8,0)) -> Terceiro
E16: 45292 | F16: Empresa 1 | G16: Filial 2 | H16: placa013 | I16: =IF(FRotas[[#This Row],[Placa]]="","",VLOOKUP(FRotas[[#This Row],[Placa]],Veículos!$F:$G,2,0)) -> Montana | J16: Miguel | K16: São Paulo | L16: São Paulo | M16: Cliente 03 | N16: 652 | O16: 11743 | P16: 1225 | Q16: 300 | R16: 6 | S16: 70 | T16: Não | U16: Cliente recusou | V16: =IF(FRotas[[#This Row],[Placa]]="","",VLOOKUP(FRotas[[#This Row],[Placa]],Veículos!$F:$M,8,0)) -> Terceiro
E17: 45292 | F17: Empresa 1 | G17: Filial 1 | H17: placa014 | I17: =IF(FRotas[[#This Row],[Placa]]="","",VLOOKUP(FRotas[[#This Row],[Placa]],Veículos!$F:$G,2,0)) -> Kangoo Van | J17: João | K17: São Paulo | L17: São Paulo | M17: Cliente 01 | N17: 1014 | O17: 20532 | P17: 683 | Q17: 580 | R17: 6 | S17: 60 | T17: Não | U17: Cliente ausente | V17: =IF(FRotas[[#This Row],[Placa]]="","",VLOOKUP(FRotas[[#This Row],[Placa]],Veículos!$F:$M,8,0)) -> Próprio
E18: 45292 | F18: Empresa 2 | G18: Filial 1 | H18: placa015 | I18: =IF(FRotas[[#This Row],[Placa]]="","",VLOOKUP(FRotas[[#This Row],[Placa]],Veículos!$F:$G,2,0)) -> Hyundai HR | J18: Ricardo | K18: São Paulo | L18: São Paulo | M18: Cliente 01 | N18: 964 | O18: 7058 | P18: 258 | Q18: 623 | R18: 6 | S18: 50 | T18: Sim | V18: =IF(FRotas[[#This Row],[Placa]]="","",VLOOKUP(FRotas[[#This Row],[Placa]],Veículos!$F:$M,8,0)) -> Terceiro
E19: 45292 | F19: Empresa 1 | G19: Filial 1 | H19: placa016 | I19: =IF(FRotas[[#This Row],[Placa]]="","",VLOOKUP(FRotas[[#This Row],[Placa]],Veículos!$F:$G,2,0)) -> Scania P320 | J19: Carlos | K19: São Paulo | L19: São Paulo | M19: Cliente 04 | N19: 785 | O19: 25257 | P19: 1140 | Q19: 515 | R19: 6 | S19: 100 | T19: Sim | V19: =IF(FRotas[[#This Row],[Placa]]="","",VLOOKUP(FRotas[[#This Row],[Placa]],Veículos!$F:$M,8,0)) -> Terceiro
E20: 45292 | F20: Empresa 1 | G20: Filial 2 | H20: placa017 | I20: =IF(FRotas[[#This Row],[Placa]]="","",VLOOKUP(FRotas[[#This Row],[Placa]],Veículos!$F:$G,2,0)) -> Volvo VM 270 | J20: Carlos | K20: São Paulo | L20: São Paulo | M20: Cliente 01 | N20: 661 | O20: 31340 | P20: 2155 | Q20: 934 | R20: 6 | S20: 50 | T20: Não | U20: Cliente ausente | V20: =IF(FRotas[[#This Row],[Placa]]="","",VLOOKUP(FRotas[[#This Row],[Placa]],Veículos!$F:$M,8,0)) -> Próprio
E21: 45292 | F21: Empresa 3 | G21: Filial 1 | H21: placa018 | I21: =IF(FRotas[[#This Row],[Placa]]="","",VLOOKUP(FRotas[[#This Row],[Placa]],Veículos!$F:$G,2,0)) -> Kia Bongo K2500 | J21: Ricardo | K21: São Paulo | L21: São Paulo | M21: Cliente 01 | N21: 1512 | O21: 6264 | P21: 1495 | Q21: 562 | R21: 6 | S21: 50 | T21: Sim | V21: =IF(FRotas[[#This Row],[Placa]]="","",VLOOKUP(FRotas[[#This Row],[Placa]],Veículos!$F:$M,8,0)) -> Terceiro
E22: 45292 | F22: Empresa 1 | G22: Filial 1 | H22: placa019 | I22: =IF(FRotas[[#This Row],[Placa]]="","",VLOOKUP(FRotas[[#This Row],[Placa]],Veículos!$F:$G,2,0)) -> Sprinter | J22: Carlos | K22: São Paulo | L22: São Paulo | M22: Cliente 02 | N22: 838 | O22: 27314 | P22: 1338 | Q22: 254 | R22: 6 | S22: 50 | T22: Sim | V22: =IF(FRotas[[#This Row],[Placa]]="","",VLOOKUP(FRotas[[#This Row],[Placa]],Veículos!$F:$M,8,0)) -> Terceiro
E23: 45292 | F23: Empresa 2 | G23: Filial 3 | H23: placa020 | I23: =IF(FRotas[[#This Row],[Placa]]="","",VLOOKUP(FRotas[[#This Row],[Placa]],Veículos!$F:$G,2,0)) -> Fiorino | J23: Miguel | K23: Rio de Janeiro | L23: Rio de Janeiro | M23: Cliente 03 | N23: 1545 | O23: 12879 | P23: 711 | Q23: 708 | R23: 6 | S23: 60 | T23: Sim | V23: =IF(FRotas[[#This Row],[Placa]]="","",VLOOKUP(FRotas[[#This Row],[Placa]],Veículos!$F:$M,8,0)) -> Próprio
E24: 45323 | F24: Empresa 1 | G24: Filial 1 | H24: placa021 | I24: =IF(FRotas[[#This Row],[Placa]]="","",VLOOKUP(FRotas[[#This Row],[Placa]],Veículos!$F:$G,2,0)) -> Fiat 147 | J24: Ricardo | K24: Rio de Janeiro | L24: Rio de Janeiro | M24: Cliente 04 | N24: 1582 | O24: 5136 | P24: 314 | Q24: 407 | R24: 6 | S24: 60 | T24: Sim | V24: =IF(FRotas[[#This Row],[Placa]]="","",VLOOKUP(FRotas[[#This Row],[Placa]],Veículos!$F:$M,8,0)) -> Terceiro
E25: 45292 | F25: Empresa 1 | G25: Filial 1 | H25: placa022 | I25: =IF(FRotas[[#This Row],[Placa]]="","",VLOOKUP(FRotas[[#This Row],[Placa]],Veículos!$F:$G,2,0)) -> Celta | J25: Carlos | K25: Rio de Janeiro | L25: Rio de Janeiro | M25: Cliente 01 | N25: 1358 | O25: 14637 | P25: 1896 | Q25: 854 | R25: 6 | S25: 70 | T25: Não | U25: Cliente ausente | V25: =IF(FRotas[[#This Row],[Placa]]="","",VLOOKUP(FRotas[[#This Row],[Placa]],Veículos!$F:$M,8,0)) -> Terceiro
E26: 45292 | F26: Empresa 1 | G26: Filial 2 | H26: placa023 | I26: =IF(FRotas[[#This Row],[Placa]]="","",VLOOKUP(FRotas[[#This Row],[Placa]],Veículos!$F:$G,2,0)) -> Agile | J26: Carlos | K26: Rio de Janeiro | L26: Rio de Janeiro | M26: Cliente 02 | N26: 1327 | O26: 13285 | P26: 207 | Q26: 796 | R26: 6 | S26: 60 | T26: Não | U26: Cliente ausente | V26: =IF(FRotas[[#This Row],[Placa]]="","",VLOOKUP(FRotas[[#This Row],[Placa]],Veículos!$F:$M,8,0)) -> Próprio
E27: 45292 | F27: Empresa 2 | G27: Filial 1 | H27: placa024 | I27: =IF(FRotas[[#This Row],[Placa]]="","",VLOOKUP(FRotas[[#This Row],[Placa]],Veículos!$F:$G,2,0)) -> Civic | J27: Miguel | K27: Belo Horizonte | L27: Belo Horizonte | M27: Cliente 03 | N27: 1596 | O27: 26096 | P27: 894 | Q27: 827 | R27: 6 | S27: 50 | T27: Sim | V27: =IF(FRotas[[#This Row],[Placa]]="","",VLOOKUP(FRotas[[#This Row],[Placa]],Veículos!$F:$M,8,0)) -> Terceiro
E28: 45323 | F28: Empresa 1 | G28: Filial 1 | H28: placa001 | I28: =IF(FRotas[[#This Row],[Placa]]="","",VLOOKUP(FRotas[[#This Row],[Placa]],Veículos!$F:$G,2,0)) -> Caminhão 1 | J28: João | K28: São Paulo | L28: São Paulo | M28: Cliente 04 | N28: 1551 | O28: 5922 | P28: 2407 | Q28: 692 | R28: 6 | S28: 100 | T28: Sim | V28: =IF(FRotas[[#This Row],[Placa]]="","",VLOOKUP(FRotas[[#This Row],[Placa]],Veículos!$F:$M,8,0)) -> Terceiro
E29: 45323 | F29: Empresa 1 | G29: Filial 1 | H29: placa002 | I29: =IF(FRotas[[#This Row],[Placa]]="","",VLOOKUP(FRotas[[#This Row],[Placa]],Veículos!$F:$G,2,0)) -> Van | J29: Ricardo | K29: São Paulo | L29: São Paulo | M29: Cliente 02 | N29: 860 | O29: 18770 | P29: 908 | Q29: 839 | R29: 6 | S29: 50 | T29: Não | U29: Cliente ausente | V29: =IF(FRotas[[#This Row],[Placa]]="","",VLOOKUP(FRotas[[#This Row],[Placa]],Veículos!$F:$M,8,0)) -> Próprio
E30: 45323 | F30: Empresa 3 | G30: Filial 2 | H30: placa003 | I30: =IF(FRotas[[#This Row],[Placa]]="","",VLOOKUP(FRotas[[#This Row],[Placa]],Veículos!$F:$G,2,0)) -> Caminhão 2 | J30: Carlos | K30: São Paulo | L30: São Paulo | M30: Cliente 01 | N30: 1384 | O30: 24867 | P30: 2692 | Q30: 991 | R30: 6 | S30: 50 | T30: Sim | V30: =IF(FRotas[[#This Row],[Placa]]="","",VLOOKUP(FRotas[[#This Row],[Placa]],Veículos!$F:$M,8,0)) -> Terceiro
E31: 45323 | F31: Empresa 1 | G31: Filial 1 | H31: placa004 | I31: =IF(FRotas[[#This Row],[Placa]]="","",VLOOKUP(FRotas[[#This Row],[Placa]],Veículos!$F:$G,2,0)) -> SAVEIRO | J31: Carlos | K31: São Paulo | L31: São Paulo | M31: Cliente 02 | N31: 1065 | O31: 21709 | P31: 335 | Q31: 354 | R31: 6 | S31: 50 | T31: Sim | V31: =IF(FRotas[[#This Row],[Placa]]="","",VLOOKUP(FRotas[[#This Row],[Placa]],Veículos!$F:$M,8,0)) -> Terceiro
E32: 45323 | F32: Empresa 2 | G32: Filial 1 | H32: placa005 | I32: =IF(FRotas[[#This Row],[Placa]]="","",VLOOKUP(FRotas[[#This Row],[Placa]],Veículos!$F:$G,2,0)) -> STRADA | J32: Ricardo | K32: São Paulo | L32: São Paulo | M32: Cliente 01 | N32: 1556 | O32: 9761 | P32: 1615 | Q32: 681 | R32: 6 | S32: 60 | T32: Sim | V32: =IF(FRotas[[#This Row],[Placa]]="","",VLOOKUP(FRotas[[#This Row],[Placa]],Veículos!$F:$M,8,0)) -> Próprio
E33: 45323 | F33: Empresa 1 | G33: Filial 3 | H33: placa006 | I33: =IF(FRotas[[#This Row],[Placa]]="","",VLOOKUP(FRotas[[#This Row],[Placa]],Veículos!$F:$G,2,0)) -> CAMINHÃO | J33: Carlos | K33: São Paulo | L33: São Paulo | M33: Cliente 03 | N33: 1571 | O33: 5191 | P33: 501 | Q33: 829 | R33: 6 | S33: 60 | T33: Sim | V33: =IF(FRotas[[#This Row],[Placa]]="","",VLOOKUP(FRotas[[#This Row],[Placa]],Veículos!$F:$M,8,0)) -> Terceiro
E34: 45323 | F34: Empresa 1 | G34: Filial 1 | H34: placa007 | I34: =IF(FRotas[[#This Row],[Placa]]="","",VLOOKUP(FRotas[[#This Row],[Placa]],Veículos!$F:$G,2,0)) -> Kombi | J34: Miguel | K34: São Paulo | L34: São Paulo | M34: Cliente 01 | N34: 1552 | O34: 15703 | P34: 269 | Q34: 382 | R34: 6 | S34: 70 | T34: Não | U34: Cliente recusou | V34: =IF(FRotas[[#This Row],[Placa]]="","",VLOOKUP(FRotas[[#This Row],[Placa]],Veículos!$F:$M,8,0)) -> Terceiro
E35: 45323 | F35: Empresa 1 | G35: Filial 1 | H35: placa008 | I35: =IF(FRotas[[#This Row],[Placa]]="","",VLOOKUP(FRotas[[#This Row],[Placa]],Veículos!$F:$G,2,0)) -> Golf | J35: Ricardo | K35: São Paulo | L35: São Paulo | M35: Cliente 01 | N35: 890 | O35: 5397 | P35: 1375 | Q35: 771 | R35: 6 | S35: 60 | T35: Não | U35: Cliente recusou | V35: =IF(FRotas[[#This Row],[Placa]]="","",VLOOKUP(FRotas[[#This Row],[Placa]],Veículos!$F:$M,8,0)) -> Próprio
E36: 45323 | F36: Empresa 2 | G36: Filial 2 | H36: placa009 | I36: =IF(FRotas[[#This Row],[Placa]]="","",VLOOKUP(FRotas[[#This Row],[Placa]],Veículos!$F:$G,2,0)) -> Furgão | J36: Carlos | K36: São Paulo | L36: São Paulo | M36: Cliente 04 | N36: 833 | O36: 33341 | P36: 2792 | Q36: 226 | R36: 6 | S36: 50 | T36: Sim | V36: =IF(FRotas[[#This Row],[Placa]]="","",VLOOKUP(FRotas[[#This Row],[Placa]],Veículos!$F:$M,8,0)) -> Terceiro
E37: 45323 | F37: Empresa 1 | G37: Filial 1 | H37: placa010 | I37: =IF(FRotas[[#This Row],[Placa]]="","",VLOOKUP(FRotas[[#This Row],[Placa]],Veículos!$F:$G,2,0)) -> Caminhão Baú | J37: Carlos | K37: São Paulo | L37: São Paulo | M37: Cliente 01 | N37: 1281 | O37: 4653 | P37: 1665 | Q37: 468 | R37: 6 | S37: 100 | T37: Sim | V37: =IF(FRotas[[#This Row],[Placa]]="","",VLOOKUP(FRotas[[#This Row],[Placa]],Veículos!$F:$M,8,0)) -> Terceiro
E38: 45323 | F38: Empresa 1 | G38: Filial 1 | H38: placa011 | I38: =IF(FRotas[[#This Row],[Placa]]="","",VLOOKUP(FRotas[[#This Row],[Placa]],Veículos!$F:$G,2,0)) -> Caminhão tanque | J38: Miguel | K38: São Paulo | L38: São Paulo | M38: Cliente 01 | N38: 1686 | O38: 13441 | P38: 2568 | Q38: 817 | R38: 6 | S38: 50 | T38: Não | U38: Cliente recusou | V38: =IF(FRotas[[#This Row],[Placa]]="","",VLOOKUP(FRotas[[#This Row],[Placa]],Veículos!$F:$M,8,0)) -> Próprio
E39: 45323 | F39: Empresa 3 | G39: Filial 1 | H39: placa012 | I39: =IF(FRotas[[#This Row],[Placa]]="","",VLOOKUP(FRotas[[#This Row],[Placa]],Veículos!$F:$G,2,0)) -> Saveiro 2 | J39: João | K39: São Paulo | L39: São Paulo | M39: Cliente 02 | N39: 1147 | O39: 11095 | P39: 2027 | Q39: 340 | R39: 6 | S39: 50 | T39: Sim | V39: =IF(FRotas[[#This Row],[Placa]]="","",VLOOKUP(FRotas[[#This Row],[Placa]],Veículos!$F:$M,8,0)) -> Terceiro
E40: 45323 | F40: Empresa 1 | G40: Filial 2 | H40: placa013 | I40: =IF(FRotas[[#This Row],[Placa]]="","",VLOOKUP(FRotas[[#This Row],[Placa]],Veículos!$F:$G,2,0)) -> Montana | J40: Ricardo | K40: São Paulo | L40: São Paulo | M40: Cliente 03 | N40: 693 | O40: 11941 | P40: 484 | Q40: 695 | R40: 6 | S40: 50 | T40: Sim | V40: =IF(FRotas[[#This Row],[Placa]]="","",VLOOKUP(FRotas[[#This Row],[Placa]],Veículos!$F:$M,8,0)) -> Terceiro
E41: 45323 | F41: Empresa 2 | G41: Filial 1 | H41: placa014 | I41: =IF(FRotas[[#This Row],[Placa]]="","",VLOOKUP(FRotas[[#This Row],[Placa]],Veículos!$F:$G,2,0)) -> Kangoo Van | J41: Carlos | K41: São Paulo | L41: São Paulo | M41: Cliente 04 | N41: 1534 | O41: 17353 | P41: 2220 | Q41: 510 | R41: 6 | S41: 60 | T41: Sim | V41: =IF(FRotas[[#This Row],[Placa]]="","",VLOOKUP(FRotas[[#This Row],[Placa]],Veículos!$F:$M,8,0)) -> Próprio
E42: 45323 | F42: Empresa 1 | G42: Filial 1 | H42: placa015 | I42: =IF(FRotas[[#This Row],[Placa]]="","",VLOOKUP(FRotas[[#This Row],[Placa]],Veículos!$F:$G,2,0)) -> Hyundai HR | J42: Carlos | K42: São Paulo | L42: São Paulo | M42: Cliente 01 | N42: 999 | O42: 19250 | P42: 973 | Q42: 223 | R42: 6 | S42: 60 | T42: Sim | V42: =IF(FRotas[[#This Row],[Placa]]="","",VLOOKUP(FRotas[[#This Row],[Placa]],Veículos!$F:$M,8,0)) -> Terceiro
E43: 45323 | F43: Empresa 1 | G43: Filial 3 | H43: placa016 | I43: =IF(FRotas[[#This Row],[Placa]]="","",VLOOKUP(FRotas[[#This Row],[Placa]],Veículos!$F:$G,2,0)) -> Scania P320 | J43: Ricardo | K43: São Paulo | L43: São Paulo | M43: Cliente 02 | N43: 1168 | O43: 21001 | P43: 2458 | Q43: 892 | R43: 6 | S43: 70 | T43: Não | U43: Cliente recusou | V43: =IF(FRotas[[#This Row],[Placa]]="","",VLOOKUP(FRotas[[#This Row],[Placa]],Veículos!$F:$M,8,0)) -> Terceiro
E44: 45323 | F44: Empresa 1 | G44: Filial 1 | H44: placa017 | I44: =IF(FRotas[[#This Row],[Placa]]="","",VLOOKUP(FRotas[[#This Row],[Placa]],Veículos!$F:$G,2,0)) -> Volvo VM 270 | J44: Carlos | K44: São Paulo | L44: São Paulo | M44: Cliente 03 | N44: 887 | O44: 26792 | P44: 111 | Q44: 946 | R44: 6 | S44: 60 | T44: Não | U44: Cliente recusou | V44: =IF(FRotas[[#This Row],[Placa]]="","",VLOOKUP(FRotas[[#This Row],[Placa]],Veículos!$F:$M,8,0)) -> Próprio
E45: 45323 | F45: Empresa 2 | G45: Filial 1 | H45: placa018 | I45: =IF(FRotas[[#This Row],[Placa]]="","",VLOOKUP(FRotas[[#This Row],[Placa]],Veículos!$F:$G,2,0)) -> Kia Bongo K2500 | J45: Miguel | K45: São Paulo | L45: São Paulo | M45: Cliente 04 | N45: 1209 | O45: 4157 | P45: 1180 | Q45: 561 | R45: 6 | S45: 50 | T45: Sim | V45: =IF(FRotas[[#This Row],[Placa]]="","",VLOOKUP(FRotas[[#This Row],[Placa]],Veículos!$F:$M,8,0)) -> Terceiro
E46: 45323 | F46: Empresa 1 | G46: Filial 2 | H46: placa019 | I46: =IF(FRotas[[#This Row],[Placa]]="","",VLOOKUP(FRotas[[#This Row],[Placa]],Veículos!$F:$G,2,0)) -> Sprinter | J46: Ricardo | K46: São Paulo | L46: São Paulo | M46: Cliente 02 | N46: 603 | O46: 14048 | P46: 1340 | Q46: 853 | R46: 6 | S46: 100 | T46: Sim | V46: =IF(FRotas[[#This Row],[Placa]]="","",VLOOKUP(FRotas[[#This Row],[Placa]],Veículos!$F:$M,8,0)) -> Terceiro
E47: 45323 | F47: Empresa 1 | G47: Filial 1 | H47: placa020 | I47: =IF(FRotas[[#This Row],[Placa]]="","",VLOOKUP(FRotas[[#This Row],[Placa]],Veículos!$F:$G,2,0)) -> Fiorino | J47: Carlos | K47: Rio de Janeiro | L47: Rio de Janeiro | M47: Cliente 01 | N47: 1115 | O47: 7978 | P47: 568 | Q47: 317 | R47: 6 | S47: 50 | T47: Não | U47: Cliente recusou | V47: =IF(FRotas[[#This Row],[Placa]]="","",VLOOKUP(FRotas[[#This Row],[Placa]],Veículos!$F:$M,8,0)) -> Próprio
E48: 45323 | F48: Empresa 3 | G48: Filial 1 | H48: placa021 | I48: =IF(FRotas[[#This Row],[Placa]]="","",VLOOKUP(FRotas[[#This Row],[Placa]],Veículos!$F:$G,2,0)) -> Fiat 147 | J48: Carlos | K48: Rio de Janeiro | L48: Rio de Janeiro | M48: Cliente 02 | N48: 1365 | O48: 21748 | P48: 72 | Q48: 853 | R48: 6 | S48: 50 | T48: Sim | V48: =IF(FRotas[[#This Row],[Placa]]="","",VLOOKUP(FRotas[[#This Row],[Placa]],Veículos!$F:$M,8,0)) -> Terceiro
E49: 45323 | F49: Empresa 1 | G49: Filial 1 | H49: placa022 | I49: =IF(FRotas[[#This Row],[Placa]]="","",VLOOKUP(FRotas[[#This Row],[Placa]],Veículos!$F:$G,2,0)) -> Celta | J49: Miguel | K49: Rio de Janeiro | L49: Rio de Janeiro | M49: Cliente 01 | N49: 1216 | O49: 21739 | P49: 689 | Q49: 450 | R49: 6 | S49: 50 | T49: Sim | V49: =IF(FRotas[[#This Row],[Placa]]="","",VLOOKUP(FRotas[[#This Row],[Placa]],Veículos!$F:$M,8,0)) -> Terceiro
E50: 45323 | F50: Empresa 2 | G50: Filial 2 | H50: placa023 | I50: =IF(FRotas[[#This Row],[Placa]]="","",VLOOKUP(FRotas[[#This Row],[Placa]],Veículos!$F:$G,2,0)) -> Agile | J50: João | K50: Rio de Janeiro | L50: Rio de Janeiro | M50: Cliente 03 | N50: 1378 | O50: 17902 | P50: 2486 | Q50: 721 | R50: 6 | S50: 60 | T50: Sim | V50: =IF(FRotas[[#This Row],[Placa]]="","",VLOOKUP(FRotas[[#This Row],[Placa]],Veículos!$F:$M,8,0)) -> Próprio
E51: 45323 | F51: Empresa 1 | G51: Filial 1 | H51: placa024 | I51: =IF(FRotas[[#This Row],[Placa]]="","",VLOOKUP(FRotas[[#This Row],[Placa]],Veículos!$F:$G,2,0)) -> Civic | J51: Ricardo | K51: Belo Horizonte | L51: Belo Horizonte | M51: Cliente 01 | N51: 1047 | O51: 6875 | P51: 1678 | Q51: 455 | R51: 6 | S51: 60 | T51: Sim | V51: =IF(FRotas[[#This Row],[Placa]]="","",VLOOKUP(FRotas[[#This Row],[Placa]],Veículos!$F:$M,8,0)) -> Terceiro
E52: 45352 | F52: Empresa 1 | G52: Filial 1 | H52: placa001 | I52: =IF(FRotas[[#This Row],[Placa]]="","",VLOOKUP(FRotas[[#This Row],[Placa]],Veículos!$F:$G,2,0)) -> Caminhão 1 | J52: Carlos | K52: São Paulo | L52: São Paulo | M52: Cliente 01 | N52: 668 | O52: 30796 | P52: 573 | Q52: 724 | R52: 6 | S52: 70 | T52: Não | U52: Cliente recusou | V52: =IF(FRotas[[#This Row],[Placa]]="","",VLOOKUP(FRotas[[#This Row],[Placa]],Veículos!$F:$M,8,0)) -> Terceiro
E53: 45352 | F53: Empresa 1 | G53: Filial 3 | H53: placa002 | I53: =IF(FRotas[[#This Row],[Placa]]="","",VLOOKUP(FRotas[[#This Row],[Placa]],Veículos!$F:$G,2,0)) -> Van | J53: Carlos | K53: São Paulo | L53: São Paulo | M53: Cliente 04 | N53: 1410 | O53: 24596 | P53: 2150 | Q53: 245 | R53: 6 | S53: 60 | T53: Não | U53: Cliente recusou | V53: =IF(FRotas[[#This Row],[Placa]]="","",VLOOKUP(FRotas[[#This Row],[Placa]],Veículos!$F:$M,8,0)) -> Próprio
E54: 45352 | F54: Empresa 2 | G54: Filial 1 | H54: placa003 | I54: =IF(FRotas[[#This Row],[Placa]]="","",VLOOKUP(FRotas[[#This Row],[Placa]],Veículos!$F:$G,2,0)) -> Caminhão 2 | J54: Ricardo | K54: São Paulo | L54: São Paulo | M54: Cliente 01 | N54: 650 | O54: 5185 | P54: 1774 | Q54: 582 | R54: 6 | S54: 50 | T54: Sim | V54: =IF(FRotas[[#This Row],[Placa]]="","",VLOOKUP(FRotas[[#This Row],[Placa]],Veículos!$F:$M,8,0)) -> Terceiro
E55: 45352 | F55: Empresa 1 | G55: Filial 1 | H55: placa004 | I55: =IF(FRotas[[#This Row],[Placa]]="","",VLOOKUP(FRotas[[#This Row],[Placa]],Veículos!$F:$G,2,0)) -> SAVEIRO | J55: Carlos | K55: São Paulo | L55: São Paulo | M55: Cliente 01 | N55: 1245 | O55: 9602 | P55: 1524 | Q55: 895 | R55: 6 | S55: 100 | T55: Sim | V55: =IF(FRotas[[#This Row],[Placa]]="","",VLOOKUP(FRotas[[#This Row],[Placa]],Veículos!$F:$M,8,0)) -> Terceiro
E56: 45352 | F56: Empresa 1 | G56: Filial 2 | H56: placa005 | I56: =IF(FRotas[[#This Row],[Placa]]="","",VLOOKUP(FRotas[[#This Row],[Placa]],Veículos!$F:$G,2,0)) -> STRADA | J56: Miguel | K56: São Paulo | L56: São Paulo | M56: Cliente 02 | N56: 1390 | O56: 8345 | P56: 1960 | Q56: 431 | R56: 6 | S56: 50 | T56: Não | U56: Cliente ausente | V56: =IF(FRotas[[#This Row],[Placa]]="","",VLOOKUP(FRotas[[#This Row],[Placa]],Veículos!$F:$M,8,0)) -> Próprio
E57: 45352 | F57: Empresa 3 | G57: Filial 1 | H57: placa006 | I57: =IF(FRotas[[#This Row],[Placa]]="","",VLOOKUP(FRotas[[#This Row],[Placa]],Veículos!$F:$G,2,0)) -> CAMINHÃO | J57: Ricardo | K57: São Paulo | L57: São Paulo | M57: Cliente 03 | N57: 1162 | O57: 32225 | P57: 635 | Q57: 1000 | R57: 6 | S57: 50 | T57: Sim | V57: =IF(FRotas[[#This Row],[Placa]]="","",VLOOKUP(FRotas[[#This Row],[Placa]],Veículos!$F:$M,8,0)) -> Terceiro
E58: 45352 | F58: Empresa 1 | G58: Filial 1 | H58: placa007 | I58: =IF(FRotas[[#This Row],[Placa]]="","",VLOOKUP(FRotas[[#This Row],[Placa]],Veículos!$F:$G,2,0)) -> Kombi | J58: Carlos | K58: São Paulo | L58: São Paulo | M58: Cliente 04 | N58: 1079 | O58: 10272 | P58: 1107 | Q58: 304 | R58: 6 | S58: 50 | T58: Sim | V58: =IF(FRotas[[#This Row],[Placa]]="","",VLOOKUP(FRotas[[#This Row],[Placa]],Veículos!$F:$M,8,0)) -> Terceiro
E59: 45352 | F59: Empresa 2 | G59: Filial 1 | H59: placa008 | I59: =IF(FRotas[[#This Row],[Placa]]="","",VLOOKUP(FRotas[[#This Row],[Placa]],Veículos!$F:$G,2,0)) -> Golf | J59: Carlos | K59: São Paulo | L59: São Paulo | M59: Cliente 01 | N59: 1171 | O59: 6369 | P59: 1140 | Q59: 792 | R59: 6 | S59: 60 | T59: Sim | V59: =IF(FRotas[[#This Row],[Placa]]="","",VLOOKUP(FRotas[[#This Row],[Placa]],Veículos!$F:$M,8,0)) -> Próprio
E60: 45352 | F60: Empresa 1 | G60: Filial 2 | H60: placa009 | I60: =IF(FRotas[[#This Row],[Placa]]="","",VLOOKUP(FRotas[[#This Row],[Placa]],Veículos!$F:$G,2,0)) -> Furgão | J60: Miguel | K60: São Paulo | L60: São Paulo | M60: Cliente 02 | N60: 841 | O60: 29187 | P60: 580 | Q60: 288 | R60: 6 | S60: 60 | T60: Sim | V60: =IF(FRotas[[#This Row],[Placa]]="","",VLOOKUP(FRotas[[#This Row],[Placa]],Veículos!$F:$M,8,0)) -> Terceiro
E61: 45352 | F61: Empresa 1 | G61: Filial 1 | H61: placa010 | I61: =IF(FRotas[[#This Row],[Placa]]="","",VLOOKUP(FRotas[[#This Row],[Placa]],Veículos!$F:$G,2,0)) -> Caminhão Baú | J61: João | K61: São Paulo | L61: São Paulo | M61: Cliente 03 | N61: 1117 | O61: 26724 | P61: 771 | Q61: 824 | R61: 6 | S61: 70 | T61: Não | U61: Cliente ausente | V61: =IF(FRotas[[#This Row],[Placa]]="","",VLOOKUP(FRotas[[#This Row],[Placa]],Veículos!$F:$M,8,0)) -> Terceiro
E62: 45352 | F62: Empresa 1 | G62: Filial 1 | H62: placa011 | I62: =IF(FRotas[[#This Row],[Placa]]="","",VLOOKUP(FRotas[[#This Row],[Placa]],Veículos!$F:$G,2,0)) -> Caminhão tanque | J62: Ricardo | K62: São Paulo | L62: São Paulo | M62: Cliente 04 | N62: 1200 | O62: 11255 | P62: 2374 | Q62: 653 | R62: 6 | S62: 60 | T62: Não | U62: Cliente ausente | V62: =IF(FRotas[[#This Row],[Placa]]="","",VLOOKUP(FRotas[[#This Row],[Placa]],Veículos!$F:$M,8,0)) -> Próprio
E63: 45352 | F63: Empresa 2 | G63: Filial 3 | H63: placa012 | I63: =IF(FRotas[[#This Row],[Placa]]="","",VLOOKUP(FRotas[[#This Row],[Placa]],Veículos!$F:$G,2,0)) -> Saveiro 2 | J63: Carlos | K63: São Paulo | L63: São Paulo | M63: Cliente 02 | N63: 1396 | O63: 15187 | P63: 1977 | Q63: 556 | R63: 6 | S63: 50 | T63: Sim | V63: =IF(FRotas[[#This Row],[Placa]]="","",VLOOKUP(FRotas[[#This Row],[Placa]],Veículos!$F:$M,8,0)) -> Terceiro
E64: 45352 | F64: Empresa 1 | G64: Filial 1 | H64: placa013 | I64: =IF(FRotas[[#This Row],[Placa]]="","",VLOOKUP(FRotas[[#This Row],[Placa]],Veículos!$F:$G,2,0)) -> Montana | J64: Carlos | K64: São Paulo | L64: São Paulo | M64: Cliente 01 | N64: 656 | O64: 19543 | P64: 2087 | Q64: 247 | R64: 6 | S64: 100 | T64: Sim | V64: =IF(FRotas[[#This Row],[Placa]]="","",VLOOKUP(FRotas[[#This Row],[Placa]],Veículos!$F:$M,8,0)) -> Terceiro
E65: 45352 | F65: Empresa 1 | G65: Filial 1 | H65: placa014 | I65: =IF(FRotas[[#This Row],[Placa]]="","",VLOOKUP(FRotas[[#This Row],[Placa]],Veículos!$F:$G,2,0)) -> Kangoo Van | J65: Ricardo | K65: São Paulo | L65: São Paulo | M65: Cliente 02 | N65: 1017 | O65: 5186 | P65: 347 | Q65: 914 | R65: 6 | S65: 50 | T65: Não | U65: Cliente ausente | V65: =IF(FRotas[[#This Row],[Placa]]="","",VLOOKUP(FRotas[[#This Row],[Placa]],Veículos!$F:$M,8,0)) -> Próprio
E66: 45352 | F66: Empresa 3 | G66: Filial 2 | H66: placa015 | I66: =IF(FRotas[[#This Row],[Placa]]="","",VLOOKUP(FRotas[[#This Row],[Placa]],Veículos!$F:$G,2,0)) -> Hyundai HR | J66: Carlos | K66: São Paulo | L66: São Paulo | M66: Cliente 01 | N66: 713 | O66: 16482 | P66: 2509 | Q66: 264 | R66: 6 | S66: 50 | T66: Sim | V66: =IF(FRotas[[#This Row],[Placa]]="","",VLOOKUP(FRotas[[#This Row],[Placa]],Veículos!$F:$M,8,0)) -> Terceiro
E67: 45352 | F67: Empresa 1 | G67: Filial 1 | H67: placa016 | I67: =IF(FRotas[[#This Row],[Placa]]="","",VLOOKUP(FRotas[[#This Row],[Placa]],Veículos!$F:$G,2,0)) -> Scania P320 | J67: Miguel | K67: São Paulo | L67: São Paulo | M67: Cliente 03 | N67: 972 | O67: 18258 | P67: 46 | Q67: 539 | R67: 6 | S67: 50 | T67: Sim | V67: =IF(FRotas[[#This Row],[Placa]]="","",VLOOKUP(FRotas[[#This Row],[Placa]],Veículos!$F:$M,8,0)) -> Terceiro
E68: 45352 | F68: Empresa 2 | G68: Filial 1 | H68: placa017 | I68: =IF(FRotas[[#This Row],[Placa]]="","",VLOOKUP(FRotas[[#This Row],[Placa]],Veículos!$F:$G,2,0)) -> Volvo VM 270 | J68: Ricardo | K68: São Paulo | L68: São Paulo | M68: Cliente 01 | N68: 630 | O68: 26308 | P68: 2225 | Q68: 296 | R68: 6 | S68: 60 | T68: Sim | V68: =IF(FRotas[[#This Row],[Placa]]="","",VLOOKUP(FRotas[[#This Row],[Placa]],Veículos!$F:$M,8,0)) -> Próprio
E69: 45352 | F69: Empresa 1 | G69: Filial 1 | H69: placa018 | I69: =IF(FRotas[[#This Row],[Placa]]="","",VLOOKUP(FRotas[[#This Row],[Placa]],Veículos!$F:$G,2,0)) -> Kia Bongo K2500 | J69: Carlos | K69: São Paulo | L69: São Paulo | M69: Cliente 01 | N69: 1597 | O69: 33790 | P69: 2060 | Q69: 297 | R69: 6 | S69: 60 | T69: Sim | V69: =IF(FRotas[[#This Row],[Placa]]="","",VLOOKUP(FRotas[[#This Row],[Placa]],Veículos!$F:$M,8,0)) -> Terceiro
E70: 45352 | F70: Empresa 1 | G70: Filial 2 | H70: placa019 | I70: =IF(FRotas[[#This Row],[Placa]]="","",VLOOKUP(FRotas[[#This Row],[Placa]],Veículos!$F:$G,2,0)) -> Sprinter | J70: Carlos | K70: São Paulo | L70: São Paulo | M70: Cliente 04 | N70: 1260 | O70: 9047 | P70: 437 | Q70: 751 | R70: 6 | S70: 70 | T70: Não | U70: Cliente ausente | V70: =IF(FRotas[[#This Row],[Placa]]="","",VLOOKUP(FRotas[[#This Row],[Placa]],Veículos!$F:$M,8,0)) -> Terceiro
E71: 45352 | F71: Empresa 1 | G71: Filial 1 | H71: placa020 | I71: =IF(FRotas[[#This Row],[Placa]]="","",VLOOKUP(FRotas[[#This Row],[Placa]],Veículos!$F:$G,2,0)) -> Fiorino | J71: Miguel | K71: Rio de Janeiro | L71: Rio de Janeiro | M71: Cliente 01 | N71: 680 | O71: 28139 | P71: 1301 | Q71: 692 | R71: 6 | S71: 60 | T71: Não | U71: Cliente ausente | V71: =IF(FRotas[[#This Row],[Placa]]="","",VLOOKUP(FRotas[[#This Row],[Placa]],Veículos!$F:$M,8,0)) -> Próprio
E72: 45352 | F72: Empresa 2 | G72: Filial 1 | H72: placa021 | I72: =IF(FRotas[[#This Row],[Placa]]="","",VLOOKUP(FRotas[[#This Row],[Placa]],Veículos!$F:$G,2,0)) -> Fiat 147 | J72: João | K72: Rio de Janeiro | L72: Rio de Janeiro | M72: Cliente 01 | N72: 629 | O72: 9741 | P72: 543 | Q72: 259 | R72: 6 | S72: 50 | T72: Sim | V72: =IF(FRotas[[#This Row],[Placa]]="","",VLOOKUP(FRotas[[#This Row],[Placa]],Veículos!$F:$M,8,0)) -> Terceiro
E73: 45352 | F73: Empresa 1 | G73: Filial 3 | H73: placa022 | I73: =IF(FRotas[[#This Row],[Placa]]="","",VLOOKUP(FRotas[[#This Row],[Placa]],Veículos!$F:$G,2,0)) -> Celta | J73: Ricardo | K73: Rio de Janeiro | L73: Rio de Janeiro | M73: Cliente 02 | N73: 731 | O73: 14541 | P73: 226 | Q73: 688 | R73: 6 | S73: 100 | T73: Sim | V73: =IF(FRotas[[#This Row],[Placa]]="","",VLOOKUP(FRotas[[#This Row],[Placa]],Veículos!$F:$M,8,0)) -> Terceiro
E74: 45352 | F74: Empresa 1 | G74: Filial 1 | H74: placa023 | I74: =IF(FRotas[[#This Row],[Placa]]="","",VLOOKUP(FRotas[[#This Row],[Placa]],Veículos!$F:$G,2,0)) -> Agile | J74: Carlos | K74: Rio de Janeiro | L74: Rio de Janeiro | M74: Cliente 03 | N74: 675 | O74: 11218 | P74: 438 | Q74: 823 | R74: 6 | S74: 50 | T74: Não | U74: Cliente ausente | V74: =IF(FRotas[[#This Row],[Placa]]="","",VLOOKUP(FRotas[[#This Row],[Placa]],Veículos!$F:$M,8,0)) -> Próprio
E75: 45352 | F75: Empresa 3 | G75: Filial 1 | H75: placa024 | I75: =IF(FRotas[[#This Row],[Placa]]="","",VLOOKUP(FRotas[[#This Row],[Placa]],Veículos!$F:$G,2,0)) -> Civic | J75: Carlos | K75: Belo Horizonte | L75: Belo Horizonte | M75: Cliente 04 | N75: 1203 | O75: 22864 | P75: 2014 | Q75: 676 | R75: 6 | S75: 50 | T75: Sim | V75: =IF(FRotas[[#This Row],[Placa]]="","",VLOOKUP(FRotas[[#This Row],[Placa]],Veículos!$F:$M,8,0)) -> Terceiro
E76: 45352 | F76: Empresa 1 | G76: Filial 2 | H76: placa001 | I76: =IF(FRotas[[#This Row],[Placa]]="","",VLOOKUP(FRotas[[#This Row],[Placa]],Veículos!$F:$G,2,0)) -> Caminhão 1 | J76: Ricardo | K76: São Paulo | L76: São Paulo | M76: Cliente 01 | N76: 1458 | O76: 34215 | P76: 1719 | Q76: 673 | R76: 6 | S76: 50 | T76: Sim | V76: =IF(FRotas[[#This Row],[Placa]]="","",VLOOKUP(FRotas[[#This Row],[Placa]],Veículos!$F:$M,8,0)) -> Terceiro
E77: 45383 | F77: Empresa 2 | G77: Filial 1 | H77: placa002 | I77: =IF(FRotas[[#This Row],[Placa]]="","",VLOOKUP(FRotas[[#This Row],[Placa]],Veículos!$F:$G,2,0)) -> Van | J77: Carlos | K77: São Paulo | L77: São Paulo | M77: Cliente 02 | N77: 1203 | O77: 23258 | P77: 1941 | Q77: 455 | R77: 6 | S77: 60 | T77: Sim | V77: =IF(FRotas[[#This Row],[Placa]]="","",VLOOKUP(FRotas[[#This Row],[Placa]],Veículos!$F:$M,8,0)) -> Próprio
E78: 45383 | F78: Empresa 1 | G78: Filial 1 | H78: placa003 | I78: =IF(FRotas[[#This Row],[Placa]]="","",VLOOKUP(FRotas[[#This Row],[Placa]],Veículos!$F:$G,2,0)) -> Caminhão 2 | J78: Miguel | K78: São Paulo | L78: São Paulo | M78: Cliente 03 | N78: 1493 | O78: 28130 | P78: 698 | Q78: 536 | R78: 6 | S78: 60 | T78: Sim | V78: =IF(FRotas[[#This Row],[Placa]]="","",VLOOKUP(FRotas[[#This Row],[Placa]],Veículos!$F:$M,8,0)) -> Terceiro
E79: 45383 | F79: Empresa 1 | G79: Filial 1 | H79: placa004 | I79: =IF(FRotas[[#This Row],[Placa]]="","",VLOOKUP(FRotas[[#This Row],[Placa]],Veículos!$F:$G,2,0)) -> SAVEIRO | J79: Ricardo | K79: São Paulo | L79: São Paulo | M79: Cliente 04 | N79: 647 | O79: 32917 | P79: 1943 | Q79: 622 | R79: 6 | S79: 70 | T79: Não | U79: Cliente ausente | V79: =IF(FRotas[[#This Row],[Placa]]="","",VLOOKUP(FRotas[[#This Row],[Placa]],Veículos!$F:$M,8,0)) -> Terceiro
E80: 45383 | F80: Empresa 1 | G80: Filial 2 | H80: placa005 | I80: =IF(FRotas[[#This Row],[Placa]]="","",VLOOKUP(FRotas[[#This Row],[Placa]],Veículos!$F:$G,2,0)) -> STRADA | J80: Carlos | K80: São Paulo | L80: São Paulo | M80: Cliente 02 | N80: 1642 | O80: 7684 | P80: 1004 | Q80: 280 | R80: 6 | S80: 60 | T80: Não | U80: Cliente ausente | V80: =IF(FRotas[[#This Row],[Placa]]="","",VLOOKUP(FRotas[[#This Row],[Placa]],Veículos!$F:$M,8,0)) -> Próprio
E81: 45383 | F81: Empresa 2 | G81: Filial 1 | H81: placa006 | I81: =IF(FRotas[[#This Row],[Placa]]="","",VLOOKUP(FRotas[[#This Row],[Placa]],Veículos!$F:$G,2,0)) -> CAMINHÃO | J81: Carlos | K81: São Paulo | L81: São Paulo | M81: Cliente 01 | N81: 1681 | O81: 21877 | P81: 899 | Q81: 336 | R81: 6 | S81: 50 | T81: Sim | V81: =IF(FRotas[[#This Row],[Placa]]="","",VLOOKUP(FRotas[[#This Row],[Placa]],Veículos!$F:$M,8,0)) -> Terceiro
E82: 45383 | F82: Empresa 1 | G82: Filial 1 | H82: placa007 | I82: =IF(FRotas[[#This Row],[Placa]]="","",VLOOKUP(FRotas[[#This Row],[Placa]],Veículos!$F:$G,2,0)) -> Kombi | J82: Miguel | K82: São Paulo | L82: São Paulo | M82: Cliente 02 | N82: 632 | O82: 26668 | P82: 1676 | Q82: 271 | R82: 6 | S82: 100 | T82: Sim | V82: =IF(FRotas[[#This Row],[Placa]]="","",VLOOKUP(FRotas[[#This Row],[Placa]],Veículos!$F:$M,8,0)) -> Terceiro
E83: 45383 | F83: Empresa 1 | G83: Filial 3 | H83: placa008 | I83: =IF(FRotas[[#This Row],[Placa]]="","",VLOOKUP(FRotas[[#This Row],[Placa]],Veículos!$F:$G,2,0)) -> Golf | J83: João | K83: São Paulo | L83: São Paulo | M83: Cliente 01 | N83: 1149 | O83: 8473 | P83: 1420 | Q83: 748 | R83: 6 | S83: 50 | T83: Não | U83: Cliente ausente | V83: =IF(FRotas[[#This Row],[Placa]]="","",VLOOKUP(FRotas[[#This Row],[Placa]],Veículos!$F:$M,8,0)) -> Próprio
E84: 45383 | F84: Empresa 3 | G84: Filial 1 | H84: placa009 | I84: =IF(FRotas[[#This Row],[Placa]]="","",VLOOKUP(FRotas[[#This Row],[Placa]],Veículos!$F:$G,2,0)) -> Furgão | J84: Ricardo | K84: São Paulo | L84: São Paulo | M84: Cliente 03 | N84: 1439 | O84: 14761 | P84: 680 | Q84: 833 | R84: 6 | S84: 50 | T84: Sim | V84: =IF(FRotas[[#This Row],[Placa]]="","",VLOOKUP(FRotas[[#This Row],[Placa]],Veículos!$F:$M,8,0)) -> Terceiro
E85: 45383 | F85: Empresa 1 | G85: Filial 1 | H85: placa010 | I85: =IF(FRotas[[#This Row],[Placa]]="","",VLOOKUP(FRotas[[#This Row],[Placa]],Veículos!$F:$G,2,0)) -> Caminhão Baú | J85: Carlos | K85: São Paulo | L85: São Paulo | M85: Cliente 01 | N85: 929 | O85: 30835 | P85: 934 | Q85: 506 | R85: 6 | S85: 50 | T85: Sim | V85: =IF(FRotas[[#This Row],[Placa]]="","",VLOOKUP(FRotas[[#This Row],[Placa]],Veículos!$F:$M,8,0)) -> Terceiro
E86: 45383 | F86: Empresa 2 | G86: Filial 2 | H86: placa011 | I86: =IF(FRotas[[#This Row],[Placa]]="","",VLOOKUP(FRotas[[#This Row],[Placa]],Veículos!$F:$G,2,0)) -> Caminhão tanque | J86: Carlos | K86: São Paulo | L86: São Paulo | M86: Cliente 01 | N86: 884 | O86: 34419 | P86: 1954 | Q86: 717 | R86: 6 | S86: 60 | T86: Sim | V86: =IF(FRotas[[#This Row],[Placa]]="","",VLOOKUP(FRotas[[#This Row],[Placa]],Veículos!$F:$M,8,0)) -> Próprio
E87: 45383 | F87: Empresa 1 | G87: Filial 1 | H87: placa012 | I87: =IF(FRotas[[#This Row],[Placa]]="","",VLOOKUP(FRotas[[#This Row],[Placa]],Veículos!$F:$G,2,0)) -> Saveiro 2 | J87: Ricardo | K87: São Paulo | L87: São Paulo | M87: Cliente 04 | N87: 1195 | O87: 9683 | P87: 1410 | Q87: 985 | R87: 6 | S87: 60 | T87: Sim | V87: =IF(FRotas[[#This Row],[Placa]]="","",VLOOKUP(FRotas[[#This Row],[Placa]],Veículos!$F:$M,8,0)) -> Terceiro
E88: 45352 | F88: Empresa 1 | G88: Filial 1 | H88: placa013 | I88: =IF(FRotas[[#This Row],[Placa]]="","",VLOOKUP(FRotas[[#This Row],[Placa]],Veículos!$F:$G,2,0)) -> Montana | J88: Carlos | K88: São Paulo | L88: São Paulo | M88: Cliente 01 | N88: 1458 | O88: 21641 | P88: 1061 | Q88: 698 | R88: 6 | S88: 70 | T88: Não | U88: Cliente ausente | V88: =IF(FRotas[[#This Row],[Placa]]="","",VLOOKUP(FRotas[[#This Row],[Placa]],Veículos!$F:$M,8,0)) -> Terceiro
E89: 45383 | F89: Empresa 1 | G89: Filial 1 | H89: placa014 | I89: =IF(FRotas[[#This Row],[Placa]]="","",VLOOKUP(FRotas[[#This Row],[Placa]],Veículos!$F:$G,2,0)) -> Kangoo Van | J89: Miguel | K89: São Paulo | L89: São Paulo | M89: Cliente 01 | N89: 1433 | O89: 8150 | P89: 2741 | Q89: 346 | R89: 6 | S89: 60 | T89: Não | U89: Cliente ausente | V89: =IF(FRotas[[#This Row],[Placa]]="","",VLOOKUP(FRotas[[#This Row],[Placa]],Veículos!$F:$M,8,0)) -> Próprio
E90: 45383 | F90: Empresa 2 | G90: Filial 2 | H90: placa015 | I90: =IF(FRotas[[#This Row],[Placa]]="","",VLOOKUP(FRotas[[#This Row],[Placa]],Veículos!$F:$G,2,0)) -> Hyundai HR | J90: Ricardo | K90: São Paulo | L90: São Paulo | M90: Cliente 02 | N90: 1620 | O90: 7054 | P90: 859 | Q90: 653 | R90: 6 | S90: 50 | T90: Sim | V90: =IF(FRotas[[#This Row],[Placa]]="","",VLOOKUP(FRotas[[#This Row],[Placa]],Veículos!$F:$M,8,0)) -> Terceiro
E91: 45383 | F91: Empresa 1 | G91: Filial 1 | H91: placa016 | I91: =IF(FRotas[[#This Row],[Placa]]="","",VLOOKUP(FRotas[[#This Row],[Placa]],Veículos!$F:$G,2,0)) -> Scania P320 | J91: Carlos | K91: São Paulo | L91: São Paulo | M91: Cliente 03 | N91: 1159 | O91: 13183 | P91: 2665 | Q91: 956 | R91: 6 | S91: 100 | T91: Sim | V91: =IF(FRotas[[#This Row],[Placa]]="","",VLOOKUP(FRotas[[#This Row],[Placa]],Veículos!$F:$M,8,0)) -> Terceiro
E92: 45383 | F92: Empresa 1 | G92: Filial 1 | H92: placa017 | I92: =IF(FRotas[[#This Row],[Placa]]="","",VLOOKUP(FRotas[[#This Row],[Placa]],Veículos!$F:$G,2,0)) -> Volvo VM 270 | J92: Carlos | K92: São Paulo | L92: São Paulo | M92: Cliente 04 | N92: 756 | O92: 16756 | P92: 787 | Q92: 583 | R92: 6 | S92: 50 | T92: Não | U92: Cliente ausente | V92: =IF(FRotas[[#This Row],[Placa]]="","",VLOOKUP(FRotas[[#This Row],[Placa]],Veículos!$F:$M,8,0)) -> Próprio
E93: 45383 | F93: Empresa 3 | G93: Filial 3 | H93: placa018 | I93: =IF(FRotas[[#This Row],[Placa]]="","",VLOOKUP(FRotas[[#This Row],[Placa]],Veículos!$F:$G,2,0)) -> Kia Bongo K2500 | J93: Miguel | K93: São Paulo | L93: São Paulo | M93: Cliente 01 | N93: 854 | O93: 13367 | P93: 2462 | Q93: 874 | R93: 6 | S93: 50 | T93: Sim | V93: =IF(FRotas[[#This Row],[Placa]]="","",VLOOKUP(FRotas[[#This Row],[Placa]],Veículos!$F:$M,8,0)) -> Terceiro
E94: 45383 | F94: Empresa 1 | G94: Filial 1 | H94: placa019 | I94: =IF(FRotas[[#This Row],[Placa]]="","",VLOOKUP(FRotas[[#This Row],[Placa]],Veículos!$F:$G,2,0)) -> Sprinter | J94: João | K94: São Paulo | L94: São Paulo | M94: Cliente 02 | N94: 1007 | O94: 14483 | P94: 2205 | Q94: 908 | R94: 6 | S94: 50 | T94: Sim | V94: =IF(FRotas[[#This Row],[Placa]]="","",VLOOKUP(FRotas[[#This Row],[Placa]],Veículos!$F:$M,8,0)) -> Terceiro
E95: 45383 | F95: Empresa 2 | G95: Filial 1 | H95: placa020 | I95: =IF(FRotas[[#This Row],[Placa]]="","",VLOOKUP(FRotas[[#This Row],[Placa]],Veículos!$F:$G,2,0)) -> Fiorino | J95: Ricardo | K95: Rio de Janeiro | L95: Rio de Janeiro | M95: Cliente 03 | N95: 1559 | O95: 11010 | P95: 2398 | Q95: 908 | R95: 6 | S95: 60 | T95: Sim | V95: =IF(FRotas[[#This Row],[Placa]]="","",VLOOKUP(FRotas[[#This Row],[Placa]],Veículos!$F:$M,8,0)) -> Próprio
E96: 45383 | F96: Empresa 1 | G96: Filial 2 | H96: placa021 | I96: =IF(FRotas[[#This Row],[Placa]]="","",VLOOKUP(FRotas[[#This Row],[Placa]],Veículos!$F:$G,2,0)) -> Fiat 147 | J96: Carlos | K96: Rio de Janeiro | L96: Rio de Janeiro | M96: Cliente 04 | N96: 848 | O96: 11830 | P96: 509 | Q96: 550 | R96: 6 | S96: 60 | T96: Sim | V96: =IF(FRotas[[#This Row],[Placa]]="","",VLOOKUP(FRotas[[#This Row],[Placa]],Veículos!$F:$M,8,0)) -> Terceiro
E97: 45383 | F97: Empresa 1 | G97: Filial 1 | H97: placa022 | I97: =IF(FRotas[[#This Row],[Placa]]="","",VLOOKUP(FRotas[[#This Row],[Placa]],Veículos!$F:$G,2,0)) -> Celta | J97: Carlos | K97: Rio de Janeiro | L97: Rio de Janeiro | M97: Cliente 02 | N97: 978 | O97: 17810 | P97: 1055 | Q97: 776 | R97: 6 | S97: 70 | T97: Não | U97: Cliente ausente | V97: =IF(FRotas[[#This Row],[Placa]]="","",VLOOKUP(FRotas[[#This Row],[Placa]],Veículos!$F:$M,8,0)) -> Terceiro
E98: 45383 | F98: Empresa 1 | G98: Filial 1 | H98: placa023 | I98: =IF(FRotas[[#This Row],[Placa]]="","",VLOOKUP(FRotas[[#This Row],[Placa]],Veículos!$F:$G,2,0)) -> Agile | J98: Ricardo | K98: Rio de Janeiro | L98: Rio de Janeiro | M98: Cliente 01 | N98: 601 | O98: 31636 | P98: 822 | Q98: 249 | R98: 6 | S98: 60 | T98: Não | U98: Cliente Não encontrado | V98: =IF(FRotas[[#This Row],[Placa]]="","",VLOOKUP(FRotas[[#This Row],[Placa]],Veículos!$F:$M,8,0)) -> Próprio
E99: 45383 | F99: Empresa 2 | G99: Filial 1 | H99: placa024 | I99: =IF(FRotas[[#This Row],[Placa]]="","",VLOOKUP(FRotas[[#This Row],[Placa]],Veículos!$F:$G,2,0)) -> Civic | J99: Carlos | K99: Belo Horizonte | L99: Belo Horizonte | M99: Cliente 02 | N99: 610 | O99: 20530 | P99: 1980 | Q99: 895 | R99: 6 | S99: 50 | T99: Sim | V99: =IF(FRotas[[#This Row],[Placa]]="","",VLOOKUP(FRotas[[#This Row],[Placa]],Veículos!$F:$M,8,0)) -> Terceiro
E100: 45413 | F100: Empresa 1 | G100: Filial 2 | H100: placa001 | I100: =IF(FRotas[[#This Row],[Placa]]="","",VLOOKUP(FRotas[[#This Row],[Placa]],Veículos!$F:$G,2,0)) -> Caminhão 1 | J100: Miguel | K100: São Paulo | L100: São Paulo | M100: Cliente 01 | N100: 875 | O100: 28203 | P100: 1779 | Q100: 531 | R100: 6 | S100: 100 | T100: Sim | V100: =IF(FRotas[[#This Row],[Placa]]="","",VLOOKUP(FRotas[[#This Row],[Placa]],Veículos!$F:$M,8,0)) -> Terceiro
E101: 45413 | F101: Empresa 1 | G101: Filial 1 | H101: placa002 | I101: =IF(FRotas[[#This Row],[Placa]]="","",VLOOKUP(FRotas[[#This Row],[Placa]],Veículos!$F:$G,2,0)) -> Van | J101: Ricardo | K101: São Paulo | L101: São Paulo | M101: Cliente 03 | N101: 1371 | O101: 15555 | P101: 458 | Q101: 412 | R101: 6 | S101: 50 | T101: Não | U101: Cliente Não encontrado | V101: =IF(FRotas[[#This Row],[Placa]]="","",VLOOKUP(FRotas[[#This Row],[Placa]],Veículos!$F:$M,8,0)) -> Próprio
...

Sheet Manutenção
D1: Manutenção
E3: Data | F3: Placa | G3: Veículo | H3: Tipo de Manutenção | I3: Motivo da Manutenção | J3: Custo da Manutenção | K3: Obs | L3: Empresa | M3: Filial
E4: 45452 | F4: placa002 | G4: =IF(FManutencao[[#This Row],[Placa]]="","",VLOOKUP(FManutencao[[#This Row],[Placa]],Veículos!$F:$G,2,0)) -> Van | H4: Preventiva | I4: Parachoque | J4: 200 | K4: Parachoque | L4: Empresa 1 | M4: Filial 1
E5: 45454 | F5: placa002 | G5: =IF(FManutencao[[#This Row],[Placa]]="","",VLOOKUP(FManutencao[[#This Row],[Placa]],Veículos!$F:$G,2,0)) -> Van | H5: Preventiva | I5: Troca de maçaneta | J5: 150 | L5: Empresa 1 | M5: Filial 2
E6: 45327 | F6: placa004 | G6: =IF(FManutencao[[#This Row],[Placa]]="","",VLOOKUP(FManutencao[[#This Row],[Placa]],Veículos!$F:$G,2,0)) -> SAVEIRO | H6: Preventiva | I6: Trocar freios | J6: 300 | K6: Trocar freios | L6: Empresa 1 | M6: Filial 3
E7: 45332 | F7: placa007 | G7: =IF(FManutencao[[#This Row],[Placa]]="","",VLOOKUP(FManutencao[[#This Row],[Placa]],Veículos!$F:$G,2,0)) -> Kombi | H7: Corretiva | I7: Troca do aro | J7: 400 | L7: Empresa 2 | M7: Filial 1
E8: 45463 | F8: placa009 | G8: =IF(FManutencao[[#This Row],[Placa]]="","",VLOOKUP(FManutencao[[#This Row],[Placa]],Veículos!$F:$G,2,0)) -> Furgão | H8: Preventiva | I8: Trocar pneus | J8: 800 | K8: Enchente | L8: Empresa 2 | M8: Filial 2
E9: 45465 | F9: placa011 | G9: =IF(FManutencao[[#This Row],[Placa]]="","",VLOOKUP(FManutencao[[#This Row],[Placa]],Veículos!$F:$G,2,0)) -> Caminhão tanque | H9: Preventiva | I9: Troca de torneira | J9: 1500 | L9: Empresa 3 | M9: Filial 1
E10: 45381 | F10: placa002 | G10: =IF(FManutencao[[#This Row],[Placa]]="","",VLOOKUP(FManutencao[[#This Row],[Placa]],Veículos!$F:$G,2,0)) -> Van | H10: Corretiva | I10: Regulagem da porta | J10: 600 | K10: Fixar setas | L10: Empresa 2 | M10: Filial 1
E11: 45416 | F11: placa022 | G11: =IF(FManutencao[[#This Row],[Placa]]="","",VLOOKUP(FManutencao[[#This Row],[Placa]],Veículos!$F:$G,2,0)) -> Celta | H11: Preventiva | I11: Troca de retrovisor | J11: 200 | L11: Empresa 1 | M11: Filial 2

Sheet Documentos
D1: Documentos
E3: Data | F3: Placa | G3: Veículo | H3: Tipo do Documento | I3: Descrição do Documento | J3: Custo do Documento | K3: Obs | L3: Empresa | M3: Filial
E4: 45300 | F4: placa002 | G4: =IF(Fdocumentos[[#This Row],[Placa]]="","",VLOOKUP(Fdocumentos[[#This Row],[Placa]],Veículos!$F:$G,2,0)) -> Van | H4: Seguros | I4: Rota 01 | J4: 135 | L4: Empresa 1 | M4: Filial 1
E5: 45454 | F5: placa003 | G5: =IF(Fdocumentos[[#This Row],[Placa]]="","",VLOOKUP(Fdocumentos[[#This Row],[Placa]],Veículos!$F:$G,2,0)) -> Caminhão 2 | H5: Licenciamento | I5: Licenciamento | J5: 100 | L5: Empresa 1 | M5: Filial 2
E6: 45327 | F6: placa007 | G6: =IF(Fdocumentos[[#This Row],[Placa]]="","",VLOOKUP(Fdocumentos[[#This Row],[Placa]],Veículos!$F:$G,2,0)) -> Kombi | H6: IPVA | I6: Primeira parcela | J6: 2200 | L6: Empresa 1 | M6: Filial 3
E7: 45332 | F7: placa010 | G7: =IF(Fdocumentos[[#This Row],[Placa]]="","",VLOOKUP(Fdocumentos[[#This Row],[Placa]],Veículos!$F:$G,2,0)) -> Caminhão Baú | H7: Seguros | I7: Seguro | J7: 158 | L7: Empresa 2 | M7: Filial 1
E8: 45493 | F8: placa024 | G8: =IF(Fdocumentos[[#This Row],[Placa]]="","",VLOOKUP(Fdocumentos[[#This Row],[Placa]],Veículos!$F:$G,2,0)) -> Civic | H8: Seguros | I8: Rota 02 | J8: 135 | L8: Empresa 2 | M8: Filial 2
E9: 45526 | F9: placa002 | G9: =IF(Fdocumentos[[#This Row],[Placa]]="","",VLOOKUP(Fdocumentos[[#This Row],[Placa]],Veículos!$F:$G,2,0)) -> Van | H9: Licenciamento | I9: Licenciamento | J9: 160 | L9: Empresa 3 | M9: Filial 1
E10: 45381 | F10: placa001 | G10: =IF(Fdocumentos[[#This Row],[Placa]]="","",VLOOKUP(Fdocumentos[[#This Row],[Placa]],Veículos!$F:$G,2,0)) -> Caminhão 1 | H10: Multa | I10: Rota 01 | J10: 185 | L10: Empresa 2 | M10: Filial 1
E11: 45416 | F11: placa003 | G11: =IF(Fdocumentos[[#This Row],[Placa]]="","",VLOOKUP(Fdocumentos[[#This Row],[Placa]],Veículos!$F:$G,2,0)) -> Caminhão 2 | H11: Licenciamento | I11: Aprovado | J11: 185 | L11: Empresa 1 | M11: Filial 2
