Workbook

Sheet Cadastros
D1: Cadastros
E3: Motorista | G3: Tipo de Manutenção | I3: Cliente | K3: Empresa | M3: Filial | O3: Documentos | Q3: Custos | R3: Valores
E4: Carlos | G4: Preventiva | I4: Cliente 01 | K4: Empresa 1 | M4: Filial 1 | O4: Multa | Q4: 1.0 Custo Com viagens (=) | R4: =SUM(R5,R6,R7) -> 211600
E5: Miguel | G5: Corretiva | I5: Cliente 02 | K5: Empresa 2 | M5: Filial 2 | O5: Licenciamento | Q5: 1.1 Custo com combustível (+) | R5: =SUM(Rotas!$Q:$Q) -> 177392
E6: João | I6: Cliente 03 | K6: Empresa 3 | M6: Filial 3 | O6: IPVA | Q6: 1.2 Custo com Pedágio (+) | R6: =SUM(Rotas!R:R) -> 1728
E7: Ricardo | I7: Cliente 04 | O7: Seguros | Q7: 1.3 Custo Outros (+) | R7: =SUM(Rotas!S:S) -> 32480
Q8: 2.0 Custo com Manutenção (+) | R8: =SUM(Manutenção!J:J) -> 4150
Q9: 3.0 Custo com Documentos (+) | R9: =SUM(Documentos!J:J) -> 3258
Q10: 4.0 Custo Total (=) | R10: =SUM(R4,R8,R9) -> 219008

Sheet Veículos
D1: Veículos
E3: Nº | F3: Placa | G3: Veículo | H3: Ano Fabricação | I3: Cor | J3: Rodagem Aquisição (Km) | K3: Rodagem Atual (Km) | L3: Carga Máxima (Kg) | M3: Tipo de veículo | N3: Imagem
E4: 1 | F4: placa001 | G4: Caminhão 1 | H4: 2020 | I4: Branco | J4: 40000 | K4: =DVeiculos[[#This Row],[Rodagem Aquisição (Km)]]+SUMIFS(Rotas!N:N,Rotas!I:I,DVeiculos[[#This Row],[Veículo]]) -> 52585 | L4: 12000 | M4: Terceiro
E5: 2 | F5: placa002 | G5: Van | H5: 2021 | I5: Prata | J5: 50500 | K5: =DVeiculos[[#This Row],[Rodagem Aquisição (Km)]]+SUMIFS(Rotas!N:N,Rotas!I:I,DVeiculos[[#This Row],[Veículo]]) -> 64600 | L5: 4000 | M5: Próprio
E6: 3 | F6: placa003 | G6: Caminhão 2 | H6: 2021 | I6: Prata | J6: 50500 | K6: =DVeiculos[[#This Row],[Rodagem Aquisição (Km)]]+SUMIFS(Rotas!N:N,Rotas!I:I,DVeiculos[[#This Row],[Veículo]]) -> 63198 | L6: 10000 | M6: Terceiro
E7: 4 | F7: placa004 | G7: SAVEIRO | H7: 2021 | I7: Branco | J7: 57500 | K7: =DVeiculos[[#This Row],[Rodagem Aquisição (Km)]]+SUMIFS(Rotas!N:N,Rotas!I:I,DVeiculos[[#This Row],[Veículo]]) -> 71421 | L7: 6666.6667 | M7: Terceiro
E8: 5 | F8: placa005 | G8: STRADA | H8: 2021 | I8: Prata | J8: 62750 | K8: =DVeiculos[[#This Row],[Rodagem Aquisição (Km)]]+SUMIFS(Rotas!N:N,Rotas!I:I,DVeiculos[[#This Row],[Veículo]]) -> 77539 | L8: 5666.6667 | M8: Próprio
E9: 6 | F9: placa006 | G9: CAMINHÃO | H9: 2021 | I9: Preto | J9: 68000 | K9: =DVeiculos[[#This Row],[Rodagem Aquisição (Km)]]+SUMIFS(Rotas!N:N,Rotas!I:I,DVeiculos[[#This Row],[Veículo]]) -> 82411 | L9: 4666.6667 | M9: Terceiro
E10: 7 | F10: placa007 | G10: Kombi | H10: 2020 | I10: Branco | J10: 40000 | K10: =DVeiculos[[#This Row],[Rodagem Aquisição (Km)]]+SUMIFS(Rotas!N:N,Rotas!I:I,DVeiculos[[#This Row],[Veículo]]) -> 52890 | L10: 12000 | M10: Terceiro
E11: 8 | F11: placa008 | G11: Golf | H11: 2021 | I11: Prata | J11: 50500 | K11: =DVeiculos[[#This Row],[Rodagem Aquisição (Km)]]+SUMIFS(Rotas!N:N,Rotas!I:I,DVeiculos[[#This Row],[Veículo]]) -> 63830 | L11: 4000 | M11: Próprio
E12: 9 | F12: placa009 | G12: Furgão | H12: 2021 | I12: Prata | J12: 50500 | K12: =DVeiculos[[#This Row],[Rodagem Aquisição (Km)]]+SUMIFS(Rotas!N:N,Rotas!I:I,DVeiculos[[#This Row],[Veículo]]) -> 63459 | L12: 10000 | M12: Terceiro
E13: 10 | F13: placa010 | G13: Caminhão Baú | H13: 2021 | I13: Branco | J13: 57500 | K13: =DVeiculos[[#This Row],[Rodagem Aquisição (Km)]]+SUMIFS(Rotas!N:N,Rotas!I:I,DVeiculos[[#This Row],[Veículo]]) -> 70775 | L13: 6666.6667 | M13: Terceiro
E14: 11 | F14: placa011 | G14: Caminhão tanque | H14: 2021 | I14: Prata | J14: 62750 | K14: =DVeiculos[[#This Row],[Rodagem Aquisição (Km)]]+SUMIFS(Rotas!N:N,Rotas!I:I,DVeiculos[[#This Row],[Veículo]]) -> 78363 | L14: 5666.6667 | M14: Próprio
E15: 12 | F15: placa012 | G15: Saveiro 2 | H15: 2021 | I15: Preto | J15: 68000 | K15: =DVeiculos[[#This Row],[Rodagem Aquisição (Km)]]+SUMIFS(Rotas!N:N,Rotas!I:I,DVeiculos[[#This Row],[Veículo]]) -> 81791 | L15: 4666.6667 | M15: Terceiro
... E27: 24 | F27: placa024 | G27: Civic | H27: 2021 | I27: Preto | J27: 68000 | K27: =DVeiculos[[#This Row],[Rodagem Aquisição (Km)]]+SUMIFS(Rotas!N:N,Rotas!I:I,DVeiculos[[#This Row],[Veículo]]) -> 80876 | L27: 4666.6667 | M27: Terceiro

Sheet Rotas
D1: Rotas
E3: Data | F3: Empresa | G3: Filial | H3: Placa | I3: Veículo | J3: Motorista | K3: Origem | L3: Destino | M3: Cliente | N3: Distância (Km) | O3: Peso Carga (Kg) | P3: Receitas | Q3: Combustível | R3: Pedágio | S3: Outros | T3: No Prazo? | U3: Motivo | V3: Tipo Veículo
E4: 45292 | F4: Empresa 1 | G4: Filial 1 | H4: placa001 | I4: =IF(FRotas[[#This Row],[Placa]]="","",VLOOKUP(FRotas[[#This Row],[Placa]],Veículos!$F:$G,2,0)) -> Caminhão 1 | J4: Carlos | K4: São Paulo | L4: São Paulo | M4: Cliente 01 | N4: 898 | O4: 19610 | P4: 2680 | Q4: 528 | R4: 6 | S4: 50 | T4: Sim | V4: =IF(FRotas[[#This Row],[Placa]]="","",VLOOKUP(FRotas[[#This Row],[Placa]],Veículos!$F:$M,8,0)) -> Terceiro
E5: 45292 | F5: Empresa 2 | G5: Filial 1 | H5: placa002 | I5: =IF(FRotas[[#This Row],[Placa]]="","",VLOOKUP(FRotas[[#This Row],[Placa]],Veículos!$F:$G,2,0)) -> Van | J5: Miguel | K5: São Paulo | L5: São Paulo | M5: Cliente 02 | N5: 1268 | O5: 28084 | P5: 1203 | Q5: 814 | R5: 6 | S5: 60 | T5: Sim | V5: =IF(FRotas[[#This Row],[Placa]]="","",VLOOKUP(FRotas[[#This Row],[Placa]],Veículos!$F:$M,8,0)) -> Próprio
E6: 45292 | F6: Empresa 1 | G6: Filial 2 | H6: placa003 | I6: =IF(FRotas[[#This Row],[Placa]]="","",VLOOKUP(FRotas[[#This Row],[Placa]],Veículos!$F:$G,2,0)) -> Caminhão 2 | J6: João | K6: São Paulo | L6: São Paulo | M6: Cliente 03 | N6: 737 | O6: 28809 | P6: 762 | Q6: 381 | R6: 6 | S6: 60 | T6: Sim | V6: =IF(FRotas[[#This Row],[Placa]]="","",VLOOKUP(FRotas[[#This Row],[Placa]],Veículos!$F:$M,8,0)) -> Terceiro
E7: 45292 | F7: Empresa 1 | G7: Filial 1 | H7: placa004 | I7: =IF(FRotas[[#This Row],[Placa]]="","",VLOOKUP(FRotas[[#This Row],[Placa]],Veículos!$F:$G,2,0)) -> SAVEIRO | J7: Ricardo | K7: São Paulo | L7: São Paulo | M7: Cliente 04 | N7: 1331 | O7: 30097 | P7: 2128 | Q7: 285 | R7: 6 | S7: 70 | T7: Não | U7: Cliente ausente | V7: =IF(FRotas[[#This Row],[Placa]]="","",VLOOKUP(FRotas[[#This Row],[Placa]],Veículos!$F:$M,8,0)) -> Terceiro
E8: 45292 | F8: Empresa 1 | G8: Filial 1 | H8: placa005 | I8: =IF(FRotas[[#This Row],[Placa]]="","",VLOOKUP(FRotas[[#This Row],[Placa]],Veículos!$F:$G,2,0)) -> STRADA | J8: Carlos | K8: São Paulo | L8: São Paulo | M8: Cliente 01 | N8: 1452 | O8: 19389 | P8: 1114 | Q8: 323 | R8: 6 | S8: 60 | T8: Não | U8: Cliente recusou | V8: =IF(FRotas[[#This Row],[Placa]]="","",VLOOKUP(FRotas[[#This Row],[Placa]],Veículos!$F:$M,8,0)) -> Próprio
E9: 45292 | F9: Empresa 2 | G9: Filial 1 | H9: placa006 | I9: =IF(FRotas[[#This Row],[Placa]]="","",VLOOKUP(FRotas[[#This Row],[Placa]],Veículos!$F:$G,2,0)) -> CAMINHÃO | J9: Carlos | K9: São Paulo | L9: São Paulo | M9: Cliente 02 | N9: 1162 | O9: 32263 | P9: 53 | Q9: 860 | R9: 6 | S9: 50 | T9: Sim | V9: =IF(FRotas[[#This Row],[Placa]]="","",VLOOKUP(FRotas[[#This Row],[Placa]],Veículos!$F:$M,8,0)) -> Terceiro
E10: 45292 | F10: Empresa 1 | G10: Filial 2 | H10: placa007 | I10: =IF(FRotas[[#This Row],[Placa]]="","",VLOOKUP(FRotas[[#This Row],[Placa]],Veículos!$F:$G,2,0)) -> Kombi | J10: Ricardo | K10: São Paulo | L10: São Paulo | M10: Cliente 03 | N10: 1460 | O10: 12073 | P10: 2552 | Q10: 351 | R10: 6 | S10: 100 | T10: Sim | V10: =IF(FRotas[[#This Row],[Placa]]="","",VLOOKUP(FRotas[[#This Row],[Placa]],Veículos!$F:$M,8,0)) -> Terceiro
E11: 45292 | F11: Empresa 1 | G11: Filial 1 | H11: placa008 | I11: =IF(FRotas[[#This Row],[Placa]]="","",VLOOKUP(FRotas[[#This Row],[Placa]],Veículos!$F:$G,2,0)) -> Golf | J11: Carlos | K11: São Paulo | L11: São Paulo | M11: Cliente 04 | N11: 1487 | O11: 4279 | P11: 162 | Q11: 576 | R11: 6 | S11: 50 | T11: Não | U11: Cliente recusou | V11: =IF(FRotas[[#This Row],[Placa]]="","",VLOOKUP(FRotas[[#This Row],[Placa]],Veículos!$F:$M,8,0)) -> Próprio
E12: 45292 | F12: Empresa 3 | G12: Filial 1 | H12: placa009 | I12: =IF(FRotas[[#This Row],[Placa]]="","",VLOOKUP(FRotas[[#This Row],[Placa]],Veículos!$F:$G,2,0)) -> Furgão | J12: Miguel | K12: São Paulo | L12: São Paulo | M12: Cliente 02 | N12: 629 | O12: 9861 | P12: 1694 | Q12: 385 | R12: 6 | S12: 50 | T12: Sim | V12: =IF(FRotas[[#This Row],[Placa]]="","",VLOOKUP(FRotas[[#This Row],[Placa]],Veículos!$F:$M,8,0)) -> Terceiro
E13: 45292 | F13: Empresa 1 | G13: Filial 3 | H13: placa010 | I13: =IF(FRotas[[#This Row],[Placa]]="","",VLOOKUP(FRotas[[#This Row],[Placa]],Veículos!$F:$G,2,0)) -> Caminhão Baú | J13: Ricardo | K13: São Paulo | L13: São Paulo | M13: Cliente 01 | N13: 1626 | O13: 4009 | P13: 2274 | Q13: 680 | R13: 6 | S13: 50 | T13: Sim | V13: =IF(FRotas[[#This Row],[Placa]]="","",VLOOKUP(FRotas[[#This Row],[Placa]],Veículos!$F:$M,8,0)) -> Terceiro
E14: 45292 | F14: Empresa 2 | G14: Filial 1 | H14: placa011 | I14: =IF(FRotas[[#This Row],[Placa]]="","",VLOOKUP(FRotas[[#This Row],[Placa]],Veículos!$F:$G,2,0)) -> Caminhão tanque | J14: Carlos | K14: São Paulo | L14: São Paulo | M14: Cliente 02 | N14: 667 | O14: 14758 | P14: 1745 | Q14: 511 | R14: 6 | S14: 60 | T14: Sim | V14: =IF(FRotas[[#This Row],[Placa]]="","",VLOOKUP(FRotas[[#This Row],[Placa]],Veículos!$F:$M,8,0)) -> Próprio
E15: 45292 | F15: Empresa 1 | G15: Filial 1 | H15: placa012 | I15: =IF(FRotas[[#This Row],[Placa]]="","",VLOOKUP(FRotas[[#This Row],[Placa]],Veículos!$F:$G,2,0)) -> Saveiro 2 | J15: Carlos | K15: São Paulo | L15: São Paulo | M15: Cliente 01 | N15: 1183 | O15: 23697 | P15: 1328 | Q15: 857 | R15: 6 | S15: 60 | T15: Sim | V15: =IF(FRotas[[#This Row],[Placa]]="","",VLOOKUP(FRotas[[#This Row],[Placa]],Veículos!$F:$M,8,0)) -> Terceiro
E16: 45292 | F16: Empresa 1 | G16: Filial 2 | H16: placa013 | I16: =IF(FRotas[[#This Row],[Placa]]="","",VLOOKUP(FRotas[[#This Row],[Placa]],Veículos!$F:$G,2,0)) -> Montana | J16: Miguel | K16: São Paulo | L16: São Paulo | M16: Cliente 03 | N16: 652 | O16: 11743 | P16: 1225 | Q16: 300 | R16: 6 | S16: 70 | T16: Não | U16: Cliente recusou | V16: =IF(FRotas[[#This Row],[Placa]]="","",VLOOKUP(FRotas[[#This Row],[Placa]],Veículos!$F:$M,8,0)) -> Terceiro
E17: 45292 | F17: Empresa 1 | G17: Filial 1 | H17: placa014 | I17: =IF(FRotas[[#This Row],[Placa]]="","",VLOOKUP(FRotas[[#This Row],[Placa]],Veículos!$F:$G,2,0)) -> Kangoo Van | J17: João | K17: São Paulo | L17: São Paulo | M17: Cliente 01 | N17: 1014 | O17: 20532 | P17: 683 | Q17: 580 | R17: 6 | S17: 60 | T17: Não | U17: Cliente ausente | V17: =IF(FRotas[[#This Row],[Placa]]="","",VLOOKUP(FRotas[[#This Row],[Placa]],Veículos!$F:$M,8,0)) -> Próprio
E18: 45292 | F18: Empresa 2 | G18: Filial 1 | H18: placa015 | I18: =IF(FRotas[[#This Row],[Placa]]="","",VLOOKUP(FRotas[[#This Row],[Placa]],Veículos!$F:$G,2,0)) -> Hyundai HR | J18: Ricardo | K18: São Paulo | L18: São Paulo | M18: Cliente 01 | N18: 964 | O18: 7058 | P18: 258 | Q18: 623 | R18: 6 | S18: 50 | T18: Sim | V18: =IF(FRotas[[#This Row],[Placa]]="","",VLOOKUP(FRotas[[#This Row],[Placa]],Veículos!$F:$M,8,0)) -> Terceiro
E19: 45292 | F19: Empresa 1 | G19: Filial 1 | H19: placa016 | I19: =IF(FRotas[[#This Row],[Placa]]="","",VLOOKUP(FRotas[[#This Row],[Placa]],Veículos!$F:$G,2,0)) -> Scania P320 | J19: Carlos | K19: São Paulo | L19: São Paulo | M19: Cliente 04 | N19: 785 | O19: 25257 | P19: 1140 | Q19: 515 | R19: 6 | S19: 100 | T19: Sim | V19: =IF(FRotas[[#This Row],[Placa]]="","",VLOOKUP(FRotas[[#This Row],[Placa]],Veículos!$F:$M,8,0)) -> Terceiro
E20: 45292 | F20: Empresa 1 | G20: Filial 2 | H20: placa017 | I20: =IF(FRotas[[#This Row],[Placa]]="","",VLOOKUP(FRotas[[#This Row],[Placa]],Veículos!$F:$G,2,0)) -> Volvo VM 270 | J20: Carlos | K20: São Paulo | L20: São Paulo | M20: Cliente 01 | N20: 661 | O20: 31340 | P20: 2155 | Q20: 934 | R20: 6 | S20: 50 | T20: Não | U20: Cliente ausente | V20: =IF(FRotas[[#This Row],[Placa]]="","",VLOOKUP(FRotas[[#This Row],[Placa]],Veículos!$F:$M,8,0)) -> Próprio
E21: 45292 | F21: Empresa 3 | G21: Filial 1 | H21: placa018 | I21: =IF(FRotas[[#This Row],[Placa]]="","",VLOOKUP(FRotas[[#This Row],[Placa]],Veículos!$F:$G,2,0)) -> Kia Bongo K2500 | J21: Ricardo | K21: São Paulo | L21: São Paulo | M21: Cliente 01 | N21: 1512 | O21: 6264 | P21: 1495 | Q21: 562 | R21: 6 | S21: 50 | T21: Sim | V21: =IF(FRotas[[#This Row],[Placa]]="","",VLOOKUP(FRotas[[#This Row],[Placa]],Veículos!$F:$M,8,0)) -> Terceiro
E22: 45292 | F22: Empresa 1 | G22: Filial 1 | H22: placa019 | I22: =IF(FRotas[[#This Row],[Placa]]="","",VLOOKUP(FRotas[[#This Row],[Placa]],Veículos!$F:$G,2,0)) -> Sprinter | J22: Carlos | K22: São Paulo | L22: São Paulo | M22: Cliente 02 | N22: 838 | O22: 27314 | P22: 1338 | Q22: 254 | R22: 6 | S22: 50 | T22: Sim | V22: =IF(FRotas[[#This Row],[Placa]]="","",VLOOKUP(FRotas[[#This Row],[Placa]],Veículos!$F:$M,8,0)) -> Terceiro
E23: 45292 | F23: Empresa 2 | G23: Filial 3 | H23: placa020 | I23: =IF(FRotas[[#This Row],[Placa]]="","",VLOOKUP(FRotas[[#This Row],[Placa]],Veículos!$F:$G,2,0)) -> Fiorino | J23: Miguel | K23: Rio de Janeiro | L23: Rio de Janeiro | M23: Cliente 03 | N23: 1545 | O23: 12879 | P23: 711 | Q23: 708 | R23: 6 | S23: 60 | T23: Sim | V23: =IF(FRotas[[#This Row],[Placa]]="","",VLOOKUP(FRotas[[#This Row],[Placa]],Veículos!$F:$M,8,0)) -> Próprio
E24: 45323 | F24: Empresa 1 | G24: Filial 1 | H24: placa021 | I24: =IF(FRotas[[#This Row],[Placa]]="","",VLOOKUP(FRotas[[#This Row],[Placa]],Veículos!$F:$G,2,0)) -> Fiat 147 | J24: Ricardo | K24: Rio de Janeiro | L24: Rio de Janeiro | M24: Cliente 04 | N24: 1582 | O24: 5136 | P24: 314 | Q24: 407 | R24: 6 | S24: 60 | T24: Sim | V24: =IF(FRotas[[#This Row],[Placa]]="","",VLOOKUP(FRotas[[#This Row],[Placa]],Veículos!$F:$M,8,0)) -> Terceiro
E25: 45292 | F25: Empresa 1 | G25: Filial 1 | H25: placa022 | I25: =IF(FRotas[[#This Row],[Placa]]="","",VLOOKUP(FRotas[[#This Row],[Placa]],Veículos!$F:$G,2,0)) -> Celta | J25: Carlos | K25: Rio de Janeiro | L25: Rio de Janeiro | M25: Cliente 01 | N25: 1358 | O25: 14637 | P25: 1896 | Q25: 854 | R25: 6 | S25: 70 | T25: Não | U25: Cliente ausente | V25: =IF(FRotas[[#This Row],[Placa]]="","",VLOOKUP(FRotas[[#This Row],[Placa]],Veículos!$F:$M,8,0)) -> Terceiro
E26: 45292 | F26: Empresa 1 | G26: Filial 2 | H26: placa023 | I26: =IF(FRotas[[#This Row],[Placa]]="","",VLOOKUP(FRotas[[#This Row],[Placa]],Veículos!$F:$G,2,0)) -> Agile | J26: Carlos | K26: Rio de Janeiro | L26: Rio de Janeiro | M26: Cliente 02 | N26: 1327 | O26: 13285 | P26: 207 | Q26: 796 | R26: 6 | S26: 60 | T26: Não | U26: Cliente ausente | V26: =IF(FRotas[[#This Row],[Placa]]="","",VLOOKUP(FRotas[[#This Row],[Placa]],Veículos!$F:$M,8,0)) -> Próprio
E27: 45292 | F27: Empresa 2 | G27: Filial 1 | H27: placa024 | I27: =IF(FRotas[[#This Row],[Placa]]="","",VLOOKUP(FRotas[[#This Row],[Placa]],Veículos!$F:$G,2,0)) -> Civic | J27: Miguel | K27: Belo Horizonte | L27: Belo Horizonte | M27: Cliente 03 | N27: 1596 | O27: 26096 | P27: 894 | Q27: 827 | R27: 6 | S27: 50 | T27: Sim | V27: =IF(FRotas[[#This Row],[Placa]]="","",VLOOKUP(FRotas[[#This Row],[Placa]],Veículos!$F:$M,8,0)) -> Terceiro
E28: 45323 | F28: Empresa 1 | G28: Filial 1 | H28: placa001 | I28: =IF(FRotas[[#This Row],[Placa]]="","",VLOOKUP(FRotas[[#This Row],[Placa]],Veículos!$F:$G,2,0)) -> Caminhão 1 | J28: João | K28: São Paulo | L28: São Paulo | M28: Cliente 04 | N28: 1551 | O28: 5922 | P28: 2407 | Q28: 692 | R28: 6 | S28: 100 | T28: Sim | V28: =IF(FRotas[[#This Row],[Placa]]="","",VLOOKUP(FRotas[[#This Row],[Placa]],Veículos!$F:$M,8,0)) -> Terceiro
E29: 45323 | F29: Empresa 1 | G29: Filial 1 | H29: placa002 | I29: =IF(FRotas[[#This Row],[Placa]]="","",VLOOKUP(FRotas[[#This Row],[Placa]],Veículos!$F:$G,2,0)) -> Van | J29: Ricardo | K29: São Paulo | L29: São Paulo | M29: Cliente 02 | N29: 860 | O29: 18770 | P29: 908 | Q29: 839 | R29: 6 | S29: 50 | T29: Não | U29: Cliente ausente | V29: =IF(FRotas[[#This Row],[Placa]]="","",VLOOKUP(FRotas[[#This Row],[Placa]],Veículos!$F:$M,8,0)) -> Próprio
E30: 45323 | F30: Empresa 3 | G30: Filial 2 | H30: placa003 | I30: =IF(FRotas[[#This Row],[Placa]]="","",VLOOKUP(FRotas[[#This Row],[Placa]],Veículos!$F:$G,2,0)) -> Caminhão 2 | J30: Carlos | K30: São Paulo | L30: São Paulo | M30: Cliente 01 | N30: 1384 | O30: 24867 | P30: 2692 | Q30: 991 | R30: 6 | S30: 50 | T30: Sim | V30: =IF(FRotas[[#This Row],[Placa]]="","",VLOOKUP(FRotas[[#This Row],[Placa]],Veículos!$F:$M,8,0)) -> Terceiro
E31: 45323 | F31: Empresa 1 | G31: Filial 1 | H31: placa004 | I31: =IF(FRotas[[#This Row],[Placa]]="","",VLOOKUP(FRotas[[#This Row],[Placa]],Veículos!$F:$G,2,0)) -> SAVEIRO | J31: Carlos | K31: São Paulo | L31: São Paulo | M31: Cliente 02 | N31: 1065 | O31: 21709 | P31: 335 | Q31: 354 | R31: 6 | S31: 50 | T31: Sim | V31: =IF(FRotas[[#This Row],[Placa]]="","",VLOOKUP(FRotas[[#This Row],[Placa]],Veículos!$F:$M,8,0)) -> Terceiro
E32: 45323 | F32: Empresa 2 | G32: Filial 1 | H32: placa005 | I32: =IF(FRotas[[#This Row],[Placa]]="","",VLOOKUP(FRotas[[#This Row],[Placa]],Veículos!$F:$G,2,0)) -> STRADA | J32: Ricardo | K32: São Paulo | L32: São Paulo | M32: Cliente 01 | N32: 1556 | O32: 9761 | P32: 1615 | Q32: 681 | R32: 6 | S32: 60 | T32: Sim | V32: =IF(FRotas[[#This Row],[Placa]]="","",VLOOKUP(FRotas[[#This Row],[Placa]],Veículos!$F:$M,8,0)) -> Próprio
E33: 45323 | F33: Empresa 1 | G33: Filial 3 | H33: placa006 | I33: =IF(FRotas[[#This Row],[Placa]]="","",VLOOKUP(FRotas[[#This Row],[Placa]],Veículos!$F:$G,2,0)) -> CAMINHÃO | J33: Carlos | K33: São Paulo | L33: São Paulo | M33: Cliente 03 | N33: 1571 | O33: 5191 | P33: 501 | Q33: 829 | R33: 6 | S33: 60 | T33: Sim | V33: =IF(FRotas[[#This Row],[Placa]]="","",VLOOKUP(FRotas[[#This Row],[Placa]],Veículos!$F:$M,8,0)) -> Terceiro
E34: 45323 | F34: Empresa 1 | G34: Filial 1 | H34: placa007 | I34: =IF(FRotas[[#This Row],[Placa]]="","",VLOOKUP(FRotas[[#This Row],[Placa]],Veículos!$F:$G,2,0)) -> Kombi | J34: Miguel | K34: São Paulo | L34: São Paulo | M34: Cliente 01 | N34: 1552 | O34: 15703 | P34: 269 | Q34: 382 | R34: 6 | S34: 70 | T34: Não | U34: Cliente recusou | V34: =IF(FRotas[[#This Row],[Placa]]="","",VLOOKUP(FRotas[[#This Row],[Placa]],Veículos!$F:$M,8,0)) -> Terceiro
E35: 45323 | F35: Empresa 1 | G35: Filial 1 | H35: placa008 | I35: =IF(FRotas[[#This Row],[Placa]]="","",VLOOKUP(FRotas[[#This Row],[Placa]],Veículos!$F:$G,2,0)) -> Golf | J35: Ricardo | K35: São Paulo | L35: São Paulo | M35: Cliente 01 | N35: 890 | O35: 5397 | P35: 1375 | Q35: 771 | R35: 6 | S35: 60 | T35: Não | U35: Cliente recusou | V35: =IF(FRotas[[#This Row],[Placa]]="","",VLOOKUP(FRotas[[#This Row],[Placa]],Veículos!$F:$M,8,0)) -> Próprio
E36: 45323 | F36: Empresa 2 | G36: Filial 2 | H36: placa009 | I36: =IF(FRotas[[#This Row],[Placa]]="","",VLOOKUP(FRotas[[#This Row],[Placa]],Veículos!$F:$G,2,0)) -> Furgão | J36: Carlos | K36: São Paulo | L36: São Paulo | M36: Cliente 04 | N36: 833 | O36: 33341 | P36: 2792 | Q36: 226 | R36: 6 | S36: 50 | T36: Sim | V36: =IF(FRotas[[#This Row],[Placa]]="","",VLOOKUP(FRotas[[#This Row],[Placa]],Veículos!$F:$M,8,0)) -> Terceiro
E37: 45323 | F37: Empresa 1 | G37: Filial 1 | H37: placa010 | I37: =IF(FRotas[[#This Row],[Placa]]="","",VLOOKUP(FRotas[[#This Row],[Placa]],Veículos!$F:$G,2,0)) -> Caminhão Baú | J37: Carlos | K37: São Paulo | L37: São Paulo | M37: Cliente 01 | N37: 1281 | O37: 4653 | P37: 1665 | Q37: 468 | R37: 6 | S37: 100 | T37: Sim | V37: =IF(FRotas[[#This Row],[Placa]]="","",VLOOKUP(FRotas[[#This Row],[Placa]],Veículos!$F:$M,8,0)) -> Terceiro
E38: 45323 | F38: Empresa 1 | G38: Filial 1 | H38: placa011 | I38: =IF(FRotas[[#This Row],[Placa]]="","",VLOOKUP(FRotas[[#This Row],[Placa]],Veículos!$F:$G,2,0)) -> Caminhão tanque | J38: Miguel | K38: São Paulo | L38: São Paulo | M38: Cliente 01 | N38: 1686 | O38: 13441 | P38: 2568 | Q38: 817 | R38: 6 | S38: 50 | T38: Não | U38: Cliente recusou | V38: =IF(FRotas[[#This Row],[Placa]]="","",VLOOKUP(FRotas[[#This Row],[Placa]],Veículos!$F:$M,8,0)) -> Próprio
E39: 45323 | F39: Empresa 3 | G39: Filial 1 | H39: placa012 | I39: =IF(FRotas[[#This Row],[Placa]]="","",VLOOKUP(FRotas[[#This Row],[Placa]],Veículos!$F:$G,2,0)) -> Saveiro 2 | J39: João | K39: São Paulo | L39: São Paulo | M39: Cliente 02 | N39: 1147 | O39: 11095 | P39: 2027 | Q39: 340 | R39: 6 | S39: 50 | T39: Sim | V39: =IF(FRotas[[#This Row],[Placa]]="","",VLOOKUP(FRotas[[#This Row],[Placa]],Veículos!$F:$M,8,0)) -> Terceiro
E40: 45323 | F40: Empresa 1 | G40: Filial 2 | H40: placa013 | I40: =IF(FRotas[[#This Row],[Placa]]="","",VLOOKUP(FRotas[[#This Row],[Placa]],Veículos!$F:$G,2,0)) -> Montana | J40: Ricardo | K40: São Paulo | L40: São Paulo | M40: Cliente 03 | N40: 693 | O40: 11941 | P40: 484 | Q40: 695 | R40: 6 | S40: 50 | T40: Sim | V40: =IF(FRotas[[#This Row],[Placa]]="","",VLOOKUP(FRotas[[#This Row],[Placa]],Veículos!$F:$M,8,0)) -> Terceiro
E41: 45323 | F41: Empresa 2 | G41: Filial 1 | H41: placa014 | I41: =IF(FRotas[[#This Row],[Placa]]="","",VLOOKUP(FRotas[[#This Row],[Placa]],Veículos!$F:$G,2,0)) -> Kangoo Van | J41: Carlos | K41: São Paulo | L41: São Paulo | M41: Cliente 04 | N41: 1534 | O41: 17353 | P41: 2220 | Q41: 510 | R41: 6 | S41: 60 | T41: Sim | V41: =IF(FRotas[[#This Row],[Placa]]="","",VLOOKUP(FRotas[[#This Row],[Placa]],Veículos!$F:$M,8,0)) -> Próprio
...

Sheet Manutenção
D1: Manutenção
E3: Data | F3: Placa | G3: Veículo | H3: Tipo de Manutenção | I3: Motivo da Manutenção | J3: Custo da Manutenção | K3: Obs | L3: Empresa | M3: Filial
E4: 45452 | F4: placa002 | G4: =IF(FManutencao[[#This Row],[Placa]]="","",VLOOKUP(FManutencao[[#This Row],[Placa]],Veículos!$F:$G,2,0)) -> Van | H4: Preventiva | I4: Parachoque | J4: 200 | K4: Parachoque | L4: Empresa 1 | M4: Filial 1
E5: 45454 | F5: placa002 | G5: =IF(FManutencao[[#This Row],[Placa]]="","",VLOOKUP(FManutencao[[#This Row],[Placa]],Veículos!$F:$G,2,0)) -> Van | H5: Preventiva | I5: Troca de maçaneta | J5: 150 | L5: Empresa 1 | M5: Filial 2
E6: 45327 | F6: placa004 | G6: =IF(FManutencao[[#This Row],[Placa]]="","",VLOOKUP(FManutencao[[#This Row],[Placa]],Veículos!$F:$G,2,0)) -> SAVEIRO | H6: Preventiva | I6: Trocar freios | J6: 300 | K6: Trocar freios | L6: Empresa 1 | M6: Filial 3
E7: 45332 | F7: placa007 | G7: =IF(FManutencao[[#This Row],[Placa]]="","",VLOOKUP(FManutencao[[#This Row],[Placa]],Veículos!$F:$G,2,0)) -> Kombi | H7: Corretiva | I7: Troca do aro | J7: 400 | L7: Empresa 2 | M7: Filial 1
E8: 45463 | F8: placa009 | G8: =IF(FManutencao[[#This Row],[Placa]]="","",VLOOKUP(FManutencao[[#This Row],[Placa]],Veículos!$F:$G,2,0)) -> Furgão | H8: Preventiva | I8: Trocar pneus | J8: 800 | K8: Enchente | L8: Empresa 2 | M8: Filial 2
E9: 45465 | F9: placa011 | G9: =IF(FManutencao[[#This Row],[Placa]]="","",VLOOKUP(FManutencao[[#This Row],[Placa]],Veículos!$F:$G,2,0)) -> Caminhão tanque | H9: Preventiva | I9: Troca de torneira | J9: 1500 | L9: Empresa 3 | M9: Filial 1
E10: 45381 | F10: placa002 | G10: =IF(FManutencao[[#This Row],[Placa]]="","",VLOOKUP(FManutencao[[#This Row],[Placa]],Veículos!$F:$G,2,0)) -> Van | H10: Corretiva | I10: Regulagem da porta | J10: 600 | K10: Fixar setas | L10: Empresa 2 | M10: Filial 1
E11: 45416 | F11: placa022 | G11: =IF(FManutencao[[#This Row],[Placa]]="","",VLOOKUP(FManutencao[[#This Row],[Placa]],Veículos!$F:$G,2,0)) -> Celta | H11: Preventiva | I11: Troca de retrovisor | J11: 200 | L11: Empresa 1 | M11: Filial 2

Sheet Documentos
D1: Documentos
E3: Data | F3: Placa | G3: Veículo | H3: Tipo do Documento | I3: Descrição do Documento | J3: Custo do Documento | K3: Obs | L3: Empresa | M3: Filial
E4: 45300 | F4: placa002 | G4: =IF(Fdocumentos[[#This Row],[Placa]]="","",VLOOKUP(Fdocumentos[[#This Row],[Placa]],Veículos!$F:$G,2,0)) -> Van | H4: Seguros | I4: Rota 01 | J4: 135 | L4: Empresa 1 | M4: Filial 1
E5: 45454 | F5: placa003 | G5: =IF(Fdocumentos[[#This Row],[Placa]]="","",VLOOKUP(Fdocumentos[[#This Row],[Placa]],Veículos!$F:$G,2,0)) -> Caminhão 2 | H5: Licenciamento | I5: Licenciamento | J5: 100 | L5: Empresa 1 | M5: Filial 2
E6: 45327 | F6: placa007 | G6: =IF(Fdocumentos[[#This Row],[Placa]]="","",VLOOKUP(Fdocumentos[[#This Row],[Placa]],Veículos!$F:$G,2,0)) -> Kombi | H6: IPVA | I6: Primeira parcela | J6: 2200 | L6: Empresa 1 | M6: Filial 3
E7: 45332 | F7: placa010 | G7: =IF(Fdocumentos[[#This Row],[Placa]]="","",VLOOKUP(Fdocumentos[[#This Row],[Placa]],Veículos!$F:$G,2,0)) -> Caminhão Baú | H7: Seguros | I7: Seguro | J7: 158 | L7: Empresa 2 | M7: Filial 1
E8: 45493 | F8: placa024 | G8: =IF(Fdocumentos[[#This Row],[Placa]]="","",VLOOKUP(Fdocumentos[[#This Row],[Placa]],Veículos!$F:$G,2,0)) -> Civic | H8: Seguros | I8: Rota 02 | J8: 135 | L8: Empresa 2 | M8: Filial 2
E9: 45526 | F9: placa002 | G9: =IF(Fdocumentos[[#This Row],[Placa]]="","",VLOOKUP(Fdocumentos[[#This Row],[Placa]],Veículos!$F:$G,2,0)) -> Van | H9: Licenciamento | I9: Licenciamento | J9: 160 | L9: Empresa 3 | M9: Filial 1
E10: 45381 | F10: placa001 | G10: =IF(Fdocumentos[[#This Row],[Placa]]="","",VLOOKUP(Fdocumentos[[#This Row],[Placa]],Veículos!$F:$G,2,0)) -> Caminhão 1 | H10: Multa | I10: Rota 01 | J10: 185 | L10: Empresa 2 | M10: Filial 1
E11: 45416 | F11: placa003 | G11: =IF(Fdocumentos[[#This Row],[Placa]]="","",VLOOKUP(Fdocumentos[[#This Row],[Placa]],Veículos!$F:$G,2,0)) -> Caminhão 2 | H11: Licenciamento | I11: Aprovado | J11: 185 | L11: Empresa 1 | M11: Filial 2
