Workbook

Sheet Cadastros
B3: Empresa | D3: Turno | F3: Setor | H3: Cargo | J3: Tipo de Contrato | L3: Escala | N3: Tipo de Ocorrência | P3: Matricula | Q3: Nome do Funcionário | R3: Genero | S3: Data de Nascimento | T3: Data de Admissão | U3: Idade | V3: Tempo de Emprea
B4: Empresa X | D4: Turno A | F4: Recursos Humanos | H4: Analista | J4: PJ | L4: 5x1 | N4: Falta | P4: 1 | Q4: Funcionario 1 | R4: Masculino | S4: 32424 | T4: 41673 | U4: =IF(DFuncionarios[[#This Row],[Data de Nascimento]]="","",YEAR(TODAY())-YEAR(DFuncionarios[[#This Row],[Data de Nascimento]])) -> 37 | V4: =IF(DFuncionarios[[#This Row],[Data de Admissão]]="","",YEAR(TODAY())-YEAR(DFuncionarios[[#This Row],[Data de Admissão]])) -> 11
B5: Empresa Y | D5: Turno B | F5: Financeiro | H5: Assistente | J5: CLT | L5: 6x1 | N5: Atraso | P5: 2 | Q5: Funcionario 2 | R5: Feminino | S5: 02/11/1971 | U5: =IF(DFuncionarios[[#This Row],[Data de Nascimento]]="","",YEAR(TODAY())-YEAR(DFuncionarios[[#This Row],[Data de Nascimento]])) -> 54 | V5: =IF(DFuncionarios[[#This Row],[Data de Admissão]]="","",YEAR(TODAY())-YEAR(DFuncionarios[[#This Row],[Data de Admissão]]))
B6: Empresa Z | D6: Turno C | F6: Contabilidade | H6: Coordenador | J6: Estágio | L6: 12x36 | N6: Saída Antecipada | P6: 3 | Q6: Funcionario 3 | R6: Feminino | S6: 36496 | T6: 44942 | U6: =IF(DFuncionarios[[#This Row],[Data de Nascimento]]="","",YEAR(TODAY())-YEAR(DFuncionarios[[#This Row],[Data de Nascimento]])) -> 26 | V6: =IF(DFuncionarios[[#This Row],[Data de Admissão]]="","",YEAR(TODAY())-YEAR(DFuncionarios[[#This Row],[Data de Admissão]])) -> 2
D7: Turno D | F7: Jurídico | H7: Supervisor | L7: 5x2 | N7: Atitude disciplinar | P7: 4 | Q7: Funcionario 4 | R7: Masculino | S7: 35085 | T7: 41701 | U7: =IF(DFuncionarios[[#This Row],[Data de Nascimento]]="","",YEAR(TODAY())-YEAR(DFuncionarios[[#This Row],[Data de Nascimento]])) -> 29 | V7: =IF(DFuncionarios[[#This Row],[Data de Admissão]]="","",YEAR(TODAY())-YEAR(DFuncionarios[[#This Row],[Data de Admissão]])) -> 11
D8: Turno Folguista | F8: Operações | H8: Gerente | L8: 24x48 | P8: 5 | Q8: Funcionario 5 | R8: Masculino | S8: 35085 | T8: 45243 | U8: =IF(DFuncionarios[[#This Row],[Data de Nascimento]]="","",YEAR(TODAY())-YEAR(DFuncionarios[[#This Row],[Data de Nascimento]])) -> 29 | V8: =IF(DFuncionarios[[#This Row],[Data de Admissão]]="","",YEAR(TODAY())-YEAR(DFuncionarios[[#This Row],[Data de Admissão]])) -> 2
F9: Logística | H9: Diretor | L9: 4x2 | P9: 6 | Q9: Funcionario 6 | R9: Feminino | S9: 35085 | T9: 45393 | U9: =IF(DFuncionarios[[#This Row],[Data de Nascimento]]="","",YEAR(TODAY())-YEAR(DFuncionarios[[#This Row],[Data de Nascimento]])) -> 29 | V9: =IF(DFuncionarios[[#This Row],[Data de Admissão]]="","",YEAR(TODAY())-YEAR(DFuncionarios[[#This Row],[Data de Admissão]])) -> 1
F10: Marketing | H10: Estagiário | L10: 4x3 | P10: 7 | Q10: Funcionario 7 | R10: Feminino | S10: 35085 | T10: 44840 | U10: =IF(DFuncionarios[[#This Row],[Data de Nascimento]]="","",YEAR(TODAY())-YEAR(DFuncionarios[[#This Row],[Data de Nascimento]])) -> 29 | V10: =IF(DFuncionarios[[#This Row],[Data de Admissão]]="","",YEAR(TODAY())-YEAR(DFuncionarios[[#This Row],[Data de Admissão]])) -> 3
F11: Vendas | H11: Auxiliar | P11: 8 | Q11: Funcionario 8 | R11: Masculino | S11: 35085 | T11: 44972 | U11: =IF(DFuncionarios[[#This Row],[Data de Nascimento]]="","",YEAR(TODAY())-YEAR(DFuncionarios[[#This Row],[Data de Nascimento]])) -> 29 | V11: =IF(DFuncionarios[[#This Row],[Data de Admissão]]="","",YEAR(TODAY())-YEAR(DFuncionarios[[#This Row],[Data de Admissão]])) -> 2
F12: TI | H12: Técnico | P12: 9 | Q12: Funcionario 9 | R12: Masculino | S12: 35085 | T12: 44972 | U12: =IF(DFuncionarios[[#This Row],[Data de Nascimento]]="","",YEAR(TODAY())-YEAR(DFuncionarios[[#This Row],[Data de Nascimento]])) -> 29 | V12: =IF(DFuncionarios[[#This Row],[Data de Admissão]]="","",YEAR(TODAY())-YEAR(DFuncionarios[[#This Row],[Data de Admissão]])) -> 2
F13: Engenharia | H13: Especialista | P13: 10 | Q13: Funcionario 10 | R13: Masculino | S13: 35085 | T13: 45383 | U13: =IF(DFuncionarios[[#This Row],[Data de Nascimento]]="","",YEAR(TODAY())-YEAR(DFuncionarios[[#This Row],[Data de Nascimento]])) -> 29 | V13: =IF(DFuncionarios[[#This Row],[Data de Admissão]]="","",YEAR(TODAY())-YEAR(DFuncionarios[[#This Row],[Data de Admissão]])) -> 1
F14: Produção | H14: Operador | P14: 11 | Q14: Funcionario 11 | R14: Masculino | S14: 35085 | T14: 45159 | U14: =IF(DFuncionarios[[#This Row],[Data de Nascimento]]="","",YEAR(TODAY())-YEAR(DFuncionarios[[#This Row],[Data de Nascimento]])) -> 29 | V14: =IF(DFuncionarios[[#This Row],[Data de Admissão]]="","",YEAR(TODAY())-YEAR(DFuncionarios[[#This Row],[Data de Admissão]])) -> 2
F15: Qualidade | H15: Consultor | P15: 12 | Q15: Funcionario 12 | R15: Feminino | S15: 35085 | T15: 43836 | U15: =IF(DFuncionarios[[#This Row],[Data de Nascimento]]="","",YEAR(TODAY())-YEAR(DFuncionarios[[#This Row],[Data de Nascimento]])) -> 29 | V15: =IF(DFuncionarios[[#This Row],[Data de Admissão]]="","",YEAR(TODAY())-YEAR(DFuncionarios[[#This Row],[Data de Admissão]])) -> 5
F16: Compras | H16: Administrador | P16: 13 | Q16: Funcionario 13 | R16: Feminino | S16: 36033 | T16: 38231 | U16: =IF(DFuncionarios[[#This Row],[Data de Nascimento]]="","",YEAR(TODAY())-YEAR(DFuncionarios[[#This Row],[Data de Nascimento]])) -> 27 | V16: =IF(DFuncionarios[[#This Row],[Data de Admissão]]="","",YEAR(TODAY())-YEAR(DFuncionarios[[#This Row],[Data de Admissão]])) -> 21
F17: Atendimento | H17: Programador | P17: 14 | Q17: Funcionario 14 | R17: Masculino | S17: 36033 | T17: 42233 | U17: =IF(DFuncionarios[[#This Row],[Data de Nascimento]]="","",YEAR(TODAY())-YEAR(DFuncionarios[[#This Row],[Data de Nascimento]])) -> 27 | V17: =IF(DFuncionarios[[#This Row],[Data de Admissão]]="","",YEAR(TODAY())-YEAR(DFuncionarios[[#This Row],[Data de Admissão]])) -> 10
F18: Administração | H18: Engenheiro | P18: 15 | Q18: Funcionario 15 | R18: Masculino | S18: 35512 | T18: 45362 | U18: =IF(DFuncionarios[[#This Row],[Data de Nascimento]]="","",YEAR(TODAY())-YEAR(DFuncionarios[[#This Row],[Data de Nascimento]])) -> 28 | V18: =IF(DFuncionarios[[#This Row],[Data de Admissão]]="","",YEAR(TODAY())-YEAR(DFuncionarios[[#This Row],[Data de Admissão]])) -> 1
H19: Analista Pleno | P19: 16 | Q19: Funcionario 16 | R19: Masculino | S19: 35512 | T19: 45341 | U19: =IF(DFuncionarios[[#This Row],[Data de Nascimento]]="","",YEAR(TODAY())-YEAR(DFuncionarios[[#This Row],[Data de Nascimento]])) -> 28 | V19: =IF(DFuncionarios[[#This Row],[Data de Admissão]]="","",YEAR(TODAY())-YEAR(DFuncionarios[[#This Row],[Data de Admissão]])) -> 1
H20: Analista Sênior | P20: 17 | Q20: Funcionario 17 | R20: Masculino | S20: 35512 | T20: 44942 | U20: =IF(DFuncionarios[[#This Row],[Data de Nascimento]]="","",YEAR(TODAY())-YEAR(DFuncionarios[[#This Row],[Data de Nascimento]])) -> 28 | V20: =IF(DFuncionarios[[#This Row],[Data de Admissão]]="","",YEAR(TODAY())-YEAR(DFuncionarios[[#This Row],[Data de Admissão]])) -> 2
H21: Auxiliar Administrativo | P21: 18 | Q21: Funcionario 18 | R21: Masculino | S21: 35512 | T21: 43108 | U21: =IF(DFuncionarios[[#This Row],[Data de Nascimento]]="","",YEAR(TODAY())-YEAR(DFuncionarios[[#This Row],[Data de Nascimento]])) -> 28 | V21: =IF(DFuncionarios[[#This Row],[Data de Admissão]]="","",YEAR(TODAY())-YEAR(DFuncionarios[[#This Row],[Data de Admissão]])) -> 7
H22: Atendente | P22: 19 | Q22: Funcionario 19 | R22: Feminino | S22: 35512 | T22: 44144 | U22: =IF(DFuncionarios[[#This Row],[Data de Nascimento]]="","",YEAR(TODAY())-YEAR(DFuncionarios[[#This Row],[Data de Nascimento]])) -> 28 | V22: =IF(DFuncionarios[[#This Row],[Data de Admissão]]="","",YEAR(TODAY())-YEAR(DFuncionarios[[#This Row],[Data de Admissão]])) -> 5
H23: Analista de Projetos | P23: 20 | Q23: Funcionario 20 | R23: Feminino | S23: 35512 | T23: 41061 | U23: =IF(DFuncionarios[[#This Row],[Data de Nascimento]]="","",YEAR(TODAY())-YEAR(DFuncionarios[[#This Row],[Data de Nascimento]])) -> 28 | V23: =IF(DFuncionarios[[#This Row],[Data de Admissão]]="","",YEAR(TODAY())-YEAR(DFuncionarios[[#This Row],[Data de Admissão]])) -> 13
P24: 21 | Q24: Funcionario 21 | R24: Masculino | S24: 35512 | T24: 44440 | U24: =IF(DFuncionarios[[#This Row],[Data de Nascimento]]="","",YEAR(TODAY())-YEAR(DFuncionarios[[#This Row],[Data de Nascimento]])) -> 28 | V24: =IF(DFuncionarios[[#This Row],[Data de Admissão]]="","",YEAR(TODAY())-YEAR(DFuncionarios[[#This Row],[Data de Admissão]])) -> 4
P25: 22 | Q25: Funcionario 22 | R25: Masculino | S25: 35512 | T25: 45397 | U25: =IF(DFuncionarios[[#This Row],[Data de Nascimento]]="","",YEAR(TODAY())-YEAR(DFuncionarios[[#This Row],[Data de Nascimento]])) -> 28 | V25: =IF(DFuncionarios[[#This Row],[Data de Admissão]]="","",YEAR(TODAY())-YEAR(DFuncionarios[[#This Row],[Data de Admissão]])) -> 1
P26: 23 | Q26: Funcionario 23 | R26: Feminino | S26: 35512 | T26: 40787 | U26: =IF(DFuncionarios[[#This Row],[Data de Nascimento]]="","",YEAR(TODAY())-YEAR(DFuncionarios[[#This Row],[Data de Nascimento]])) -> 28 | V26: =IF(DFuncionarios[[#This Row],[Data de Admissão]]="","",YEAR(TODAY())-YEAR(DFuncionarios[[#This Row],[Data de Admissão]])) -> 14
P27: 24 | Q27: Funcionario 24 | R27: Feminino | S27: 35512 | T27: 42240 | U27: =IF(DFuncionarios[[#This Row],[Data de Nascimento]]="","",YEAR(TODAY())-YEAR(DFuncionarios[[#This Row],[Data de Nascimento]])) -> 28 | V27: =IF(DFuncionarios[[#This Row],[Data de Admissão]]="","",YEAR(TODAY())-YEAR(DFuncionarios[[#This Row],[Data de Admissão]])) -> 10
P28: 25 | Q28: Funcionario 25 | R28: Masculino | S28: 15/05/1984 | T28: 44881 | U28: =IF(DFuncionarios[[#This Row],[Data de Nascimento]]="","",YEAR(TODAY())-YEAR(DFuncionarios[[#This Row],[Data de Nascimento]])) -> 41 | V28: =IF(DFuncionarios[[#This Row],[Data de Admissão]]="","",YEAR(TODAY())-YEAR(DFuncionarios[[#This Row],[Data de Admissão]])) -> 3
P29: 26 | Q29: Funcionario 26 | R29: Masculino | S29: 36033 | T29: 43864 | U29: =IF(DFuncionarios[[#This Row],[Data de Nascimento]]="","",YEAR(TODAY())-YEAR(DFuncionarios[[#This Row],[Data de Nascimento]])) -> 27 | V29: =IF(DFuncionarios[[#This Row],[Data de Admissão]]="","",YEAR(TODAY())-YEAR(DFuncionarios[[#This Row],[Data de Admissão]])) -> 5
P30: 27 | Q30: Funcionario 27 | R30: Masculino | S30: 36033 | T30: 44566 | U30: =IF(DFuncionarios[[#This Row],[Data de Nascimento]]="","",YEAR(TODAY())-YEAR(DFuncionarios[[#This Row],[Data de Nascimento]])) -> 27 | V30: =IF(DFuncionarios[[#This Row],[Data de Admissão]]="","",YEAR(TODAY())-YEAR(DFuncionarios[[#This Row],[Data de Admissão]])) -> 3
P31: 28 | Q31: Funcionario 28 | R31: Masculino | S31: 36234 | T31: 45159 | U31: =IF(DFuncionarios[[#This Row],[Data de Nascimento]]="","",YEAR(TODAY())-YEAR(DFuncionarios[[#This Row],[Data de Nascimento]])) -> 26 | V31: =IF(DFuncionarios[[#This Row],[Data de Admissão]]="","",YEAR(TODAY())-YEAR(DFuncionarios[[#This Row],[Data de Admissão]])) -> 2
P32: 29 | Q32: Funcionario 29 | R32: Feminino | S32: 36234 | T32: 43500 | U32: =IF(DFuncionarios[[#This Row],[Data de Nascimento]]="","",YEAR(TODAY())-YEAR(DFuncionarios[[#This Row],[Data de Nascimento]])) -> 26 | V32: =IF(DFuncionarios[[#This Row],[Data de Admissão]]="","",YEAR(TODAY())-YEAR(DFuncionarios[[#This Row],[Data de Admissão]])) -> 6
P33: 30 | Q33: Funcionario 30 | R33: Feminino | S33: 36234 | T33: 43348 | U33: =IF(DFuncionarios[[#This Row],[Data de Nascimento]]="","",YEAR(TODAY())-YEAR(DFuncionarios[[#This Row],[Data de Nascimento]])) -> 26 | V33: =IF(DFuncionarios[[#This Row],[Data de Admissão]]="","",YEAR(TODAY())-YEAR(DFuncionarios[[#This Row],[Data de Admissão]])) -> 7
P34: 31 | Q34: Funcionario 31 | R34: Masculino | S34: 36234 | T34: 45383 | U34: =IF(DFuncionarios[[#This Row],[Data de Nascimento]]="","",YEAR(TODAY())-YEAR(DFuncionarios[[#This Row],[Data de Nascimento]])) -> 26 | V34: =IF(DFuncionarios[[#This Row],[Data de Admissão]]="","",YEAR(TODAY())-YEAR(DFuncionarios[[#This Row],[Data de Admissão]])) -> 1
P35: 32 | Q35: Funcionario 32 | R35: Masculino | S35: 36234 | T35: 44972 | U35: =IF(DFuncionarios[[#This Row],[Data de Nascimento]]="","",YEAR(TODAY())-YEAR(DFuncionarios[[#This Row],[Data de Nascimento]])) -> 26 | V35: =IF(DFuncionarios[[#This Row],[Data de Admissão]]="","",YEAR(TODAY())-YEAR(DFuncionarios[[#This Row],[Data de Admissão]])) -> 2
P36: 33 | Q36: Funcionario 33 | R36: Masculino | S36: 36234 | T36: 44482 | U36: =IF(DFuncionarios[[#This Row],[Data de Nascimento]]="","",YEAR(TODAY())-YEAR(DFuncionarios[[#This Row],[Data de Nascimento]])) -> 26 | V36: =IF(DFuncionarios[[#This Row],[Data de Admissão]]="","",YEAR(TODAY())-YEAR(DFuncionarios[[#This Row],[Data de Admissão]])) -> 4
P37: 34 | Q37: Funcionario 34 | R37: Masculino | S37: 36234 | T37: 45140 | U37: =IF(DFuncionarios[[#This Row],[Data de Nascimento]]="","",YEAR(TODAY())-YEAR(DFuncionarios[[#This Row],[Data de Nascimento]])) -> 26 | V37: =IF(DFuncionarios[[#This Row],[Data de Admissão]]="","",YEAR(TODAY())-YEAR(DFuncionarios[[#This Row],[Data de Admissão]])) -> 2
P38: 35 | Q38: Funcionario 35 | R38: Masculino | S38: 36234 | T38: 45397 | U38: =IF(DFuncionarios[[#This Row],[Data de Nascimento]]="","",YEAR(TODAY())-YEAR(DFuncionarios[[#This Row],[Data de Nascimento]])) -> 26 | V38: =IF(DFuncionarios[[#This Row],[Data de Admissão]]="","",YEAR(TODAY())-YEAR(DFuncionarios[[#This Row],[Data de Admissão]])) -> 1
P39: 36 | Q39: Funcionario 36 | R39: Feminino | S39: 35085 | T39: 44256 | U39: =IF(DFuncionarios[[#This Row],[Data de Nascimento]]="","",YEAR(TODAY())-YEAR(DFuncionarios[[#This Row],[Data de Nascimento]])) -> 29 | V39: =IF(DFuncionarios[[#This Row],[Data de Admissão]]="","",YEAR(TODAY())-YEAR(DFuncionarios[[#This Row],[Data de Admissão]])) -> 4
P40: 37 | Q40: Funcionario 37 | R40: Feminino | S40: 35085 | T40: 45341 | U40: =IF(DFuncionarios[[#This Row],[Data de Nascimento]]="","",YEAR(TODAY())-YEAR(DFuncionarios[[#This Row],[Data de Nascimento]])) -> 29 | V40: =IF(DFuncionarios[[#This Row],[Data de Admissão]]="","",YEAR(TODAY())-YEAR(DFuncionarios[[#This Row],[Data de Admissão]])) -> 1
... P42: 39 | Q42: Funcionario 39 | R42: Masculino | S42: 35085 | T42: 39722 | U42: =IF(DFuncionarios[[#This Row],[Data de Nascimento]]="","",YEAR(TODAY())-YEAR(DFuncionarios[[#This Row],[Data de Nascimento]])) -> 29 | V42: =IF(DFuncionarios[[#This Row],[Data de Admissão]]="","",YEAR(TODAY())-YEAR(DFuncionarios[[#This Row],[Data de Admissão]])) -> 17
P43: 40 | Q43: Funcionario 40 | R43: Feminino | S43: 35085 | U43: =IF(DFuncionarios[[#This Row],[Data de Nascimento]]="","",YEAR(TODAY())-YEAR(DFuncionarios[[#This Row],[Data de Nascimento]])) -> 29 | V43: =IF(DFuncionarios[[#This Row],[Data de Admissão]]="","",YEAR(TODAY())-YEAR(DFuncionarios[[#This Row],[Data de Admissão]]))

Sheet Jornada Prevista
B3: Matricula | C3: Funcionários | D3: Data Prevista | E3: Dias Úteis | F3: Carga Horária | G3: Horas Prevista no Mês | H3: Empresa | I3: Setor | J3: Cargo | K3: Turno | L3: Escala | M3: Tipo de Contrato | N3: Salário | O3: Salário/Hora | P3: Mês/Ano
B4: 1 | C4: =IF(DJornada[[#This Row],[Matricula]]="","",VLOOKUP(DJornada[[#This Row],[Matricula]],Cadastros!$P:$Q,2,0)) -> Funcionario 1 | D4: 01/01/2025 | E4: 21 | F4: 0.36666667 | G4: =IFERROR(IF(DJornada[[#This Row],[Dias Úteis]]="","",DJornada[[#This Row],[Dias Úteis]]*DJornada[[#This Row],[Carga Horária]]*24),"") -> 184.8 | H4: Empresa Y | I4: Vendas | J4: Supervisor | K4: Turno D | L4: 5x1 | M4: PJ | N4: 10321.61 | O4: =IF(DJornada[[#This Row],[Salário]]="","",DJornada[[#This Row],[Salário]]/DJornada[[#This Row],[Horas Prevista no Mês]]) -> 55.852868 | P4: =IF(DJornada[[#This Row],[Data Prevista]]="","",TEXT(DJornada[[#This Row],[Data Prevista]],"mm/aaaa")) -> 01/2025
B5: 2 | C5: =IF(DJornada[[#This Row],[Matricula]]="","",VLOOKUP(DJornada[[#This Row],[Matricula]],Cadastros!$P:$Q,2,0)) -> Funcionario 2 | D5: 01/01/2025 | E5: 21 | F5: 0.36666667 | G5: =IFERROR(IF(DJornada[[#This Row],[Dias Úteis]]="","",DJornada[[#This Row],[Dias Úteis]]*DJornada[[#This Row],[Carga Horária]]*24),"") -> 184.8 | H5: Empresa Y | I5: Operações | J5: Analista de Projetos | K5: Turno Folguista | L5: 6x1 | M5: CLT | N5: 11555.79 | O5: =IF(DJornada[[#This Row],[Salário]]="","",DJornada[[#This Row],[Salário]]/DJornada[[#This Row],[Horas Prevista no Mês]]) -> 62.531331 | P5: =IF(DJornada[[#This Row],[Data Prevista]]="","",TEXT(DJornada[[#This Row],[Data Prevista]],"mm/aaaa")) -> 01/2025
B6: 3 | C6: =IF(DJornada[[#This Row],[Matricula]]="","",VLOOKUP(DJornada[[#This Row],[Matricula]],Cadastros!$P:$Q,2,0)) -> Funcionario 3 | D6: 01/01/2025 | E6: 21 | F6: 0.36666667 | G6: =IFERROR(IF(DJornada[[#This Row],[Dias Úteis]]="","",DJornada[[#This Row],[Dias Úteis]]*DJornada[[#This Row],[Carga Horária]]*24),"") -> 184.8 | H6: Empresa Y | I6: Qualidade | J6: Diretor | K6: Turno D | L6: 5x1 | M6: CLT | N6: 5782.95 | O6: =IF(DJornada[[#This Row],[Salário]]="","",DJornada[[#This Row],[Salário]]/DJornada[[#This Row],[Horas Prevista no Mês]]) -> 31.293019 | P6: =IF(DJornada[[#This Row],[Data Prevista]]="","",TEXT(DJornada[[#This Row],[Data Prevista]],"mm/aaaa")) -> 01/2025
B7: 4 | C7: =IF(DJornada[[#This Row],[Matricula]]="","",VLOOKUP(DJornada[[#This Row],[Matricula]],Cadastros!$P:$Q,2,0)) -> Funcionario 4 | D7: 01/01/2025 | E7: 21 | F7: 0.36666667 | G7: =IFERROR(IF(DJornada[[#This Row],[Dias Úteis]]="","",DJornada[[#This Row],[Dias Úteis]]*DJornada[[#This Row],[Carga Horária]]*24),"") -> 184.8 | H7: Empresa Z | I7: Marketing | J7: Analista Sênior | K7: Turno A | L7: 6x1 | M7: CLT | N7: 4044.17 | O7: =IF(DJornada[[#This Row],[Salário]]="","",DJornada[[#This Row],[Salário]]/DJornada[[#This Row],[Horas Prevista no Mês]]) -> 21.884037 | P7: =IF(DJornada[[#This Row],[Data Prevista]]="","",TEXT(DJornada[[#This Row],[Data Prevista]],"mm/aaaa")) -> 01/2025
B8: 5 | C8: =IF(DJornada[[#This Row],[Matricula]]="","",VLOOKUP(DJornada[[#This Row],[Matricula]],Cadastros!$P:$Q,2,0)) -> Funcionario 5 | D8: 01/01/2025 | E8: 21 | F8: 0.36666667 | G8: =IFERROR(IF(DJornada[[#This Row],[Dias Úteis]]="","",DJornada[[#This Row],[Dias Úteis]]*DJornada[[#This Row],[Carga Horária]]*24),"") -> 184.8 | H8: Empresa X | I8: Marketing | J8: Coordenador | K8: Turno D | L8: 6x1 | M8: Estágio | N8: 2445.13 | O8: =IF(DJornada[[#This Row],[Salário]]="","",DJornada[[#This Row],[Salário]]/DJornada[[#This Row],[Horas Prevista no Mês]]) -> 13.231223 | P8: =IF(DJornada[[#This Row],[Data Prevista]]="","",TEXT(DJornada[[#This Row],[Data Prevista]],"mm/aaaa")) -> 01/2025
B9: 6 | C9: =IF(DJornada[[#This Row],[Matricula]]="","",VLOOKUP(DJornada[[#This Row],[Matricula]],Cadastros!$P:$Q,2,0)) -> Funcionario 6 | D9: 01/01/2025 | E9: 21 | F9: 0.36666667 | G9: =IFERROR(IF(DJornada[[#This Row],[Dias Úteis]]="","",DJornada[[#This Row],[Dias Úteis]]*DJornada[[#This Row],[Carga Horária]]*24),"") -> 184.8 | H9: Empresa Y | I9: Logística | J9: Analista de Projetos | K9: Turno A | L9: 5x1 | M9: CLT | N9: 7294.92 | O9: =IF(DJornada[[#This Row],[Salário]]="","",DJornada[[#This Row],[Salário]]/DJornada[[#This Row],[Horas Prevista no Mês]]) -> 39.474675 | P9: =IF(DJornada[[#This Row],[Data Prevista]]="","",TEXT(DJornada[[#This Row],[Data Prevista]],"mm/aaaa")) -> 01/2025
B10: 7 | C10: =IF(DJornada[[#This Row],[Matricula]]="","",VLOOKUP(DJornada[[#This Row],[Matricula]],Cadastros!$P:$Q,2,0)) -> Funcionario 7 | D10: 01/01/2025 | E10: 21 | F10: 0.36666667 | G10: =IFERROR(IF(DJornada[[#This Row],[Dias Úteis]]="","",DJornada[[#This Row],[Dias Úteis]]*DJornada[[#This Row],[Carga Horária]]*24),"") -> 184.8 | H10: Empresa X | I10: Recursos Humanos | J10: Administrador | K10: Turno D | L10: 12x36 | M10: PJ | N10: 7008.31 | O10: =IF(DJornada[[#This Row],[Salário]]="","",DJornada[[#This Row],[Salário]]/DJornada[[#This Row],[Horas Prevista no Mês]]) -> 37.923755 | P10: =IF(DJornada[[#This Row],[Data Prevista]]="","",TEXT(DJornada[[#This Row],[Data Prevista]],"mm/aaaa")) -> 01/2025
B11: 8 | C11: =IF(DJornada[[#This Row],[Matricula]]="","",VLOOKUP(DJornada[[#This Row],[Matricula]],Cadastros!$P:$Q,2,0)) -> Funcionario 8 | D11: 01/01/2025 | E11: 21 | F11: 0.36666667 | G11: =IFERROR(IF(DJornada[[#This Row],[Dias Úteis]]="","",DJornada[[#This Row],[Dias Úteis]]*DJornada[[#This Row],[Carga Horária]]*24),"") -> 184.8 | H11: Empresa Y | I11: Financeiro | J11: Técnico | K11: Turno D | L11: 6x1 | M11: Estágio | N11: 10319.72 | O11: =IF(DJornada[[#This Row],[Salário]]="","",DJornada[[#This Row],[Salário]]/DJornada[[#This Row],[Horas Prevista no Mês]]) -> 55.842641 | P11: =IF(DJornada[[#This Row],[Data Prevista]]="","",TEXT(DJornada[[#This Row],[Data Prevista]],"mm/aaaa")) -> 01/2025
B12: 9 | C12: =IF(DJornada[[#This Row],[Matricula]]="","",VLOOKUP(DJornada[[#This Row],[Matricula]],Cadastros!$P:$Q,2,0)) -> Funcionario 9 | D12: 01/01/2025 | E12: 21 | F12: 0.36666667 | G12: =IFERROR(IF(DJornada[[#This Row],[Dias Úteis]]="","",DJornada[[#This Row],[Dias Úteis]]*DJornada[[#This Row],[Carga Horária]]*24),"") -> 184.8 | H12: Empresa Z | I12: Qualidade | J12: Supervisor | K12: Turno C | L12: 5x1 | M12: PJ | N12: 8719.01 | O12: =IF(DJornada[[#This Row],[Salário]]="","",DJornada[[#This Row],[Salário]]/DJornada[[#This Row],[Horas Prevista no Mês]]) -> 47.18079 | P12: =IF(DJornada[[#This Row],[Data Prevista]]="","",TEXT(DJornada[[#This Row],[Data Prevista]],"mm/aaaa")) -> 01/2025
B13: 10 | C13: =IF(DJornada[[#This Row],[Matricula]]="","",VLOOKUP(DJornada[[#This Row],[Matricula]],Cadastros!$P:$Q,2,0)) -> Funcionario 10 | D13: 01/01/2025 | E13: 21 | F13: 0.36666667 | G13: =IFERROR(IF(DJornada[[#This Row],[Dias Úteis]]="","",DJornada[[#This Row],[Dias Úteis]]*DJornada[[#This Row],[Carga Horária]]*24),"") -> 184.8 | H13: Empresa X | I13: Administração | J13: Supervisor | K13: Turno Folguista | L13: 5x1 | M13: Estágio | N13: 8819.97 | O13: =IF(DJornada[[#This Row],[Salário]]="","",DJornada[[#This Row],[Salário]]/DJornada[[#This Row],[Horas Prevista no Mês]]) -> 47.72711 | P13: =IF(DJornada[[#This Row],[Data Prevista]]="","",TEXT(DJornada[[#This Row],[Data Prevista]],"mm/aaaa")) -> 01/2025
B14: 11 | C14: =IF(DJornada[[#This Row],[Matricula]]="","",VLOOKUP(DJornada[[#This Row],[Matricula]],Cadastros!$P:$Q,2,0)) -> Funcionario 11 | D14: 01/01/2025 | E14: 21 | F14: 0.36666667 | G14: =IFERROR(IF(DJornada[[#This Row],[Dias Úteis]]="","",DJornada[[#This Row],[Dias Úteis]]*DJornada[[#This Row],[Carga Horária]]*24),"") -> 184.8 | H14: Empresa Y | I14: Marketing | J14: Assistente | K14: Turno D | L14: 6x1 | M14: PJ | N14: 4471.83 | O14: =IF(DJornada[[#This Row],[Salário]]="","",DJornada[[#This Row],[Salário]]/DJornada[[#This Row],[Horas Prevista no Mês]]) -> 24.198214 | P14: =IF(DJornada[[#This Row],[Data Prevista]]="","",TEXT(DJornada[[#This Row],[Data Prevista]],"mm/aaaa")) -> 01/2025
B15: 12 | C15: =IF(DJornada[[#This Row],[Matricula]]="","",VLOOKUP(DJornada[[#This Row],[Matricula]],Cadastros!$P:$Q,2,0)) -> Funcionario 12 | D15: 01/01/2025 | E15: 21 | F15: 0.36666667 | G15: =IFERROR(IF(DJornada[[#This Row],[Dias Úteis]]="","",DJornada[[#This Row],[Dias Úteis]]*DJornada[[#This Row],[Carga Horária]]*24),"") -> 184.8 | H15: Empresa Z | I15: Recursos Humanos | J15: Auxiliar Administrativo | K15: Turno A | L15: 6x1 | M15: PJ | N15: 6128.8 | O15: =IF(DJornada[[#This Row],[Salário]]="","",DJornada[[#This Row],[Salário]]/DJornada[[#This Row],[Horas Prevista no Mês]]) -> 33.164502 | P15: =IF(DJornada[[#This Row],[Data Prevista]]="","",TEXT(DJornada[[#This Row],[Data Prevista]],"mm/aaaa")) -> 01/2025
... B483: 40 | C483: =IF(DJornada[[#This Row],[Matricula]]="","",VLOOKUP(DJornada[[#This Row],[Matricula]],Cadastros!$P:$Q,2,0)) -> Funcionario 40 | D483: 01/12/2025 | E483: 21 | F483: 0.36666667 | G483: =IFERROR(IF(DJornada[[#This Row],[Dias Úteis]]="","",DJornada[[#This Row],[Dias Úteis]]*DJornada[[#This Row],[Carga Horária]]*24),"") -> 184.8 | H483: Empresa Z | I483: Engenharia | J483: Técnico | K483: Turno D | L483: 6x1 | M483: PJ | N483: 3477.21 | O483: =IF(DJornada[[#This Row],[Salário]]="","",DJornada[[#This Row],[Salário]]/DJornada[[#This Row],[Horas Prevista no Mês]]) -> 18.816071 | P483: =IF(DJornada[[#This Row],[Data Prevista]]="","",TEXT(DJornada[[#This Row],[Data Prevista]],"mm/aaaa")) -> 12/2025

Sheet Ocorrências
B3: ID Ocorrência | C3: Data da Ocorrência | D3: Dia da Semana | E3: Matricula | F3: Nome | G3: Tipo de Ocorrência | H3: Motivo | I3: CID | J3: Justificado | K3: Horas Ausência | L3: Observação | M3: Empresa | N3: Setor | O3: Cargo | P3: Turno | Q3: Escala | R3: Tipo de Contrato | S3: Horas Previstas | T3: Salário | U3: Salário/Hora | V3: Mês/Ano
B4: 1 | C4: 25/09/2025 | D4: =IF(FOcorrencias[[#This Row],[Data da Ocorrência]]="","",TEXT(FOcorrencias[[#This Row],[Data da Ocorrência]],"dddd")) -> quinta-feira | E4: 1 | F4: =IF(FOcorrencias[[#This Row],[Matricula]]="","",VLOOKUP(FOcorrencias[[#This Row],[Matricula]],Cadastros!$P:$Q,2,0)) -> Funcionario 1 | G4: Atraso | H4: Atestado médico | I4: K21 | J4: Sim | K4: 01:00 | M4: {=INDEX('Jornada Prevista'!$H:$H,MATCH(1,('Jornada Prevista'!$B:$B=FOcorrencias[[#This Row],[Matricula]])*('Jornada Prevista'!$P:$P=FOcorrencias[[#This Row],[Mês/Ano]]),0))} -> Empresa X | N4: {=INDEX('Jornada Prevista'!$I:$I,MATCH(1,('Jornada Prevista'!$B:$B=FOcorrencias[[#This Row],[Matricula]])*('Jornada Prevista'!$P:$P=FOcorrencias[[#This Row],[Mês/Ano]]),0))} -> Qualidade | O4: {=INDEX('Jornada Prevista'!$J:$J,MATCH(1,('Jornada Prevista'!$B:$B=FOcorrencias[[#This Row],[Matricula]])*('Jornada Prevista'!$P:$P=FOcorrencias[[#This Row],[Mês/Ano]]),0))} -> Especialista | P4: {=INDEX('Jornada Prevista'!$K:$K,MATCH(1,('Jornada Prevista'!$B:$B=FOcorrencias[[#This Row],[Matricula]])*('Jornada Prevista'!$P:$P=FOcorrencias[[#This Row],[Mês/Ano]]),0))} -> Turno C | Q4: {=INDEX('Jornada Prevista'!$L:$L,MATCH(1,('Jornada Prevista'!$B:$B=FOcorrencias[[#This Row],[Matricula]])*('Jornada Prevista'!$P:$P=FOcorrencias[[#This Row],[Mês/Ano]]),0))} -> 12x36 | R4: {=INDEX('Jornada Prevista'!$M:$M,MATCH(1,('Jornada Prevista'!$B:$B=FOcorrencias[[#This Row],[Matricula]])*('Jornada Prevista'!$P:$P=FOcorrencias[[#This Row],[Mês/Ano]]),0))} -> PJ | S4: =SUMIFS('Jornada Prevista'!$G:$G,'Jornada Prevista'!$B:$B,FOcorrencias[[#This Row],[Matricula]],'Jornada Prevista'!$P:$P,FOcorrencias[[#This Row],[Mês/Ano]]) -> 184.8 | T4: =SUMIFS('Jornada Prevista'!$N:$N,'Jornada Prevista'!$B:$B,FOcorrencias[[#This Row],[Matricula]],'Jornada Prevista'!$P:$P,FOcorrencias[[#This Row],[Mês/Ano]]) -> 6808.49 | U4: =SUMIFS('Jornada Prevista'!$O:$O,'Jornada Prevista'!$B:$B,FOcorrencias[[#This Row],[Matricula]],'Jornada Prevista'!$P:$P,FOcorrencias[[#This Row],[Mês/Ano]]) -> 36.842478 | V4: =IF(FOcorrencias[[#This Row],[Data da Ocorrência]]="","",TEXT(FOcorrencias[[#This Row],[Data da Ocorrência]],"mm/aaaa")) -> 09/2025
B5: 2 | C5: 15/08/2025 | D5: =IF(FOcorrencias[[#This Row],[Data da Ocorrência]]="","",TEXT(FOcorrencias[[#This Row],[Data da Ocorrência]],"dddd")) -> sexta-feira | E5: 1 | F5: =IF(FOcorrencias[[#This Row],[Matricula]]="","",VLOOKUP(FOcorrencias[[#This Row],[Matricula]],Cadastros!$P:$Q,2,0)) -> Funcionario 1 | G5: Atitude disciplinar | H5: Compromisso familiar | J5: Sim | K5: 01:30 | M5: {=INDEX('Jornada Prevista'!$H:$H,MATCH(1,('Jornada Prevista'!$B:$B=FOcorrencias[[#This Row],[Matricula]])*('Jornada Prevista'!$P:$P=FOcorrencias[[#This Row],[Mês/Ano]]),0))} -> Empresa X | N5: {=INDEX('Jornada Prevista'!$I:$I,MATCH(1,('Jornada Prevista'!$B:$B=FOcorrencias[[#This Row],[Matricula]])*('Jornada Prevista'!$P:$P=FOcorrencias[[#This Row],[Mês/Ano]]),0))} -> Contabilidade | O5: {=INDEX('Jornada Prevista'!$J:$J,MATCH(1,('Jornada Prevista'!$B:$B=FOcorrencias[[#This Row],[Matricula]])*('Jornada Prevista'!$P:$P=FOcorrencias[[#This Row],[Mês/Ano]]),0))} -> Assistente | P5: {=INDEX('Jornada Prevista'!$K:$K,MATCH(1,('Jornada Prevista'!$B:$B=FOcorrencias[[#This Row],[Matricula]])*('Jornada Prevista'!$P:$P=FOcorrencias[[#This Row],[Mês/Ano]]),0))} -> Turno D | Q5: {=INDEX('Jornada Prevista'!$L:$L,MATCH(1,('Jornada Prevista'!$B:$B=FOcorrencias[[#This Row],[Matricula]])*('Jornada Prevista'!$P:$P=FOcorrencias[[#This Row],[Mês/Ano]]),0))} -> 6x1 | R5: {=INDEX('Jornada Prevista'!$M:$M,MATCH(1,('Jornada Prevista'!$B:$B=FOcorrencias[[#This Row],[Matricula]])*('Jornada Prevista'!$P:$P=FOcorrencias[[#This Row],[Mês/Ano]]),0))} -> PJ | S5: =SUMIFS('Jornada Prevista'!$G:$G,'Jornada Prevista'!$B:$B,FOcorrencias[[#This Row],[Matricula]],'Jornada Prevista'!$P:$P,FOcorrencias[[#This Row],[Mês/Ano]]) -> 184.8 | T5: =SUMIFS('Jornada Prevista'!$N:$N,'Jornada Prevista'!$B:$B,FOcorrencias[[#This Row],[Matricula]],'Jornada Prevista'!$P:$P,FOcorrencias[[#This Row],[Mês/Ano]]) -> 3105.23 | U5: =SUMIFS('Jornada Prevista'!$O:$O,'Jornada Prevista'!$B:$B,FOcorrencias[[#This Row],[Matricula]],'Jornada Prevista'!$P:$P,FOcorrencias[[#This Row],[Mês/Ano]]) -> 16.803193 | V5: =IF(FOcorrencias[[#This Row],[Data da Ocorrência]]="","",TEXT(FOcorrencias[[#This Row],[Data da Ocorrência]],"mm/aaaa")) -> 08/2025
B6: 3 | C6: 27/09/2025 | D6: =IF(FOcorrencias[[#This Row],[Data da Ocorrência]]="","",TEXT(FOcorrencias[[#This Row],[Data da Ocorrência]],"dddd")) -> sábado | E6: 1 | F6: =IF(FOcorrencias[[#This Row],[Matricula]]="","",VLOOKUP(FOcorrencias[[#This Row],[Matricula]],Cadastros!$P:$Q,2,0)) -> Funcionario 1 | G6: Saída Antecipada | H6: Compromisso familiar | J6: Não | K6: 00:45 | M6: {=INDEX('Jornada Prevista'!$H:$H,MATCH(1,('Jornada Prevista'!$B:$B=FOcorrencias[[#This Row],[Matricula]])*('Jornada Prevista'!$P:$P=FOcorrencias[[#This Row],[Mês/Ano]]),0))} -> Empresa X | N6: {=INDEX('Jornada Prevista'!$I:$I,MATCH(1,('Jornada Prevista'!$B:$B=FOcorrencias[[#This Row],[Matricula]])*('Jornada Prevista'!$P:$P=FOcorrencias[[#This Row],[Mês/Ano]]),0))} -> Qualidade | O6: {=INDEX('Jornada Prevista'!$J:$J,MATCH(1,('Jornada Prevista'!$B:$B=FOcorrencias[[#This Row],[Matricula]])*('Jornada Prevista'!$P:$P=FOcorrencias[[#This Row],[Mês/Ano]]),0))} -> Especialista | P6: {=INDEX('Jornada Prevista'!$K:$K,MATCH(1,('Jornada Prevista'!$B:$B=FOcorrencias[[#This Row],[Matricula]])*('Jornada Prevista'!$P:$P=FOcorrencias[[#This Row],[Mês/Ano]]),0))} -> Turno C | Q6: {=INDEX('Jornada Prevista'!$L:$L,MATCH(1,('Jornada Prevista'!$B:$B=FOcorrencias[[#This Row],[Matricula]])*('Jornada Prevista'!$P:$P=FOcorrencias[[#This Row],[Mês/Ano]]),0))} -> 12x36 | R6: {=INDEX('Jornada Prevista'!$M:$M,MATCH(1,('Jornada Prevista'!$B:$B=FOcorrencias[[#This Row],[Matricula]])*('Jornada Prevista'!$P:$P=FOcorrencias[[#This Row],[Mês/Ano]]),0))} -> PJ | S6: =SUMIFS('Jornada Prevista'!$G:$G,'Jornada Prevista'!$B:$B,FOcorrencias[[#This Row],[Matricula]],'Jornada Prevista'!$P:$P,FOcorrencias[[#This Row],[Mês/Ano]]) -> 184.8 | T6: =SUMIFS('Jornada Prevista'!$N:$N,'Jornada Prevista'!$B:$B,FOcorrencias[[#This Row],[Matricula]],'Jornada Prevista'!$P:$P,FOcorrencias[[#This Row],[Mês/Ano]]) -> 6808.49 | U6: =SUMIFS('Jornada Prevista'!$O:$O,'Jornada Prevista'!$B:$B,FOcorrencias[[#This Row],[Matricula]],'Jornada Prevista'!$P:$P,FOcorrencias[[#This Row],[Mês/Ano]]) -> 36.842478 | V6: =IF(FOcorrencias[[#This Row],[Data da Ocorrência]]="","",TEXT(FOcorrencias[[#This Row],[Data da Ocorrência]],"mm/aaaa")) -> 09/2025
B7: 4 | C7: 28/04/2025 | D7: =IF(FOcorrencias[[#This Row],[Data da Ocorrência]]="","",TEXT(FOcorrencias[[#This Row],[Data da Ocorrência]],"dddd")) -> segunda-feira | E7: 1 | F7: =IF(FOcorrencias[[#This Row],[Matricula]]="","",VLOOKUP(FOcorrencias[[#This Row],[Matricula]],Cadastros!$P:$Q,2,0)) -> Funcionario 1 | G7: Atitude disciplinar | H7: Consulta médica | I7: Z00 | J7: Sim | K7: 08:00 | M7: {=INDEX('Jornada Prevista'!$H:$H,MATCH(1,('Jornada Prevista'!$B:$B=FOcorrencias[[#This Row],[Matricula]])*('Jornada Prevista'!$P:$P=FOcorrencias[[#This Row],[Mês/Ano]]),0))} -> Empresa Y | N7: {=INDEX('Jornada Prevista'!$I:$I,MATCH(1,('Jornada Prevista'!$B:$B=FOcorrencias[[#This Row],[Matricula]])*('Jornada Prevista'!$P:$P=FOcorrencias[[#This Row],[Mês/Ano]]),0))} -> Contabilidade | O7: {=INDEX('Jornada Prevista'!$J:$J,MATCH(1,('Jornada Prevista'!$B:$B=FOcorrencias[[#This Row],[Matricula]])*('Jornada Prevista'!$P:$P=FOcorrencias[[#This Row],[Mês/Ano]]),0))} -> Estagiário | P7: {=INDEX('Jornada Prevista'!$K:$K,MATCH(1,('Jornada Prevista'!$B:$B=FOcorrencias[[#This Row],[Matricula]])*('Jornada Prevista'!$P:$P=FOcorrencias[[#This Row],[Mês/Ano]]),0))} -> Turno Folguista | Q7: {=INDEX('Jornada Prevista'!$L:$L,MATCH(1,('Jornada Prevista'!$B:$B=FOcorrencias[[#This Row],[Matricula]])*('Jornada Prevista'!$P:$P=FOcorrencias[[#This Row],[Mês/Ano]]),0))} -> 6x1 | R7: {=INDEX('Jornada Prevista'!$M:$M,MATCH(1,('Jornada Prevista'!$B:$B=FOcorrencias[[#This Row],[Matricula]])*('Jornada Prevista'!$P:$P=FOcorrencias[[#This Row],[Mês/Ano]]),0))} -> Estágio | S7: =SUMIFS('Jornada Prevista'!$G:$G,'Jornada Prevista'!$B:$B,FOcorrencias[[#This Row],[Matricula]],'Jornada Prevista'!$P:$P,FOcorrencias[[#This Row],[Mês/Ano]]) -> 184.8 | T7: =SUMIFS('Jornada Prevista'!$N:$N,'Jornada Prevista'!$B:$B,FOcorrencias[[#This Row],[Matricula]],'Jornada Prevista'!$P:$P,FOcorrencias[[#This Row],[Mês/Ano]]) -> 3772.37 | U7: =SUMIFS('Jornada Prevista'!$O:$O,'Jornada Prevista'!$B:$B,FOcorrencias[[#This Row],[Matricula]],'Jornada Prevista'!$P:$P,FOcorrencias[[#This Row],[Mês/Ano]]) -> 20.413258 | V7: =IF(FOcorrencias[[#This Row],[Data da Ocorrência]]="","",TEXT(FOcorrencias[[#This Row],[Data da Ocorrência]],"mm/aaaa")) -> 04/2025
B8: 5 | C8: 29/09/2025 | D8: =IF(FOcorrencias[[#This Row],[Data da Ocorrência]]="","",TEXT(FOcorrencias[[#This Row],[Data da Ocorrência]],"dddd")) -> segunda-feira | E8: 1 | F8: =IF(FOcorrencias[[#This Row],[Matricula]]="","",VLOOKUP(FOcorrencias[[#This Row],[Matricula]],Cadastros!$P:$Q,2,0)) -> Funcionario 1 | G8: Atraso | H8: Falta de transporte | J8: Sim | K8: 00:50 | M8: {=INDEX('Jornada Prevista'!$H:$H,MATCH(1,('Jornada Prevista'!$B:$B=FOcorrencias[[#This Row],[Matricula]])*('Jornada Prevista'!$P:$P=FOcorrencias[[#This Row],[Mês/Ano]]),0))} -> Empresa X | N8: {=INDEX('Jornada Prevista'!$I:$I,MATCH(1,('Jornada Prevista'!$B:$B=FOcorrencias[[#This Row],[Matricula]])*('Jornada Prevista'!$P:$P=FOcorrencias[[#This Row],[Mês/Ano]]),0))} -> Qualidade | O8: {=INDEX('Jornada Prevista'!$J:$J,MATCH(1,('Jornada Prevista'!$B:$B=FOcorrencias[[#This Row],[Matricula]])*('Jornada Prevista'!$P:$P=FOcorrencias[[#This Row],[Mês/Ano]]),0))} -> Especialista | P8: {=INDEX('Jornada Prevista'!$K:$K,MATCH(1,('Jornada Prevista'!$B:$B=FOcorrencias[[#This Row],[Matricula]])*('Jornada Prevista'!$P:$P=FOcorrencias[[#This Row],[Mês/Ano]]),0))} -> Turno C | Q8: {=INDEX('Jornada Prevista'!$L:$L,MATCH(1,('Jornada Prevista'!$B:$B=FOcorrencias[[#This Row],[Matricula]])*('Jornada Prevista'!$P:$P=FOcorrencias[[#This Row],[Mês/Ano]]),0))} -> 12x36 | R8: {=INDEX('Jornada Prevista'!$M:$M,MATCH(1,('Jornada Prevista'!$B:$B=FOcorrencias[[#This Row],[Matricula]])*('Jornada Prevista'!$P:$P=FOcorrencias[[#This Row],[Mês/Ano]]),0))} -> PJ | S8: =SUMIFS('Jornada Prevista'!$G:$G,'Jornada Prevista'!$B:$B,FOcorrencias[[#This Row],[Matricula]],'Jornada Prevista'!$P:$P,FOcorrencias[[#This Row],[Mês/Ano]]) -> 184.8 | T8: =SUMIFS('Jornada Prevista'!$N:$N,'Jornada Prevista'!$B:$B,FOcorrencias[[#This Row],[Matricula]],'Jornada Prevista'!$P:$P,FOcorrencias[[#This Row],[Mês/Ano]]) -> 6808.49 | U8: =SUMIFS('Jornada Prevista'!$O:$O,'Jornada Prevista'!$B:$B,FOcorrencias[[#This Row],[Matricula]],'Jornada Prevista'!$P:$P,FOcorrencias[[#This Row],[Mês/Ano]]) -> 36.842478 | V8: =IF(FOcorrencias[[#This Row],[Data da Ocorrência]]="","",TEXT(FOcorrencias[[#This Row],[Data da Ocorrência]],"mm/aaaa")) -> 09/2025
B9: 6 | C9: 07/09/2025 | D9: =IF(FOcorrencias[[#This Row],[Data da Ocorrência]]="","",TEXT(FOcorrencias[[#This Row],[Data da Ocorrência]],"dddd")) -> domingo | E9: 1 | F9: =IF(FOcorrencias[[#This Row],[Matricula]]="","",VLOOKUP(FOcorrencias[[#This Row],[Matricula]],Cadastros!$P:$Q,2,0)) -> Funcionario 1 | G9: Falta | H9: Indisciplina | J9: Não | K9: 04:00 | M9: {=INDEX('Jornada Prevista'!$H:$H,MATCH(1,('Jornada Prevista'!$B:$B=FOcorrencias[[#This Row],[Matricula]])*('Jornada Prevista'!$P:$P=FOcorrencias[[#This Row],[Mês/Ano]]),0))} -> Empresa X | N9: {=INDEX('Jornada Prevista'!$I:$I,MATCH(1,('Jornada Prevista'!$B:$B=FOcorrencias[[#This Row],[Matricula]])*('Jornada Prevista'!$P:$P=FOcorrencias[[#This Row],[Mês/Ano]]),0))} -> Qualidade | O9: {=INDEX('Jornada Prevista'!$J:$J,MATCH(1,('Jornada Prevista'!$B:$B=FOcorrencias[[#This Row],[Matricula]])*('Jornada Prevista'!$P:$P=FOcorrencias[[#This Row],[Mês/Ano]]),0))} -> Especialista | P9: {=INDEX('Jornada Prevista'!$K:$K,MATCH(1,('Jornada Prevista'!$B:$B=FOcorrencias[[#This Row],[Matricula]])*('Jornada Prevista'!$P:$P=FOcorrencias[[#This Row],[Mês/Ano]]),0))} -> Turno C | Q9: {=INDEX('Jornada Prevista'!$L:$L,MATCH(1,('Jornada Prevista'!$B:$B=FOcorrencias[[#This Row],[Matricula]])*('Jornada Prevista'!$P:$P=FOcorrencias[[#This Row],[Mês/Ano]]),0))} -> 12x36 | R9: {=INDEX('Jornada Prevista'!$M:$M,MATCH(1,('Jornada Prevista'!$B:$B=FOcorrencias[[#This Row],[Matricula]])*('Jornada Prevista'!$P:$P=FOcorrencias[[#This Row],[Mês/Ano]]),0))} -> PJ | S9: =SUMIFS('Jornada Prevista'!$G:$G,'Jornada Prevista'!$B:$B,FOcorrencias[[#This Row],[Matricula]],'Jornada Prevista'!$P:$P,FOcorrencias[[#This Row],[Mês/Ano]]) -> 184.8 | T9: =SUMIFS('Jornada Prevista'!$N:$N,'Jornada Prevista'!$B:$B,FOcorrencias[[#This Row],[Matricula]],'Jornada Prevista'!$P:$P,FOcorrencias[[#This Row],[Mês/Ano]]) -> 6808.49 | U9: =SUMIFS('Jornada Prevista'!$O:$O,'Jornada Prevista'!$B:$B,FOcorrencias[[#This Row],[Matricula]],'Jornada Prevista'!$P:$P,FOcorrencias[[#This Row],[Mês/Ano]]) -> 36.842478 | V9: =IF(FOcorrencias[[#This Row],[Data da Ocorrência]]="","",TEXT(FOcorrencias[[#This Row],[Data da Ocorrência]],"mm/aaaa")) -> 09/2025
B10: 7 | C10: 05/12/2025 | D10: =IF(FOcorrencias[[#This Row],[Data da Ocorrência]]="","",TEXT(FOcorrencias[[#This Row],[Data da Ocorrência]],"dddd")) -> sexta-feira | E10: 1 | F10: =IF(FOcorrencias[[#This Row],[Matricula]]="","",VLOOKUP(FOcorrencias[[#This Row],[Matricula]],Cadastros!$P:$Q,2,0)) -> Funcionario 1 | G10: Falta | H10: Indisciplina | J10: Sim | K10: 08:48 | M10: {=INDEX('Jornada Prevista'!$H:$H,MATCH(1,('Jornada Prevista'!$B:$B=FOcorrencias[[#This Row],[Matricula]])*('Jornada Prevista'!$P:$P=FOcorrencias[[#This Row],[Mês/Ano]]),0))} -> Empresa Z | N10: {=INDEX('Jornada Prevista'!$I:$I,MATCH(1,('Jornada Prevista'!$B:$B=FOcorrencias[[#This Row],[Matricula]])*('Jornada Prevista'!$P:$P=FOcorrencias[[#This Row],[Mês/Ano]]),0))} -> Qualidade | O10: {=INDEX('Jornada Prevista'!$J:$J,MATCH(1,('Jornada Prevista'!$B:$B=FOcorrencias[[#This Row],[Matricula]])*('Jornada Prevista'!$P:$P=FOcorrencias[[#This Row],[Mês/Ano]]),0))} -> Diretor | P10: {=INDEX('Jornada Prevista'!$K:$K,MATCH(1,('Jornada Prevista'!$B:$B=FOcorrencias[[#This Row],[Matricula]])*('Jornada Prevista'!$P:$P=FOcorrencias[[#This Row],[Mês/Ano]]),0))} -> Turno C | Q10: {=INDEX('Jornada Prevista'!$L:$L,MATCH(1,('Jornada Prevista'!$B:$B=FOcorrencias[[#This Row],[Matricula]])*('Jornada Prevista'!$P:$P=FOcorrencias[[#This Row],[Mês/Ano]]),0))} -> 6x1 | R10: {=INDEX('Jornada Prevista'!$M:$M,MATCH(1,('Jornada Prevista'!$B:$B=FOcorrencias[[#This Row],[Matricula]])*('Jornada Prevista'!$P:$P=FOcorrencias[[#This Row],[Mês/Ano]]),0))} -> Estágio | S10: =SUMIFS('Jornada Prevista'!$G:$G,'Jornada Prevista'!$B:$B,FOcorrencias[[#This Row],[Matricula]],'Jornada Prevista'!$P:$P,FOcorrencias[[#This Row],[Mês/Ano]]) -> 184.8 | T10: =SUMIFS('Jornada Prevista'!$N:$N,'Jornada Prevista'!$B:$B,FOcorrencias[[#This Row],[Matricula]],'Jornada Prevista'!$P:$P,FOcorrencias[[#This Row],[Mês/Ano]]) -> 5627.07 | U10: =SUMIFS('Jornada Prevista'!$O:$O,'Jornada Prevista'!$B:$B,FOcorrencias[[#This Row],[Matricula]],'Jornada Prevista'!$P:$P,FOcorrencias[[#This Row],[Mês/Ano]]) -> 30.449513 | V10: =IF(FOcorrencias[[#This Row],[Data da Ocorrência]]="","",TEXT(FOcorrencias[[#This Row],[Data da Ocorrência]],"mm/aaaa")) -> 12/2025
B11: 8 | C11: 04/10/2025 | D11: =IF(FOcorrencias[[#This Row],[Data da Ocorrência]]="","",TEXT(FOcorrencias[[#This Row],[Data da Ocorrência]],"dddd")) -> sábado | E11: 1 | F11: =IF(FOcorrencias[[#This Row],[Matricula]]="","",VLOOKUP(FOcorrencias[[#This Row],[Matricula]],Cadastros!$P:$Q,2,0)) -> Funcionario 1 | G11: Falta | H11: Indisciplina | J11: Não | K11: 08:00 | M11: {=INDEX('Jornada Prevista'!$H:$H,MATCH(1,('Jornada Prevista'!$B:$B=FOcorrencias[[#This Row],[Matricula]])*('Jornada Prevista'!$P:$P=FOcorrencias[[#This Row],[Mês/Ano]]),0))} -> Empresa X | N11: {=INDEX('Jornada Prevista'!$I:$I,MATCH(1,('Jornada Prevista'!$B:$B=FOcorrencias[[#This Row],[Matricula]])*('Jornada Prevista'!$P:$P=FOcorrencias[[#This Row],[Mês/Ano]]),0))} -> Atendimento | O11: {=INDEX('Jornada Prevista'!$J:$J,MATCH(1,('Jornada Prevista'!$B:$B=FOcorrencias[[#This Row],[Matricula]])*('Jornada Prevista'!$P:$P=FOcorrencias[[#This Row],[Mês/Ano]]),0))} -> Atendente | P11: {=INDEX('Jornada Prevista'!$K:$K,MATCH(1,('Jornada Prevista'!$B:$B=FOcorrencias[[#This Row],[Matricula]])*('Jornada Prevista'!$P:$P=FOcorrencias[[#This Row],[Mês/Ano]]),0))} -> Turno B | Q11: {=INDEX('Jornada Prevista'!$L:$L,MATCH(1,('Jornada Prevista'!$B:$B=FOcorrencias[[#This Row],[Matricula]])*('Jornada Prevista'!$P:$P=FOcorrencias[[#This Row],[Mês/Ano]]),0))} -> 6x1 | R11: {=INDEX('Jornada Prevista'!$M:$M,MATCH(1,('Jornada Prevista'!$B:$B=FOcorrencias[[#This Row],[Matricula]])*('Jornada Prevista'!$P:$P=FOcorrencias[[#This Row],[Mês/Ano]]),0))} -> CLT | S11: =SUMIFS('Jornada Prevista'!$G:$G,'Jornada Prevista'!$B:$B,FOcorrencias[[#This Row],[Matricula]],'Jornada Prevista'!$P:$P,FOcorrencias[[#This Row],[Mês/Ano]]) -> 184.8 | T11: =SUMIFS('Jornada Prevista'!$N:$N,'Jornada Prevista'!$B:$B,FOcorrencias[[#This Row],[Matricula]],'Jornada Prevista'!$P:$P,FOcorrencias[[#This Row],[Mês/Ano]]) -> 3155.76 | U11: =SUMIFS('Jornada Prevista'!$O:$O,'Jornada Prevista'!$B:$B,FOcorrencias[[#This Row],[Matricula]],'Jornada Prevista'!$P:$P,FOcorrencias[[#This Row],[Mês/Ano]]) -> 17.076623 | V11: =IF(FOcorrencias[[#This Row],[Data da Ocorrência]]="","",TEXT(FOcorrencias[[#This Row],[Data da Ocorrência]],"mm/aaaa")) -> 10/2025
B12: 9 | C12: 04/03/2025 | D12: =IF(FOcorrencias[[#This Row],[Data da Ocorrência]]="","",TEXT(FOcorrencias[[#This Row],[Data da Ocorrência]],"dddd")) -> terça-feira | E12: 2 | F12: =IF(FOcorrencias[[#This Row],[Matricula]]="","",VLOOKUP(FOcorrencias[[#This Row],[Matricula]],Cadastros!$P:$Q,2,0)) -> Funcionario 2 | G12: Atitude disciplinar | H12: Atestado médico | I12: Z00 | J12: Sim | K12: 08:00 | M12: {=INDEX('Jornada Prevista'!$H:$H,MATCH(1,('Jornada Prevista'!$B:$B=FOcorrencias[[#This Row],[Matricula]])*('Jornada Prevista'!$P:$P=FOcorrencias[[#This Row],[Mês/Ano]]),0))} -> Empresa X | N12: {=INDEX('Jornada Prevista'!$I:$I,MATCH(1,('Jornada Prevista'!$B:$B=FOcorrencias[[#This Row],[Matricula]])*('Jornada Prevista'!$P:$P=FOcorrencias[[#This Row],[Mês/Ano]]),0))} -> Recursos Humanos | O12: {=INDEX('Jornada Prevista'!$J:$J,MATCH(1,('Jornada Prevista'!$B:$B=FOcorrencias[[#This Row],[Matricula]])*('Jornada Prevista'!$P:$P=FOcorrencias[[#This Row],[Mês/Ano]]),0))} -> Auxiliar | P12: {=INDEX('Jornada Prevista'!$K:$K,MATCH(1,('Jornada Prevista'!$B:$B=FOcorrencias[[#This Row],[Matricula]])*('Jornada Prevista'!$P:$P=FOcorrencias[[#This Row],[Mês/Ano]]),0))} -> Turno B | Q12: {=INDEX('Jornada Prevista'!$L:$L,MATCH(1,('Jornada Prevista'!$B:$B=FOcorrencias[[#This Row],[Matricula]])*('Jornada Prevista'!$P:$P=FOcorrencias[[#This Row],[Mês/Ano]]),0))} -> 12x36 | R12: {=INDEX('Jornada Prevista'!$M:$M,MATCH(1,('Jornada Prevista'!$B:$B=FOcorrencias[[#This Row],[Matricula]])*('Jornada Prevista'!$P:$P=FOcorrencias[[#This Row],[Mês/Ano]]),0))} -> Estágio | S12: =SUMIFS('Jornada Prevista'!$G:$G,'Jornada Prevista'!$B:$B,FOcorrencias[[#This Row],[Matricula]],'Jornada Prevista'!$P:$P,FOcorrencias[[#This Row],[Mês/Ano]]) -> 184.8 | T12: =SUMIFS('Jornada Prevista'!$N:$N,'Jornada Prevista'!$B:$B,FOcorrencias[[#This Row],[Matricula]],'Jornada Prevista'!$P:$P,FOcorrencias[[#This Row],[Mês/Ano]]) -> 2303.92 | U12: =SUMIFS('Jornada Prevista'!$O:$O,'Jornada Prevista'!$B:$B,FOcorrencias[[#This Row],[Matricula]],'Jornada Prevista'!$P:$P,FOcorrencias[[#This Row],[Mês/Ano]]) -> 12.4671 | V12: =IF(FOcorrencias[[#This Row],[Data da Ocorrência]]="","",TEXT(FOcorrencias[[#This Row],[Data da Ocorrência]],"mm/aaaa")) -> 03/2025
B13: 10 | C13: 03/07/2025 | D13: =IF(FOcorrencias[[#This Row],[Data da Ocorrência]]="","",TEXT(FOcorrencias[[#This Row],[Data da Ocorrência]],"dddd")) -> quinta-feira | E13: 2 | F13: =IF(FOcorrencias[[#This Row],[Matricula]]="","",VLOOKUP(FOcorrencias[[#This Row],[Matricula]],Cadastros!$P:$Q,2,0)) -> Funcionario 2 | G13: Saída Antecipada | H13: Doença | I13: K21 | J13: Sim | K13: 01:00 | M13: {=INDEX('Jornada Prevista'!$H:$H,MATCH(1,('Jornada Prevista'!$B:$B=FOcorrencias[[#This Row],[Matricula]])*('Jornada Prevista'!$P:$P=FOcorrencias[[#This Row],[Mês/Ano]]),0))} -> Empresa Z | N13: {=INDEX('Jornada Prevista'!$I:$I,MATCH(1,('Jornada Prevista'!$B:$B=FOcorrencias[[#This Row],[Matricula]])*('Jornada Prevista'!$P:$P=FOcorrencias[[#This Row],[Mês/Ano]]),0))} -> Atendimento | O13: {=INDEX('Jornada Prevista'!$J:$J,MATCH(1,('Jornada Prevista'!$B:$B=FOcorrencias[[#This Row],[Matricula]])*('Jornada Prevista'!$P:$P=FOcorrencias[[#This Row],[Mês/Ano]]),0))} -> Analista | P13: {=INDEX('Jornada Prevista'!$K:$K,MATCH(1,('Jornada Prevista'!$B:$B=FOcorrencias[[#This Row],[Matricula]])*('Jornada Prevista'!$P:$P=FOcorrencias[[#This Row],[Mês/Ano]]),0))} -> Turno C | Q13: {=INDEX('Jornada Prevista'!$L:$L,MATCH(1,('Jornada Prevista'!$B:$B=FOcorrencias[[#This Row],[Matricula]])*('Jornada Prevista'!$P:$P=FOcorrencias[[#This Row],[Mês/Ano]]),0))} -> 12x36 | R13: {=INDEX('Jornada Prevista'!$M:$M,MATCH(1,('Jornada Prevista'!$B:$B=FOcorrencias[[#This Row],[Matricula]])*('Jornada Prevista'!$P:$P=FOcorrencias[[#This Row],[Mês/Ano]]),0))} -> CLT | S13: =SUMIFS('Jornada Prevista'!$G:$G,'Jornada Prevista'!$B:$B,FOcorrencias[[#This Row],[Matricula]],'Jornada Prevista'!$P:$P,FOcorrencias[[#This Row],[Mês/Ano]]) -> 184.8 | T13: =SUMIFS('Jornada Prevista'!$N:$N,'Jornada Prevista'!$B:$B,FOcorrencias[[#This Row],[Matricula]],'Jornada Prevista'!$P:$P,FOcorrencias[[#This Row],[Mês/Ano]]) -> 6201.03 | U13: =SUMIFS('Jornada Prevista'!$O:$O,'Jornada Prevista'!$B:$B,FOcorrencias[[#This Row],[Matricula]],'Jornada Prevista'!$P:$P,FOcorrencias[[#This Row],[Mês/Ano]]) -> 33.555357 | V13: =IF(FOcorrencias[[#This Row],[Data da Ocorrência]]="","",TEXT(FOcorrencias[[#This Row],[Data da Ocorrência]],"mm/aaaa")) -> 07/2025
B14: 11 | C14: 03/03/2025 | D14: =IF(FOcorrencias[[#This Row],[Data da Ocorrência]]="","",TEXT(FOcorrencias[[#This Row],[Data da Ocorrência]],"dddd")) -> segunda-feira | E14: 2 | F14: =IF(FOcorrencias[[#This Row],[Matricula]]="","",VLOOKUP(FOcorrencias[[#This Row],[Matricula]],Cadastros!$P:$Q,2,0)) -> Funcionario 2 | G14: Atitude disciplinar | H14: Indisciplina | J14: Não | K14: 02:00 | M14: {=INDEX('Jornada Prevista'!$H:$H,MATCH(1,('Jornada Prevista'!$B:$B=FOcorrencias[[#This Row],[Matricula]])*('Jornada Prevista'!$P:$P=FOcorrencias[[#This Row],[Mês/Ano]]),0))} -> Empresa X | N14: {=INDEX('Jornada Prevista'!$I:$I,MATCH(1,('Jornada Prevista'!$B:$B=FOcorrencias[[#This Row],[Matricula]])*('Jornada Prevista'!$P:$P=FOcorrencias[[#This Row],[Mês/Ano]]),0))} -> Recursos Humanos | O14: {=INDEX('Jornada Prevista'!$J:$J,MATCH(1,('Jornada Prevista'!$B:$B=FOcorrencias[[#This Row],[Matricula]])*('Jornada Prevista'!$P:$P=FOcorrencias[[#This Row],[Mês/Ano]]),0))} -> Auxiliar | P14: {=INDEX('Jornada Prevista'!$K:$K,MATCH(1,('Jornada Prevista'!$B:$B=FOcorrencias[[#This Row],[Matricula]])*('Jornada Prevista'!$P:$P=FOcorrencias[[#This Row],[Mês/Ano]]),0))} -> Turno B | Q14: {=INDEX('Jornada Prevista'!$L:$L,MATCH(1,('Jornada Prevista'!$B:$B=FOcorrencias[[#This Row],[Matricula]])*('Jornada Prevista'!$P:$P=FOcorrencias[[#This Row],[Mês/Ano]]),0))} -> 12x36 | R14: {=INDEX('Jornada Prevista'!$M:$M,MATCH(1,('Jornada Prevista'!$B:$B=FOcorrencias[[#This Row],[Matricula]])*('Jornada Prevista'!$P:$P=FOcorrencias[[#This Row],[Mês/Ano]]),0))} -> Estágio | S14: =SUMIFS('Jornada Prevista'!$G:$G,'Jornada Prevista'!$B:$B,FOcorrencias[[#This Row],[Matricula]],'Jornada Prevista'!$P:$P,FOcorrencias[[#This Row],[Mês/Ano]]) -> 184.8 | T14: =SUMIFS('Jornada Prevista'!$N:$N,'Jornada Prevista'!$B:$B,FOcorrencias[[#This Row],[Matricula]],'Jornada Prevista'!$P:$P,FOcorrencias[[#This Row],[Mês/Ano]]) -> 2303.92 | U14: =SUMIFS('Jornada Prevista'!$O:$O,'Jornada Prevista'!$B:$B,FOcorrencias[[#This Row],[Matricula]],'Jornada Prevista'!$P:$P,FOcorrencias[[#This Row],[Mês/Ano]]) -> 12.4671 | V14: =IF(FOcorrencias[[#This Row],[Data da Ocorrência]]="","",TEXT(FOcorrencias[[#This Row],[Data da Ocorrência]],"mm/aaaa")) -> 03/2025
B15: 12 | C15: 11/02/2025 | D15: =IF(FOcorrencias[[#This Row],[Data da Ocorrência]]="","",TEXT(FOcorrencias[[#This Row],[Data da Ocorrência]],"dddd")) -> terça-feira | E15: 2 | F15: =IF(FOcorrencias[[#This Row],[Matricula]]="","",VLOOKUP(FOcorrencias[[#This Row],[Matricula]],Cadastros!$P:$Q,2,0)) -> Funcionario 2 | G15: Atraso | H15: Indisciplina | J15: Não | K15: 00:45 | M15: {=INDEX('Jornada Prevista'!$H:$H,MATCH(1,('Jornada Prevista'!$B:$B=FOcorrencias[[#This Row],[Matricula]])*('Jornada Prevista'!$P:$P=FOcorrencias[[#This Row],[Mês/Ano]]),0))} -> Empresa Z | N15: {=INDEX('Jornada Prevista'!$I:$I,MATCH(1,('Jornada Prevista'!$B:$B=FOcorrencias[[#This Row],[Matricula]])*('Jornada Prevista'!$P:$P=FOcorrencias[[#This Row],[Mês/Ano]]),0))} -> Contabilidade | O15: {=INDEX('Jornada Prevista'!$J:$J,MATCH(1,('Jornada Prevista'!$B:$B=FOcorrencias[[#This Row],[Matricula]])*('Jornada Prevista'!$P:$P=FOcorrencias[[#This Row],[Mês/Ano]]),0))} -> Auxiliar Administrativo | P15: {=INDEX('Jornada Prevista'!$K:$K,MATCH(1,('Jornada Prevista'!$B:$B=FOcorrencias[[#This Row],[Matricula]])*('Jornada Prevista'!$P:$P=FOcorrencias[[#This Row],[Mês/Ano]]),0))} -> Turno C | Q15: {=INDEX('Jornada Prevista'!$L:$L,MATCH(1,('Jornada Prevista'!$B:$B=FOcorrencias[[#This Row],[Matricula]])*('Jornada Prevista'!$P:$P=FOcorrencias[[#This Row],[Mês/Ano]]),0))} -> 6x1 | R15: {=INDEX('Jornada Prevista'!$M:$M,MATCH(1,('Jornada Prevista'!$B:$B=FOcorrencias[[#This Row],[Matricula]])*('Jornada Prevista'!$P:$P=FOcorrencias[[#This Row],[Mês/Ano]]),0))} -> Estágio | S15: =SUMIFS('Jornada Prevista'!$G:$G,'Jornada Prevista'!$B:$B,FOcorrencias[[#This Row],[Matricula]],'Jornada Prevista'!$P:$P,FOcorrencias[[#This Row],[Mês/Ano]]) -> 184.8 | T15: =SUMIFS('Jornada Prevista'!$N:$N,'Jornada Prevista'!$B:$B,FOcorrencias[[#This Row],[Matricula]],'Jornada Prevista'!$P:$P,FOcorrencias[[#This Row],[Mês/Ano]]) -> 2386.89 | U15: =SUMIFS('Jornada Prevista'!$O:$O,'Jornada Prevista'!$B:$B,FOcorrencias[[#This Row],[Matricula]],'Jornada Prevista'!$P:$P,FOcorrencias[[#This Row],[Mês/Ano]]) -> 12.916071 | V15: =IF(FOcorrencias[[#This Row],[Data da Ocorrência]]="","",TEXT(FOcorrencias[[#This Row],[Data da Ocorrência]],"mm/aaaa")) -> 02/2025
B16: 13 | C16: 21/04/2025 | D16: =IF(FOcorrencias[[#This Row],[Data da Ocorrência]]="","",TEXT(FOcorrencias[[#This Row],[Data da Ocorrência]],"dddd")) -> segunda-feira | E16: 2 | F16: =IF(FOcorrencias[[#This Row],[Matricula]]="","",VLOOKUP(FOcorrencias[[#This Row],[Matricula]],Cadastros!$P:$Q,2,0)) -> Funcionario 2 | G16: Falta | H16: Falta de transporte | J16: Não | K16: 04:00 | L16: Saída autorizada pela coordenação. | M16: {=INDEX('Jornada Prevista'!$H:$H,MATCH(1,('Jornada Prevista'!$B:$B=FOcorrencias[[#This Row],[Matricula]])*('Jornada Prevista'!$P:$P=FOcorrencias[[#This Row],[Mês/Ano]]),0))} -> Empresa X | N16: {=INDEX('Jornada Prevista'!$I:$I,MATCH(1,('Jornada Prevista'!$B:$B=FOcorrencias[[#This Row],[Matricula]])*('Jornada Prevista'!$P:$P=FOcorrencias[[#This Row],[Mês/Ano]]),0))} -> TI | O16: {=INDEX('Jornada Prevista'!$J:$J,MATCH(1,('Jornada Prevista'!$B:$B=FOcorrencias[[#This Row],[Matricula]])*('Jornada Prevista'!$P:$P=FOcorrencias[[#This Row],[Mês/Ano]]),0))} -> Especialista | P16: {=INDEX('Jornada Prevista'!$K:$K,MATCH(1,('Jornada Prevista'!$B:$B=FOcorrencias[[#This Row],[Matricula]])*('Jornada Prevista'!$P:$P=FOcorrencias[[#This Row],[Mês/Ano]]),0))} -> Turno A | Q16: {=INDEX('Jornada Prevista'!$L:$L,MATCH(1,('Jornada Prevista'!$B:$B=FOcorrencias[[#This Row],[Matricula]])*('Jornada Prevista'!$P:$P=FOcorrencias[[#This Row],[Mês/Ano]]),0))} -> 6x1 | R16: {=INDEX('Jornada Prevista'!$M:$M,MATCH(1,('Jornada Prevista'!$B:$B=FOcorrencias[[#This Row],[Matricula]])*('Jornada Prevista'!$P:$P=FOcorrencias[[#This Row],[Mês/Ano]]),0))} -> PJ | S16: =SUMIFS('Jornada Prevista'!$G:$G,'Jornada Prevista'!$B:$B,FOcorrencias[[#This Row],[Matricula]],'Jornada Prevista'!$P:$P,FOcorrencias[[#This Row],[Mês/Ano]]) -> 184.8 | T16: =SUMIFS('Jornada Prevista'!$N:$N,'Jornada Prevista'!$B:$B,FOcorrencias[[#This Row],[Matricula]],'Jornada Prevista'!$P:$P,FOcorrencias[[#This Row],[Mês/Ano]]) -> 11336.74 | U16: =SUMIFS('Jornada Prevista'!$O:$O,'Jornada Prevista'!$B:$B,FOcorrencias[[#This Row],[Matricula]],'Jornada Prevista'!$P:$P,FOcorrencias[[#This Row],[Mês/Ano]]) -> 61.345996 | V16: =IF(FOcorrencias[[#This Row],[Data da Ocorrência]]="","",TEXT(FOcorrencias[[#This Row],[Data da Ocorrência]],"mm/aaaa")) -> 04/2025
B17: 14 | C17: 01/01/2025 | D17: =IF(FOcorrencias[[#This Row],[Data da Ocorrência]]="","",TEXT(FOcorrencias[[#This Row],[Data da Ocorrência]],"dddd")) -> quarta-feira | E17: 2 | F17: =IF(FOcorrencias[[#This Row],[Matricula]]="","",VLOOKUP(FOcorrencias[[#This Row],[Matricula]],Cadastros!$P:$Q,2,0)) -> Funcionario 2 | G17: Atraso | H17: Trânsito | J17: Sim | K17: 00:25 | M17: {=INDEX('Jornada Prevista'!$H:$H,MATCH(1,('Jornada Prevista'!$B:$B=FOcorrencias[[#This Row],[Matricula]])*('Jornada Prevista'!$P:$P=FOcorrencias[[#This Row],[Mês/Ano]]),0))} -> Empresa Y | N17: {=INDEX('Jornada Prevista'!$I:$I,MATCH(1,('Jornada Prevista'!$B:$B=FOcorrencias[[#This Row],[Matricula]])*('Jornada Prevista'!$P:$P=FOcorrencias[[#This Row],[Mês/Ano]]),0))} -> Operações | O17: {=INDEX('Jornada Prevista'!$J:$J,MATCH(1,('Jornada Prevista'!$B:$B=FOcorrencias[[#This Row],[Matricula]])*('Jornada Prevista'!$P:$P=FOcorrencias[[#This Row],[Mês/Ano]]),0))} -> Analista de Projetos | P17: {=INDEX('Jornada Prevista'!$K:$K,MATCH(1,('Jornada Prevista'!$B:$B=FOcorrencias[[#This Row],[Matricula]])*('Jornada Prevista'!$P:$P=FOcorrencias[[#This Row],[Mês/Ano]]),0))} -> Turno Folguista | Q17: {=INDEX('Jornada Prevista'!$L:$L,MATCH(1,('Jornada Prevista'!$B:$B=FOcorrencias[[#This Row],[Matricula]])*('Jornada Prevista'!$P:$P=FOcorrencias[[#This Row],[Mês/Ano]]),0))} -> 6x1 | R17: {=INDEX('Jornada Prevista'!$M:$M,MATCH(1,('Jornada Prevista'!$B:$B=FOcorrencias[[#This Row],[Matricula]])*('Jornada Prevista'!$P:$P=FOcorrencias[[#This Row],[Mês/Ano]]),0))} -> CLT | S17: =SUMIFS('Jornada Prevista'!$G:$G,'Jornada Prevista'!$B:$B,FOcorrencias[[#This Row],[Matricula]],'Jornada Prevista'!$P:$P,FOcorrencias[[#This Row],[Mês/Ano]]) -> 184.8 | T17: =SUMIFS('Jornada Prevista'!$N:$N,'Jornada Prevista'!$B:$B,FOcorrencias[[#This Row],[Matricula]],'Jornada Prevista'!$P:$P,FOcorrencias[[#This Row],[Mês/Ano]]) -> 11555.79 | U17: =SUMIFS('Jornada Prevista'!$O:$O,'Jornada Prevista'!$B:$B,FOcorrencias[[#This Row],[Matricula]],'Jornada Prevista'!$P:$P,FOcorrencias[[#This Row],[Mês/Ano]]) -> 62.531331 | V17: =IF(FOcorrencias[[#This Row],[Data da Ocorrência]]="","",TEXT(FOcorrencias[[#This Row],[Data da Ocorrência]],"mm/aaaa")) -> 01/2025
B18: 15 | C18: 25/10/2025 | D18: =IF(FOcorrencias[[#This Row],[Data da Ocorrência]]="","",TEXT(FOcorrencias[[#This Row],[Data da Ocorrência]],"dddd")) -> sábado | E18: 2 | F18: =IF(FOcorrencias[[#This Row],[Matricula]]="","",VLOOKUP(FOcorrencias[[#This Row],[Matricula]],Cadastros!$P:$Q,2,0)) -> Funcionario 2 | G18: Atraso | H18: Reunião externa | J18: Não | K18: 00:45 | M18: {=INDEX('Jornada Prevista'!$H:$H,MATCH(1,('Jornada Prevista'!$B:$B=FOcorrencias[[#This Row],[Matricula]])*('Jornada Prevista'!$P:$P=FOcorrencias[[#This Row],[Mês/Ano]]),0))} -> Empresa Z | N18: {=INDEX('Jornada Prevista'!$I:$I,MATCH(1,('Jornada Prevista'!$B:$B=FOcorrencias[[#This Row],[Matricula]])*('Jornada Prevista'!$P:$P=FOcorrencias[[#This Row],[Mês/Ano]]),0))} -> Marketing | O18: {=INDEX('Jornada Prevista'!$J:$J,MATCH(1,('Jornada Prevista'!$B:$B=FOcorrencias[[#This Row],[Matricula]])*('Jornada Prevista'!$P:$P=FOcorrencias[[#This Row],[Mês/Ano]]),0))} -> Operador | P18: {=INDEX('Jornada Prevista'!$K:$K,MATCH(1,('Jornada Prevista'!$B:$B=FOcorrencias[[#This Row],[Matricula]])*('Jornada Prevista'!$P:$P=FOcorrencias[[#This Row],[Mês/Ano]]),0))} -> Turno A | Q18: {=INDEX('Jornada Prevista'!$L:$L,MATCH(1,('Jornada Prevista'!$B:$B=FOcorrencias[[#This Row],[Matricula]])*('Jornada Prevista'!$P:$P=FOcorrencias[[#This Row],[Mês/Ano]]),0))} -> 12x36 | R18: {=INDEX('Jornada Prevista'!$M:$M,MATCH(1,('Jornada Prevista'!$B:$B=FOcorrencias[[#This Row],[Matricula]])*('Jornada Prevista'!$P:$P=FOcorrencias[[#This Row],[Mês/Ano]]),0))} -> Estágio | S18: =SUMIFS('Jornada Prevista'!$G:$G,'Jornada Prevista'!$B:$B,FOcorrencias[[#This Row],[Matricula]],'Jornada Prevista'!$P:$P,FOcorrencias[[#This Row],[Mês/Ano]]) -> 184.8 | T18: =SUMIFS('Jornada Prevista'!$N:$N,'Jornada Prevista'!$B:$B,FOcorrencias[[#This Row],[Matricula]],'Jornada Prevista'!$P:$P,FOcorrencias[[#This Row],[Mês/Ano]]) -> 8771.52 | U18: =SUMIFS('Jornada Prevista'!$O:$O,'Jornada Prevista'!$B:$B,FOcorrencias[[#This Row],[Matricula]],'Jornada Prevista'!$P:$P,FOcorrencias[[#This Row],[Mês/Ano]]) -> 47.464935 | V18: =IF(FOcorrencias[[#This Row],[Data da Ocorrência]]="","",TEXT(FOcorrencias[[#This Row],[Data da Ocorrência]],"mm/aaaa")) -> 10/2025
B19: 16 | C19: 23/03/2025 | D19: =IF(FOcorrencias[[#This Row],[Data da Ocorrência]]="","",TEXT(FOcorrencias[[#This Row],[Data da Ocorrência]],"dddd")) -> domingo | E19: 2 | F19: =IF(FOcorrencias[[#This Row],[Matricula]]="","",VLOOKUP(FOcorrencias[[#This Row],[Matricula]],Cadastros!$P:$Q,2,0)) -> Funcionario 2 | G19: Falta | H19: Consulta médica | I19: F32 | J19: Sim | K19: 08:00 | M19: {=INDEX('Jornada Prevista'!$H:$H,MATCH(1,('Jornada Prevista'!$B:$B=FOcorrencias[[#This Row],[Matricula]])*('Jornada Prevista'!$P:$P=FOcorrencias[[#This Row],[Mês/Ano]]),0))} -> Empresa X | N19: {=INDEX('Jornada Prevista'!$I:$I,MATCH(1,('Jornada Prevista'!$B:$B=FOcorrencias[[#This Row],[Matricula]])*('Jornada Prevista'!$P:$P=FOcorrencias[[#This Row],[Mês/Ano]]),0))} -> Recursos Humanos | O19: {=INDEX('Jornada Prevista'!$J:$J,MATCH(1,('Jornada Prevista'!$B:$B=FOcorrencias[[#This Row],[Matricula]])*('Jornada Prevista'!$P:$P=FOcorrencias[[#This Row],[Mês/Ano]]),0))} -> Auxiliar | P19: {=INDEX('Jornada Prevista'!$K:$K,MATCH(1,('Jornada Prevista'!$B:$B=FOcorrencias[[#This Row],[Matricula]])*('Jornada Prevista'!$P:$P=FOcorrencias[[#This Row],[Mês/Ano]]),0))} -> Turno B | Q19: {=INDEX('Jornada Prevista'!$L:$L,MATCH(1,('Jornada Prevista'!$B:$B=FOcorrencias[[#This Row],[Matricula]])*('Jornada Prevista'!$P:$P=FOcorrencias[[#This Row],[Mês/Ano]]),0))} -> 12x36 | R19: {=INDEX('Jornada Prevista'!$M:$M,MATCH(1,('Jornada Prevista'!$B:$B=FOcorrencias[[#This Row],[Matricula]])*('Jornada Prevista'!$P:$P=FOcorrencias[[#This Row],[Mês/Ano]]),0))} -> Estágio | S19: =SUMIFS('Jornada Prevista'!$G:$G,'Jornada Prevista'!$B:$B,FOcorrencias[[#This Row],[Matricula]],'Jornada Prevista'!$P:$P,FOcorrencias[[#This Row],[Mês/Ano]]) -> 184.8 | T19: =SUMIFS('Jornada Prevista'!$N:$N,'Jornada Prevista'!$B:$B,FOcorrencias[[#This Row],[Matricula]],'Jornada Prevista'!$P:$P,FOcorrencias[[#This Row],[Mês/Ano]]) -> 2303.92 | U19: =SUMIFS('Jornada Prevista'!$O:$O,'Jornada Prevista'!$B:$B,FOcorrencias[[#This Row],[Matricula]],'Jornada Prevista'!$P:$P,FOcorrencias[[#This Row],[Mês/Ano]]) -> 12.4671 | V19: =IF(FOcorrencias[[#This Row],[Data da Ocorrência]]="","",TEXT(FOcorrencias[[#This Row],[Data da Ocorrência]],"mm/aaaa")) -> 03/2025
B20: 17 | C20: 26/07/2025 | D20: =IF(FOcorrencias[[#This Row],[Data da Ocorrência]]="","",TEXT(FOcorrencias[[#This Row],[Data da Ocorrência]],"dddd")) -> sábado | E20: 2 | F20: =IF(FOcorrencias[[#This Row],[Matricula]]="","",VLOOKUP(FOcorrencias[[#This Row],[Matricula]],Cadastros!$P:$Q,2,0)) -> Funcionario 2 | G20: Falta | H20: Falta de transporte | J20: Sim | K20: 04:00 | M20: {=INDEX('Jornada Prevista'!$H:$H,MATCH(1,('Jornada Prevista'!$B:$B=FOcorrencias[[#This Row],[Matricula]])*('Jornada Prevista'!$P:$P=FOcorrencias[[#This Row],[Mês/Ano]]),0))} -> Empresa Z | N20: {=INDEX('Jornada Prevista'!$I:$I,MATCH(1,('Jornada Prevista'!$B:$B=FOcorrencias[[#This Row],[Matricula]])*('Jornada Prevista'!$P:$P=FOcorrencias[[#This Row],[Mês/Ano]]),0))} -> Atendimento | O20: {=INDEX('Jornada Prevista'!$J:$J,MATCH(1,('Jornada Prevista'!$B:$B=FOcorrencias[[#This Row],[Matricula]])*('Jornada Prevista'!$P:$P=FOcorrencias[[#This Row],[Mês/Ano]]),0))} -> Analista | P20: {=INDEX('Jornada Prevista'!$K:$K,MATCH(1,('Jornada Prevista'!$B:$B=FOcorrencias[[#This Row],[Matricula]])*('Jornada Prevista'!$P:$P=FOcorrencias[[#This Row],[Mês/Ano]]),0))} -> Turno C | Q20: {=INDEX('Jornada Prevista'!$L:$L,MATCH(1,('Jornada Prevista'!$B:$B=FOcorrencias[[#This Row],[Matricula]])*('Jornada Prevista'!$P:$P=FOcorrencias[[#This Row],[Mês/Ano]]),0))} -> 12x36 | R20: {=INDEX('Jornada Prevista'!$M:$M,MATCH(1,('Jornada Prevista'!$B:$B=FOcorrencias[[#This Row],[Matricula]])*('Jornada Prevista'!$P:$P=FOcorrencias[[#This Row],[Mês/Ano]]),0))} -> CLT | S20: =SUMIFS('Jornada Prevista'!$G:$G,'Jornada Prevista'!$B:$B,FOcorrencias[[#This Row],[Matricula]],'Jornada Prevista'!$P:$P,FOcorrencias[[#This Row],[Mês/Ano]]) -> 184.8 | T20: =SUMIFS('Jornada Prevista'!$N:$N,'Jornada Prevista'!$B:$B,FOcorrencias[[#This Row],[Matricula]],'Jornada Prevista'!$P:$P,FOcorrencias[[#This Row],[Mês/Ano]]) -> 6201.03 | U20: =SUMIFS('Jornada Prevista'!$O:$O,'Jornada Prevista'!$B:$B,FOcorrencias[[#This Row],[Matricula]],'Jornada Prevista'!$P:$P,FOcorrencias[[#This Row],[Mês/Ano]]) -> 33.555357 | V20: =IF(FOcorrencias[[#This Row],[Data da Ocorrência]]="","",TEXT(FOcorrencias[[#This Row],[Data da Ocorrência]],"mm/aaaa")) -> 07/2025
B21: 18 | C21: 04/04/2025 | D21: =IF(FOcorrencias[[#This Row],[Data da Ocorrência]]="","",TEXT(FOcorrencias[[#This Row],[Data da Ocorrência]],"dddd")) -> sexta-feira | E21: 2 | F21: =IF(FOcorrencias[[#This Row],[Matricula]]="","",VLOOKUP(FOcorrencias[[#This Row],[Matricula]],Cadastros!$P:$Q,2,0)) -> Funcionario 2 | G21: Atraso | H21: Compromisso familiar | J21: Não | K21: 00:45 | L21: Funcionário apresentou atestado. | M21: {=INDEX('Jornada Prevista'!$H:$H,MATCH(1,('Jornada Prevista'!$B:$B=FOcorrencias[[#This Row],[Matricula]])*('Jornada Prevista'!$P:$P=FOcorrencias[[#This Row],[Mês/Ano]]),0))} -> Empresa X | N21: {=INDEX('Jornada Prevista'!$I:$I,MATCH(1,('Jornada Prevista'!$B:$B=FOcorrencias[[#This Row],[Matricula]])*('Jornada Prevista'!$P:$P=FOcorrencias[[#This Row],[Mês/Ano]]),0))} -> TI | O21: {=INDEX('Jornada Prevista'!$J:$J,MATCH(1,('Jornada Prevista'!$B:$B=FOcorrencias[[#This Row],[Matricula]])*('Jornada Prevista'!$P:$P=FOcorrencias[[#This Row],[Mês/Ano]]),0))} -> Especialista | P21: {=INDEX('Jornada Prevista'!$K:$K,MATCH(1,('Jornada Prevista'!$B:$B=FOcorrencias[[#This Row],[Matricula]])*('Jornada Prevista'!$P:$P=FOcorrencias[[#This Row],[Mês/Ano]]),0))} -> Turno A | Q21: {=INDEX('Jornada Prevista'!$L:$L,MATCH(1,('Jornada Prevista'!$B:$B=FOcorrencias[[#This Row],[Matricula]])*('Jornada Prevista'!$P:$P=FOcorrencias[[#This Row],[Mês/Ano]]),0))} -> 6x1 | R21: {=INDEX('Jornada Prevista'!$M:$M,MATCH(1,('Jornada Prevista'!$B:$B=FOcorrencias[[#This Row],[Matricula]])*('Jornada Prevista'!$P:$P=FOcorrencias[[#This Row],[Mês/Ano]]),0))} -> PJ | S21: =SUMIFS('Jornada Prevista'!$G:$G,'Jornada Prevista'!$B:$B,FOcorrencias[[#This Row],[Matricula]],'Jornada Prevista'!$P:$P,FOcorrencias[[#This Row],[Mês/Ano]]) -> 184.8 | T21: =SUMIFS('Jornada Prevista'!$N:$N,'Jornada Prevista'!$B:$B,FOcorrencias[[#This Row],[Matricula]],'Jornada Prevista'!$P:$P,FOcorrencias[[#This Row],[Mês/Ano]]) -> 11336.74 | U21: =SUMIFS('Jornada Prevista'!$O:$O,'Jornada Prevista'!$B:$B,FOcorrencias[[#This Row],[Matricula]],'Jornada Prevista'!$P:$P,FOcorrencias[[#This Row],[Mês/Ano]]) -> 61.345996 | V21: =IF(FOcorrencias[[#This Row],[Data da Ocorrência]]="","",TEXT(FOcorrencias[[#This Row],[Data da Ocorrência]],"mm/aaaa")) -> 04/2025
B22: 19 | C22: 18/07/2025 | D22: =IF(FOcorrencias[[#This Row],[Data da Ocorrência]]="","",TEXT(FOcorrencias[[#This Row],[Data da Ocorrência]],"dddd")) -> sexta-feira | E22: 2 | F22: =IF(FOcorrencias[[#This Row],[Matricula]]="","",VLOOKUP(FOcorrencias[[#This Row],[Matricula]],Cadastros!$P:$Q,2,0)) -> Funcionario 2 | G22: Atraso | H22: Reunião externa | I22: J06 | J22: Não | K22: 00:05 | M22: {=INDEX('Jornada Prevista'!$H:$H,MATCH(1,('Jornada Prevista'!$B:$B=FOcorrencias[[#This Row],[Matricula]])*('Jornada Prevista'!$P:$P=FOcorrencias[[#This Row],[Mês/Ano]]),0))} -> Empresa Z | N22: {=INDEX('Jornada Prevista'!$I:$I,MATCH(1,('Jornada Prevista'!$B:$B=FOcorrencias[[#This Row],[Matricula]])*('Jornada Prevista'!$P:$P=FOcorrencias[[#This Row],[Mês/Ano]]),0))} -> Atendimento | O22: {=INDEX('Jornada Prevista'!$J:$J,MATCH(1,('Jornada Prevista'!$B:$B=FOcorrencias[[#This Row],[Matricula]])*('Jornada Prevista'!$P:$P=FOcorrencias[[#This Row],[Mês/Ano]]),0))} -> Analista | P22: {=INDEX('Jornada Prevista'!$K:$K,MATCH(1,('Jornada Prevista'!$B:$B=FOcorrencias[[#This Row],[Matricula]])*('Jornada Prevista'!$P:$P=FOcorrencias[[#This Row],[Mês/Ano]]),0))} -> Turno C | Q22: {=INDEX('Jornada Prevista'!$L:$L,MATCH(1,('Jornada Prevista'!$B:$B=FOcorrencias[[#This Row],[Matricula]])*('Jornada Prevista'!$P:$P=FOcorrencias[[#This Row],[Mês/Ano]]),0))} -> 12x36 | R22: {=INDEX('Jornada Prevista'!$M:$M,MATCH(1,('Jornada Prevista'!$B:$B=FOcorrencias[[#This Row],[Matricula]])*('Jornada Prevista'!$P:$P=FOcorrencias[[#This Row],[Mês/Ano]]),0))} -> CLT | S22: =SUMIFS('Jornada Prevista'!$G:$G,'Jornada Prevista'!$B:$B,FOcorrencias[[#This Row],[Matricula]],'Jornada Prevista'!$P:$P,FOcorrencias[[#This Row],[Mês/Ano]]) -> 184.8 | T22: =SUMIFS('Jornada Prevista'!$N:$N,'Jornada Prevista'!$B:$B,FOcorrencias[[#This Row],[Matricula]],'Jornada Prevista'!$P:$P,FOcorrencias[[#This Row],[Mês/Ano]]) -> 6201.03 | U22: =SUMIFS('Jornada Prevista'!$O:$O,'Jornada Prevista'!$B:$B,FOcorrencias[[#This Row],[Matricula]],'Jornada Prevista'!$P:$P,FOcorrencias[[#This Row],[Mês/Ano]]) -> 33.555357 | V22: =IF(FOcorrencias[[#This Row],[Data da Ocorrência]]="","",TEXT(FOcorrencias[[#This Row],[Data da Ocorrência]],"mm/aaaa")) -> 07/2025
B23: 20 | C23: 25/11/2025 | D23: =IF(FOcorrencias[[#This Row],[Data da Ocorrência]]="","",TEXT(FOcorrencias[[#This Row],[Data da Ocorrência]],"dddd")) -> terça-feira | E23: 2 | F23: =IF(FOcorrencias[[#This Row],[Matricula]]="","",VLOOKUP(FOcorrencias[[#This Row],[Matricula]],Cadastros!$P:$Q,2,0)) -> Funcionario 2 | G23: Atitude disciplinar | H23: Compromisso familiar | I23: Z00 | J23: Não | K23: 02:00 | M23: {=INDEX('Jornada Prevista'!$H:$H,MATCH(1,('Jornada Prevista'!$B:$B=FOcorrencias[[#This Row],[Matricula]])*('Jornada Prevista'!$P:$P=FOcorrencias[[#This Row],[Mês/Ano]]),0))} -> Empresa X | N23: {=INDEX('Jornada Prevista'!$I:$I,MATCH(1,('Jornada Prevista'!$B:$B=FOcorrencias[[#This Row],[Matricula]])*('Jornada Prevista'!$P:$P=FOcorrencias[[#This Row],[Mês/Ano]]),0))} -> Contabilidade | O23: {=INDEX('Jornada Prevista'!$J:$J,MATCH(1,('Jornada Prevista'!$B:$B=FOcorrencias[[#This Row],[Matricula]])*('Jornada Prevista'!$P:$P=FOcorrencias[[#This Row],[Mês/Ano]]),0))} -> Auxiliar Administrativo | P23: {=INDEX('Jornada Prevista'!$K:$K,MATCH(1,('Jornada Prevista'!$B:$B=FOcorrencias[[#This Row],[Matricula]])*('Jornada Prevista'!$P:$P=FOcorrencias[[#This Row],[Mês/Ano]]),0))} -> Turno C | Q23: {=INDEX('Jornada Prevista'!$L:$L,MATCH(1,('Jornada Prevista'!$B:$B=FOcorrencias[[#This Row],[Matricula]])*('Jornada Prevista'!$P:$P=FOcorrencias[[#This Row],[Mês/Ano]]),0))} -> 6x1 | R23: {=INDEX('Jornada Prevista'!$M:$M,MATCH(1,('Jornada Prevista'!$B:$B=FOcorrencias[[#This Row],[Matricula]])*('Jornada Prevista'!$P:$P=FOcorrencias[[#This Row],[Mês/Ano]]),0))} -> PJ | S23: =SUMIFS('Jornada Prevista'!$G:$G,'Jornada Prevista'!$B:$B,FOcorrencias[[#This Row],[Matricula]],'Jornada Prevista'!$P:$P,FOcorrencias[[#This Row],[Mês/Ano]]) -> 184.8 | T23: =SUMIFS('Jornada Prevista'!$N:$N,'Jornada Prevista'!$B:$B,FOcorrencias[[#This Row],[Matricula]],'Jornada Prevista'!$P:$P,FOcorrencias[[#This Row],[Mês/Ano]]) -> 10231 | U23: =SUMIFS('Jornada Prevista'!$O:$O,'Jornada Prevista'!$B:$B,FOcorrencias[[#This Row],[Matricula]],'Jornada Prevista'!$P:$P,FOcorrencias[[#This Row],[Mês/Ano]]) -> 55.362554 | V23: =IF(FOcorrencias[[#This Row],[Data da Ocorrência]]="","",TEXT(FOcorrencias[[#This Row],[Data da Ocorrência]],"mm/aaaa")) -> 11/2025
B24: 21 | C24: 08/03/2025 | D24: =IF(FOcorrencias[[#This Row],[Data da Ocorrência]]="","",TEXT(FOcorrencias[[#This Row],[Data da Ocorrência]],"dddd")) -> sábado | E24: 2 | F24: =IF(FOcorrencias[[#This Row],[Matricula]]="","",VLOOKUP(FOcorrencias[[#This Row],[Matricula]],Cadastros!$P:$Q,2,0)) -> Funcionario 2 | G24: Falta | H24: Trânsito | J24: Não | K24: 08:48 | L24: Saída autorizada pela coordenação. | M24: {=INDEX('Jornada Prevista'!$H:$H,MATCH(1,('Jornada Prevista'!$B:$B=FOcorrencias[[#This Row],[Matricula]])*('Jornada Prevista'!$P:$P=FOcorrencias[[#This Row],[Mês/Ano]]),0))} -> Empresa X | N24: {=INDEX('Jornada Prevista'!$I:$I,MATCH(1,('Jornada Prevista'!$B:$B=FOcorrencias[[#This Row],[Matricula]])*('Jornada Prevista'!$P:$P=FOcorrencias[[#This Row],[Mês/Ano]]),0))} -> Recursos Humanos | O24: {=INDEX('Jornada Prevista'!$J:$J,MATCH(1,('Jornada Prevista'!$B:$B=FOcorrencias[[#This Row],[Matricula]])*('Jornada Prevista'!$P:$P=FOcorrencias[[#This Row],[Mês/Ano]]),0))} -> Auxiliar | P24: {=INDEX('Jornada Prevista'!$K:$K,MATCH(1,('Jornada Prevista'!$B:$B=FOcorrencias[[#This Row],[Matricula]])*('Jornada Prevista'!$P:$P=FOcorrencias[[#This Row],[Mês/Ano]]),0))} -> Turno B | Q24: {=INDEX('Jornada Prevista'!$L:$L,MATCH(1,('Jornada Prevista'!$B:$B=FOcorrencias[[#This Row],[Matricula]])*('Jornada Prevista'!$P:$P=FOcorrencias[[#This Row],[Mês/Ano]]),0))} -> 12x36 | R24: {=INDEX('Jornada Prevista'!$M:$M,MATCH(1,('Jornada Prevista'!$B:$B=FOcorrencias[[#This Row],[Matricula]])*('Jornada Prevista'!$P:$P=FOcorrencias[[#This Row],[Mês/Ano]]),0))} -> Estágio | S24: =SUMIFS('Jornada Prevista'!$G:$G,'Jornada Prevista'!$B:$B,FOcorrencias[[#This Row],[Matricula]],'Jornada Prevista'!$P:$P,FOcorrencias[[#This Row],[Mês/Ano]]) -> 184.8 | T24: =SUMIFS('Jornada Prevista'!$N:$N,'Jornada Prevista'!$B:$B,FOcorrencias[[#This Row],[Matricula]],'Jornada Prevista'!$P:$P,FOcorrencias[[#This Row],[Mês/Ano]]) -> 2303.92 | U24: =SUMIFS('Jornada Prevista'!$O:$O,'Jornada Prevista'!$B:$B,FOcorrencias[[#This Row],[Matricula]],'Jornada Prevista'!$P:$P,FOcorrencias[[#This Row],[Mês/Ano]]) -> 12.4671 | V24: =IF(FOcorrencias[[#This Row],[Data da Ocorrência]]="","",TEXT(FOcorrencias[[#This Row],[Data da Ocorrência]],"mm/aaaa")) -> 03/2025
B25: 22 | C25: 19/09/2025 | D25: =IF(FOcorrencias[[#This Row],[Data da Ocorrência]]="","",TEXT(FOcorrencias[[#This Row],[Data da Ocorrência]],"dddd")) -> sexta-feira | E25: 2 | F25: =IF(FOcorrencias[[#This Row],[Matricula]]="","",VLOOKUP(FOcorrencias[[#This Row],[Matricula]],Cadastros!$P:$Q,2,0)) -> Funcionario 2 | G25: Falta | H25: Falta de transporte | J25: Sim | K25: 04:00 | M25: {=INDEX('Jornada Prevista'!$H:$H,MATCH(1,('Jornada Prevista'!$B:$B=FOcorrencias[[#This Row],[Matricula]])*('Jornada Prevista'!$P:$P=FOcorrencias[[#This Row],[Mês/Ano]]),0))} -> Empresa X | N25: {=INDEX('Jornada Prevista'!$I:$I,MATCH(1,('Jornada Prevista'!$B:$B=FOcorrencias[[#This Row],[Matricula]])*('Jornada Prevista'!$P:$P=FOcorrencias[[#This Row],[Mês/Ano]]),0))} -> Financeiro | O25: {=INDEX('Jornada Prevista'!$J:$J,MATCH(1,('Jornada Prevista'!$B:$B=FOcorrencias[[#This Row],[Matricula]])*('Jornada Prevista'!$P:$P=FOcorrencias[[#This Row],[Mês/Ano]]),0))} -> Engenheiro | P25: {=INDEX('Jornada Prevista'!$K:$K,MATCH(1,('Jornada Prevista'!$B:$B=FOcorrencias[[#This Row],[Matricula]])*('Jornada Prevista'!$P:$P=FOcorrencias[[#This Row],[Mês/Ano]]),0))} -> Turno D | Q25: {=INDEX('Jornada Prevista'!$L:$L,MATCH(1,('Jornada Prevista'!$B:$B=FOcorrencias[[#This Row],[Matricula]])*('Jornada Prevista'!$P:$P=FOcorrencias[[#This Row],[Mês/Ano]]),0))} -> 5x1 | R25: {=INDEX('Jornada Prevista'!$M:$M,MATCH(1,('Jornada Prevista'!$B:$B=FOcorrencias[[#This Row],[Matricula]])*('Jornada Prevista'!$P:$P=FOcorrencias[[#This Row],[Mês/Ano]]),0))} -> Estágio | S25: =SUMIFS('Jornada Prevista'!$G:$G,'Jornada Prevista'!$B:$B,FOcorrencias[[#This Row],[Matricula]],'Jornada Prevista'!$P:$P,FOcorrencias[[#This Row],[Mês/Ano]]) -> 184.8 | T25: =SUMIFS('Jornada Prevista'!$N:$N,'Jornada Prevista'!$B:$B,FOcorrencias[[#This Row],[Matricula]],'Jornada Prevista'!$P:$P,FOcorrencias[[#This Row],[Mês/Ano]]) -> 8720.85 | U25: =SUMIFS('Jornada Prevista'!$O:$O,'Jornada Prevista'!$B:$B,FOcorrencias[[#This Row],[Matricula]],'Jornada Prevista'!$P:$P,FOcorrencias[[#This Row],[Mês/Ano]]) -> 47.190747 | V25: =IF(FOcorrencias[[#This Row],[Data da Ocorrência]]="","",TEXT(FOcorrencias[[#This Row],[Data da Ocorrência]],"mm/aaaa")) -> 09/2025
B26: 23 | C26: 20/09/2025 | D26: =IF(FOcorrencias[[#This Row],[Data da Ocorrência]]="","",TEXT(FOcorrencias[[#This Row],[Data da Ocorrência]],"dddd")) -> sábado | E26: 3 | F26: =IF(FOcorrencias[[#This Row],[Matricula]]="","",VLOOKUP(FOcorrencias[[#This Row],[Matricula]],Cadastros!$P:$Q,2,0)) -> Funcionario 3 | G26: Falta | H26: Motivo não informado | I26: F32 | J26: Não | K26: 08:00 | L26: Reincidência de atraso no mês. | M26: {=INDEX('Jornada Prevista'!$H:$H,MATCH(1,('Jornada Prevista'!$B:$B=FOcorrencias[[#This Row],[Matricula]])*('Jornada Prevista'!$P:$P=FOcorrencias[[#This Row],[Mês/Ano]]),0))} -> Empresa X | N26: {=INDEX('Jornada Prevista'!$I:$I,MATCH(1,('Jornada Prevista'!$B:$B=FOcorrencias[[#This Row],[Matricula]])*('Jornada Prevista'!$P:$P=FOcorrencias[[#This Row],[Mês/Ano]]),0))} -> Vendas | O26: {=INDEX('Jornada Prevista'!$J:$J,MATCH(1,('Jornada Prevista'!$B:$B=FOcorrencias[[#This Row],[Matricula]])*('Jornada Prevista'!$P:$P=FOcorrencias[[#This Row],[Mês/Ano]]),0))} -> Administrador | P26: {=INDEX('Jornada Prevista'!$K:$K,MATCH(1,('Jornada Prevista'!$B:$B=FOcorrencias[[#This Row],[Matricula]])*('Jornada Prevista'!$P:$P=FOcorrencias[[#This Row],[Mês/Ano]]),0))} -> Turno B | Q26: {=INDEX('Jornada Prevista'!$L:$L,MATCH(1,('Jornada Prevista'!$B:$B=FOcorrencias[[#This Row],[Matricula]])*('Jornada Prevista'!$P:$P=FOcorrencias[[#This Row],[Mês/Ano]]),0))} -> 5x1 | R26: {=INDEX('Jornada Prevista'!$M:$M,MATCH(1,('Jornada Prevista'!$B:$B=FOcorrencias[[#This Row],[Matricula]])*('Jornada Prevista'!$P:$P=FOcorrencias[[#This Row],[Mês/Ano]]),0))} -> Estágio | S26: =SUMIFS('Jornada Prevista'!$G:$G,'Jornada Prevista'!$B:$B,FOcorrencias[[#This Row],[Matricula]],'Jornada Prevista'!$P:$P,FOcorrencias[[#This Row],[Mês/Ano]]) -> 184.8 | T26: =SUMIFS('Jornada Prevista'!$N:$N,'Jornada Prevista'!$B:$B,FOcorrencias[[#This Row],[Matricula]],'Jornada Prevista'!$P:$P,FOcorrencias[[#This Row],[Mês/Ano]]) -> 3148.44 | U26: =SUMIFS('Jornada Prevista'!$O:$O,'Jornada Prevista'!$B:$B,FOcorrencias[[#This Row],[Matricula]],'Jornada Prevista'!$P:$P,FOcorrencias[[#This Row],[Mês/Ano]]) -> 17.037013 | V26: =IF(FOcorrencias[[#This Row],[Data da Ocorrência]]="","",TEXT(FOcorrencias[[#This Row],[Data da Ocorrência]],"mm/aaaa")) -> 09/2025
B27: 24 | C27: 09/11/2025 | D27: =IF(FOcorrencias[[#This Row],[Data da Ocorrência]]="","",TEXT(FOcorrencias[[#This Row],[Data da Ocorrência]],"dddd")) -> domingo | E27: 3 | F27: =IF(FOcorrencias[[#This Row],[Matricula]]="","",VLOOKUP(FOcorrencias[[#This Row],[Matricula]],Cadastros!$P:$Q,2,0)) -> Funcionario 3 | G27: Atitude disciplinar | H27: Trânsito | J27: Não | K27: 08:00 | M27: {=INDEX('Jornada Prevista'!$H:$H,MATCH(1,('Jornada Prevista'!$B:$B=FOcorrencias[[#This Row],[Matricula]])*('Jornada Prevista'!$P:$P=FOcorrencias[[#This Row],[Mês/Ano]]),0))} -> Empresa Y | N27: {=INDEX('Jornada Prevista'!$I:$I,MATCH(1,('Jornada Prevista'!$B:$B=FOcorrencias[[#This Row],[Matricula]])*('Jornada Prevista'!$P:$P=FOcorrencias[[#This Row],[Mês/Ano]]),0))} -> Qualidade | O27: {=INDEX('Jornada Prevista'!$J:$J,MATCH(1,('Jornada Prevista'!$B:$B=FOcorrencias[[#This Row],[Matricula]])*('Jornada Prevista'!$P:$P=FOcorrencias[[#This Row],[Mês/Ano]]),0))} -> Assistente | P27: {=INDEX('Jornada Prevista'!$K:$K,MATCH(1,('Jornada Prevista'!$B:$B=FOcorrencias[[#This Row],[Matricula]])*('Jornada Prevista'!$P:$P=FOcorrencias[[#This Row],[Mês/Ano]]),0))} -> Turno D | Q27: {=INDEX('Jornada Prevista'!$L:$L,MATCH(1,('Jornada Prevista'!$B:$B=FOcorrencias[[#This Row],[Matricula]])*('Jornada Prevista'!$P:$P=FOcorrencias[[#This Row],[Mês/Ano]]),0))} -> 12x36 | R27: {=INDEX('Jornada Prevista'!$M:$M,MATCH(1,('Jornada Prevista'!$B:$B=FOcorrencias[[#This Row],[Matricula]])*('Jornada Prevista'!$P:$P=FOcorrencias[[#This Row],[Mês/Ano]]),0))} -> CLT | S27: =SUMIFS('Jornada Prevista'!$G:$G,'Jornada Prevista'!$B:$B,FOcorrencias[[#This Row],[Matricula]],'Jornada Prevista'!$P:$P,FOcorrencias[[#This Row],[Mês/Ano]]) -> 184.8 | T27: =SUMIFS('Jornada Prevista'!$N:$N,'Jornada Prevista'!$B:$B,FOcorrencias[[#This Row],[Matricula]],'Jornada Prevista'!$P:$P,FOcorrencias[[#This Row],[Mês/Ano]]) -> 6323.62 | U27: =SUMIFS('Jornada Prevista'!$O:$O,'Jornada Prevista'!$B:$B,FOcorrencias[[#This Row],[Matricula]],'Jornada Prevista'!$P:$P,FOcorrencias[[#This Row],[Mês/Ano]]) -> 34.218723 | V27: =IF(FOcorrencias[[#This Row],[Data da Ocorrência]]="","",TEXT(FOcorrencias[[#This Row],[Data da Ocorrência]],"mm/aaaa")) -> 11/2025
B28: 25 | C28: 21/11/2025 | D28: =IF(FOcorrencias[[#This Row],[Data da Ocorrência]]="","",TEXT(FOcorrencias[[#This Row],[Data da Ocorrência]],"dddd")) -> sexta-feira | E28: 3 | F28: =IF(FOcorrencias[[#This Row],[Matricula]]="","",VLOOKUP(FOcorrencias[[#This Row],[Matricula]],Cadastros!$P:$Q,2,0)) -> Funcionario 3 | G28: Atitude disciplinar | H28: Compromisso familiar | J28: Sim | K28: 08:00 | M28: {=INDEX('Jornada Prevista'!$H:$H,MATCH(1,('Jornada Prevista'!$B:$B=FOcorrencias[[#This Row],[Matricula]])*('Jornada Prevista'!$P:$P=FOcorrencias[[#This Row],[Mês/Ano]]),0))} -> Empresa Y | N28: {=INDEX('Jornada Prevista'!$I:$I,MATCH(1,('Jornada Prevista'!$B:$B=FOcorrencias[[#This Row],[Matricula]])*('Jornada Prevista'!$P:$P=FOcorrencias[[#This Row],[Mês/Ano]]),0))} -> Qualidade | O28: {=INDEX('Jornada Prevista'!$J:$J,MATCH(1,('Jornada Prevista'!$B:$B=FOcorrencias[[#This Row],[Matricula]])*('Jornada Prevista'!$P:$P=FOcorrencias[[#This Row],[Mês/Ano]]),0))} -> Assistente | P28: {=INDEX('Jornada Prevista'!$K:$K,MATCH(1,('Jornada Prevista'!$B:$B=FOcorrencias[[#This Row],[Matricula]])*('Jornada Prevista'!$P:$P=FOcorrencias[[#This Row],[Mês/Ano]]),0))} -> Turno D | Q28: {=INDEX('Jornada Prevista'!$L:$L,MATCH(1,('Jornada Prevista'!$B:$B=FOcorrencias[[#This Row],[Matricula]])*('Jornada Prevista'!$P:$P=FOcorrencias[[#This Row],[Mês/Ano]]),0))} -> 12x36 | R28: {=INDEX('Jornada Prevista'!$M:$M,MATCH(1,('Jornada Prevista'!$B:$B=FOcorrencias[[#This Row],[Matricula]])*('Jornada Prevista'!$P:$P=FOcorrencias[[#This Row],[Mês/Ano]]),0))} -> CLT | S28: =SUMIFS('Jornada Prevista'!$G:$G,'Jornada Prevista'!$B:$B,FOcorrencias[[#This Row],[Matricula]],'Jornada Prevista'!$P:$P,FOcorrencias[[#This Row],[Mês/Ano]]) -> 184.8 | T28: =SUMIFS('Jornada Prevista'!$N:$N,'Jornada Prevista'!$B:$B,FOcorrencias[[#This Row],[Matricula]],'Jornada Prevista'!$P:$P,FOcorrencias[[#This Row],[Mês/Ano]]) -> 6323.62 | U28: =SUMIFS('Jornada Prevista'!$O:$O,'Jornada Prevista'!$B:$B,FOcorrencias[[#This Row],[Matricula]],'Jornada Prevista'!$P:$P,FOcorrencias[[#This Row],[Mês/Ano]]) -> 34.218723 | V28: =IF(FOcorrencias[[#This Row],[Data da Ocorrência]]="","",TEXT(FOcorrencias[[#This Row],[Data da Ocorrência]],"mm/aaaa")) -> 11/2025
B29: 26 | C29: 12/12/2025 | D29: =IF(FOcorrencias[[#This Row],[Data da Ocorrência]]="","",TEXT(FOcorrencias[[#This Row],[Data da Ocorrência]],"dddd")) -> sexta-feira | E29: 3 | F29: =IF(FOcorrencias[[#This Row],[Matricula]]="","",VLOOKUP(FOcorrencias[[#This Row],[Matricula]],Cadastros!$P:$Q,2,0)) -> Funcionario 3 | G29: Saída Antecipada | H29: Reunião externa | J29: Sim | K29: 00:45 | L29: Funcionário apresentou atestado. | M29: {=INDEX('Jornada Prevista'!$H:$H,MATCH(1,('Jornada Prevista'!$B:$B=FOcorrencias[[#This Row],[Matricula]])*('Jornada Prevista'!$P:$P=FOcorrencias[[#This Row],[Mês/Ano]]),0))} -> Empresa Z | N29: {=INDEX('Jornada Prevista'!$I:$I,MATCH(1,('Jornada Prevista'!$B:$B=FOcorrencias[[#This Row],[Matricula]])*('Jornada Prevista'!$P:$P=FOcorrencias[[#This Row],[Mês/Ano]]),0))} -> Vendas | O29: {=INDEX('Jornada Prevista'!$J:$J,MATCH(1,('Jornada Prevista'!$B:$B=FOcorrencias[[#This Row],[Matricula]])*('Jornada Prevista'!$P:$P=FOcorrencias[[#This Row],[Mês/Ano]]),0))} -> Auxiliar | P29: {=INDEX('Jornada Prevista'!$K:$K,MATCH(1,('Jornada Prevista'!$B:$B=FOcorrencias[[#This Row],[Matricula]])*('Jornada Prevista'!$P:$P=FOcorrencias[[#This Row],[Mês/Ano]]),0))} -> Turno D | Q29: {=INDEX('Jornada Prevista'!$L:$L,MATCH(1,('Jornada Prevista'!$B:$B=FOcorrencias[[#This Row],[Matricula]])*('Jornada Prevista'!$P:$P=FOcorrencias[[#This Row],[Mês/Ano]]),0))} -> 6x1 | R29: {=INDEX('Jornada Prevista'!$M:$M,MATCH(1,('Jornada Prevista'!$B:$B=FOcorrencias[[#This Row],[Matricula]])*('Jornada Prevista'!$P:$P=FOcorrencias[[#This Row],[Mês/Ano]]),0))} -> Estágio | S29: =SUMIFS('Jornada Prevista'!$G:$G,'Jornada Prevista'!$B:$B,FOcorrencias[[#This Row],[Matricula]],'Jornada Prevista'!$P:$P,FOcorrencias[[#This Row],[Mês/Ano]]) -> 184.8 | T29: =SUMIFS('Jornada Prevista'!$N:$N,'Jornada Prevista'!$B:$B,FOcorrencias[[#This Row],[Matricula]],'Jornada Prevista'!$P:$P,FOcorrencias[[#This Row],[Mês/Ano]]) -> 8018.93 | U29: =SUMIFS('Jornada Prevista'!$O:$O,'Jornada Prevista'!$B:$B,FOcorrencias[[#This Row],[Matricula]],'Jornada Prevista'!$P:$P,FOcorrencias[[#This Row],[Mês/Ano]]) -> 43.392478 | V29: =IF(FOcorrencias[[#This Row],[Data da Ocorrência]]="","",TEXT(FOcorrencias[[#This Row],[Data da Ocorrência]],"mm/aaaa")) -> 12/2025
B30: 27 | C30: 29/03/2025 | D30: =IF(FOcorrencias[[#This Row],[Data da Ocorrência]]="","",TEXT(FOcorrencias[[#This Row],[Data da Ocorrência]],"dddd")) -> sábado | E30: 3 | F30: =IF(FOcorrencias[[#This Row],[Matricula]]="","",VLOOKUP(FOcorrencias[[#This Row],[Matricula]],Cadastros!$P:$Q,2,0)) -> Funcionario 3 | G30: Atitude disciplinar | H30: Trânsito | J30: Sim | K30: 02:00 | L30: Reincidência de atraso no mês. | M30: {=INDEX('Jornada Prevista'!$H:$H,MATCH(1,('Jornada Prevista'!$B:$B=FOcorrencias[[#This Row],[Matricula]])*('Jornada Prevista'!$P:$P=FOcorrencias[[#This Row],[Mês/Ano]]),0))} -> Empresa Y | N30: {=INDEX('Jornada Prevista'!$I:$I,MATCH(1,('Jornada Prevista'!$B:$B=FOcorrencias[[#This Row],[Matricula]])*('Jornada Prevista'!$P:$P=FOcorrencias[[#This Row],[Mês/Ano]]),0))} -> Operações | O30: {=INDEX('Jornada Prevista'!$J:$J,MATCH(1,('Jornada Prevista'!$B:$B=FOcorrencias[[#This Row],[Matricula]])*('Jornada Prevista'!$P:$P=FOcorrencias[[#This Row],[Mês/Ano]]),0))} -> Diretor | P30: {=INDEX('Jornada Prevista'!$K:$K,MATCH(1,('Jornada Prevista'!$B:$B=FOcorrencias[[#This Row],[Matricula]])*('Jornada Prevista'!$P:$P=FOcorrencias[[#This Row],[Mês/Ano]]),0))} -> Turno C | Q30: {=INDEX('Jornada Prevista'!$L:$L,MATCH(1,('Jornada Prevista'!$B:$B=FOcorrencias[[#This Row],[Matricula]])*('Jornada Prevista'!$P:$P=FOcorrencias[[#This Row],[Mês/Ano]]),0))} -> 5x1 | R30: {=INDEX('Jornada Prevista'!$M:$M,MATCH(1,('Jornada Prevista'!$B:$B=FOcorrencias[[#This Row],[Matricula]])*('Jornada Prevista'!$P:$P=FOcorrencias[[#This Row],[Mês/Ano]]),0))} -> Estágio | S30: =SUMIFS('Jornada Prevista'!$G:$G,'Jornada Prevista'!$B:$B,FOcorrencias[[#This Row],[Matricula]],'Jornada Prevista'!$P:$P,FOcorrencias[[#This Row],[Mês/Ano]]) -> 184.8 | T30: =SUMIFS('Jornada Prevista'!$N:$N,'Jornada Prevista'!$B:$B,FOcorrencias[[#This Row],[Matricula]],'Jornada Prevista'!$P:$P,FOcorrencias[[#This Row],[Mês/Ano]]) -> 8149.67 | U30: =SUMIFS('Jornada Prevista'!$O:$O,'Jornada Prevista'!$B:$B,FOcorrencias[[#This Row],[Matricula]],'Jornada Prevista'!$P:$P,FOcorrencias[[#This Row],[Mês/Ano]]) -> 44.099946 | V30: =IF(FOcorrencias[[#This Row],[Data da Ocorrência]]="","",TEXT(FOcorrencias[[#This Row],[Data da Ocorrência]],"mm/aaaa")) -> 03/2025
B31: 28 | C31: 04/02/2025 | D31: =IF(FOcorrencias[[#This Row],[Data da Ocorrência]]="","",TEXT(FOcorrencias[[#This Row],[Data da Ocorrência]],"dddd")) -> terça-feira | E31: 3 | F31: =IF(FOcorrencias[[#This Row],[Matricula]]="","",VLOOKUP(FOcorrencias[[#This Row],[Matricula]],Cadastros!$P:$Q,2,0)) -> Funcionario 3 | G31: Atitude disciplinar | H31: Motivo não informado | I31: Z00 | J31: Não | K31: 01:30 | M31: {=INDEX('Jornada Prevista'!$H:$H,MATCH(1,('Jornada Prevista'!$B:$B=FOcorrencias[[#This Row],[Matricula]])*('Jornada Prevista'!$P:$P=FOcorrencias[[#This Row],[Mês/Ano]]),0))} -> Empresa Z | N31: {=INDEX('Jornada Prevista'!$I:$I,MATCH(1,('Jornada Prevista'!$B:$B=FOcorrencias[[#This Row],[Matricula]])*('Jornada Prevista'!$P:$P=FOcorrencias[[#This Row],[Mês/Ano]]),0))} -> TI | O31: {=INDEX('Jornada Prevista'!$J:$J,MATCH(1,('Jornada Prevista'!$B:$B=FOcorrencias[[#This Row],[Matricula]])*('Jornada Prevista'!$P:$P=FOcorrencias[[#This Row],[Mês/Ano]]),0))} -> Supervisor | P31: {=INDEX('Jornada Prevista'!$K:$K,MATCH(1,('Jornada Prevista'!$B:$B=FOcorrencias[[#This Row],[Matricula]])*('Jornada Prevista'!$P:$P=FOcorrencias[[#This Row],[Mês/Ano]]),0))} -> Turno B | Q31: {=INDEX('Jornada Prevista'!$L:$L,MATCH(1,('Jornada Prevista'!$B:$B=FOcorrencias[[#This Row],[Matricula]])*('Jornada Prevista'!$P:$P=FOcorrencias[[#This Row],[Mês/Ano]]),0))} -> 6x1 | R31: {=INDEX('Jornada Prevista'!$M:$M,MATCH(1,('Jornada Prevista'!$B:$B=FOcorrencias[[#This Row],[Matricula]])*('Jornada Prevista'!$P:$P=FOcorrencias[[#This Row],[Mês/Ano]]),0))} -> PJ | S31: =SUMIFS('Jornada Prevista'!$G:$G,'Jornada Prevista'!$B:$B,FOcorrencias[[#This Row],[Matricula]],'Jornada Prevista'!$P:$P,FOcorrencias[[#This Row],[Mês/Ano]]) -> 184.8 | T31: =SUMIFS('Jornada Prevista'!$N:$N,'Jornada Prevista'!$B:$B,FOcorrencias[[#This Row],[Matricula]],'Jornada Prevista'!$P:$P,FOcorrencias[[#This Row],[Mês/Ano]]) -> 11536.99 | U31: =SUMIFS('Jornada Prevista'!$O:$O,'Jornada Prevista'!$B:$B,FOcorrencias[[#This Row],[Matricula]],'Jornada Prevista'!$P:$P,FOcorrencias[[#This Row],[Mês/Ano]]) -> 62.4296 | V31: =IF(FOcorrencias[[#This Row],[Data da Ocorrência]]="","",TEXT(FOcorrencias[[#This Row],[Data da Ocorrência]],"mm/aaaa")) -> 02/2025
B32: 29 | C32: 04/06/2025 | D32: =IF(FOcorrencias[[#This Row],[Data da Ocorrência]]="","",TEXT(FOcorrencias[[#This Row],[Data da Ocorrência]],"dddd")) -> quarta-feira | E32: 3 | F32: =IF(FOcorrencias[[#This Row],[Matricula]]="","",VLOOKUP(FOcorrencias[[#This Row],[Matricula]],Cadastros!$P:$Q,2,0)) -> Funcionario 3 | G32: Atitude disciplinar | H32: Consulta médica | I32: Z76 | J32: Sim | K32: 04:00 | M32: {=INDEX('Jornada Prevista'!$H:$H,MATCH(1,('Jornada Prevista'!$B:$B=FOcorrencias[[#This Row],[Matricula]])*('Jornada Prevista'!$P:$P=FOcorrencias[[#This Row],[Mês/Ano]]),0))} -> Empresa Z | N32: {=INDEX('Jornada Prevista'!$I:$I,MATCH(1,('Jornada Prevista'!$B:$B=FOcorrencias[[#This Row],[Matricula]])*('Jornada Prevista'!$P:$P=FOcorrencias[[#This Row],[Mês/Ano]]),0))} -> Operações | O32: {=INDEX('Jornada Prevista'!$J:$J,MATCH(1,('Jornada Prevista'!$B:$B=FOcorrencias[[#This Row],[Matricula]])*('Jornada Prevista'!$P:$P=FOcorrencias[[#This Row],[Mês/Ano]]),0))} -> Operador | P32: {=INDEX('Jornada Prevista'!$K:$K,MATCH(1,('Jornada Prevista'!$B:$B=FOcorrencias[[#This Row],[Matricula]])*('Jornada Prevista'!$P:$P=FOcorrencias[[#This Row],[Mês/Ano]]),0))} -> Turno Folguista | Q32: {=INDEX('Jornada Prevista'!$L:$L,MATCH(1,('Jornada Prevista'!$B:$B=FOcorrencias[[#This Row],[Matricula]])*('Jornada Prevista'!$P:$P=FOcorrencias[[#This Row],[Mês/Ano]]),0))} -> 5x1 | R32: {=INDEX('Jornada Prevista'!$M:$M,MATCH(1,('Jornada Prevista'!$B:$B=FOcorrencias[[#This Row],[Matricula]])*('Jornada Prevista'!$P:$P=FOcorrencias[[#This Row],[Mês/Ano]]),0))} -> CLT | S32: =SUMIFS('Jornada Prevista'!$G:$G,'Jornada Prevista'!$B:$B,FOcorrencias[[#This Row],[Matricula]],'Jornada Prevista'!$P:$P,FOcorrencias[[#This Row],[Mês/Ano]]) -> 184.8 | T32: =SUMIFS('Jornada Prevista'!$N:$N,'Jornada Prevista'!$B:$B,FOcorrencias[[#This Row],[Matricula]],'Jornada Prevista'!$P:$P,FOcorrencias[[#This Row],[Mês/Ano]]) -> 3705.85 | U32: =SUMIFS('Jornada Prevista'!$O:$O,'Jornada Prevista'!$B:$B,FOcorrencias[[#This Row],[Matricula]],'Jornada Prevista'!$P:$P,FOcorrencias[[#This Row],[Mês/Ano]]) -> 20.053301 | V32: =IF(FOcorrencias[[#This Row],[Data da Ocorrência]]="","",TEXT(FOcorrencias[[#This Row],[Data da Ocorrência]],"mm/aaaa")) -> 06/2025
B33: 30 | C33: 18/10/2025 | D33: =IF(FOcorrencias[[#This Row],[Data da Ocorrência]]="","",TEXT(FOcorrencias[[#This Row],[Data da Ocorrência]],"dddd")) -> sábado | E33: 3 | F33: =IF(FOcorrencias[[#This Row],[Matricula]]="","",VLOOKUP(FOcorrencias[[#This Row],[Matricula]],Cadastros!$P:$Q,2,0)) -> Funcionario 3 | G33: Atraso | H33: Indisciplina | I33: F32 | J33: Não | K33: 00:45 | M33: {=INDEX('Jornada Prevista'!$H:$H,MATCH(1,('Jornada Prevista'!$B:$B=FOcorrencias[[#This Row],[Matricula]])*('Jornada Prevista'!$P:$P=FOcorrencias[[#This Row],[Mês/Ano]]),0))} -> Empresa X | N33: {=INDEX('Jornada Prevista'!$I:$I,MATCH(1,('Jornada Prevista'!$B:$B=FOcorrencias[[#This Row],[Matricula]])*('Jornada Prevista'!$P:$P=FOcorrencias[[#This Row],[Mês/Ano]]),0))} -> Marketing | O33: {=INDEX('Jornada Prevista'!$J:$J,MATCH(1,('Jornada Prevista'!$B:$B=FOcorrencias[[#This Row],[Matricula]])*('Jornada Prevista'!$P:$P=FOcorrencias[[#This Row],[Mês/Ano]]),0))} -> Analista Pleno | P33: {=INDEX('Jornada Prevista'!$K:$K,MATCH(1,('Jornada Prevista'!$B:$B=FOcorrencias[[#This Row],[Matricula]])*('Jornada Prevista'!$P:$P=FOcorrencias[[#This Row],[Mês/Ano]]),0))} -> Turno Folguista | Q33: {=INDEX('Jornada Prevista'!$L:$L,MATCH(1,('Jornada Prevista'!$B:$B=FOcorrencias[[#This Row],[Matricula]])*('Jornada Prevista'!$P:$P=FOcorrencias[[#This Row],[Mês/Ano]]),0))} -> 12x36 | R33: {=INDEX('Jornada Prevista'!$M:$M,MATCH(1,('Jornada Prevista'!$B:$B=FOcorrencias[[#This Row],[Matricula]])*('Jornada Prevista'!$P:$P=FOcorrencias[[#This Row],[Mês/Ano]]),0))} -> CLT | S33: =SUMIFS('Jornada Prevista'!$G:$G,'Jornada Prevista'!$B:$B,FOcorrencias[[#This Row],[Matricula]],'Jornada Prevista'!$P:$P,FOcorrencias[[#This Row],[Mês/Ano]]) -> 184.8 | T33: =SUMIFS('Jornada Prevista'!$N:$N,'Jornada Prevista'!$B:$B,FOcorrencias[[#This Row],[Matricula]],'Jornada Prevista'!$P:$P,FOcorrencias[[#This Row],[Mês/Ano]]) -> 3979.45 | U33: =SUMIFS('Jornada Prevista'!$O:$O,'Jornada Prevista'!$B:$B,FOcorrencias[[#This Row],[Matricula]],'Jornada Prevista'!$P:$P,FOcorrencias[[#This Row],[Mês/Ano]]) -> 21.53382 | V33: =IF(FOcorrencias[[#This Row],[Data da Ocorrência]]="","",TEXT(FOcorrencias[[#This Row],[Data da Ocorrência]],"mm/aaaa")) -> 10/2025
B34: 31 | C34: 12/08/2025 | D34: =IF(FOcorrencias[[#This Row],[Data da Ocorrência]]="","",TEXT(FOcorrencias[[#This Row],[Data da Ocorrência]],"dddd")) -> terça-feira | E34: 3 | F34: =IF(FOcorrencias[[#This Row],[Matricula]]="","",VLOOKUP(FOcorrencias[[#This Row],[Matricula]],Cadastros!$P:$Q,2,0)) -> Funcionario 3 | G34: Atraso | H34: Trânsito | J34: Não | K34: 00:30 | L34: Ocorrência registrada pelo gestor imediato. | M34: {=INDEX('Jornada Prevista'!$H:$H,MATCH(1,('Jornada Prevista'!$B:$B=FOcorrencias[[#This Row],[Matricula]])*('Jornada Prevista'!$P:$P=FOcorrencias[[#This Row],[Mês/Ano]]),0))} -> Empresa X | N34: {=INDEX('Jornada Prevista'!$I:$I,MATCH(1,('Jornada Prevista'!$B:$B=FOcorrencias[[#This Row],[Matricula]])*('Jornada Prevista'!$P:$P=FOcorrencias[[#This Row],[Mês/Ano]]),0))} -> Contabilidade | O34: {=INDEX('Jornada Prevista'!$J:$J,MATCH(1,('Jornada Prevista'!$B:$B=FOcorrencias[[#This Row],[Matricula]])*('Jornada Prevista'!$P:$P=FOcorrencias[[#This Row],[Mês/Ano]]),0))} -> Analista | P34: {=INDEX('Jornada Prevista'!$K:$K,MATCH(1,('Jornada Prevista'!$B:$B=FOcorrencias[[#This Row],[Matricula]])*('Jornada Prevista'!$P:$P=FOcorrencias[[#This Row],[Mês/Ano]]),0))} -> Turno A | Q34: {=INDEX('Jornada Prevista'!$L:$L,MATCH(1,('Jornada Prevista'!$B:$B=FOcorrencias[[#This Row],[Matricula]])*('Jornada Prevista'!$P:$P=FOcorrencias[[#This Row],[Mês/Ano]]),0))} -> 6x1 | R34: {=INDEX('Jornada Prevista'!$M:$M,MATCH(1,('Jornada Prevista'!$B:$B=FOcorrencias[[#This Row],[Matricula]])*('Jornada Prevista'!$P:$P=FOcorrencias[[#This Row],[Mês/Ano]]),0))} -> Estágio | S34: =SUMIFS('Jornada Prevista'!$G:$G,'Jornada Prevista'!$B:$B,FOcorrencias[[#This Row],[Matricula]],'Jornada Prevista'!$P:$P,FOcorrencias[[#This Row],[Mês/Ano]]) -> 184.8 | T34: =SUMIFS('Jornada Prevista'!$N:$N,'Jornada Prevista'!$B:$B,FOcorrencias[[#This Row],[Matricula]],'Jornada Prevista'!$P:$P,FOcorrencias[[#This Row],[Mês/Ano]]) -> 3431.63 | U34: =SUMIFS('Jornada Prevista'!$O:$O,'Jornada Prevista'!$B:$B,FOcorrencias[[#This Row],[Matricula]],'Jornada Prevista'!$P:$P,FOcorrencias[[#This Row],[Mês/Ano]]) -> 18.569426 | V34: =IF(FOcorrencias[[#This Row],[Data da Ocorrência]]="","",TEXT(FOcorrencias[[#This Row],[Data da Ocorrência]],"mm/aaaa")) -> 08/2025
B35: 32 | C35: 31/03/2025 | D35: =IF(FOcorrencias[[#This Row],[Data da Ocorrência]]="","",TEXT(FOcorrencias[[#This Row],[Data da Ocorrência]],"dddd")) -> segunda-feira | E35: 3 | F35: =IF(FOcorrencias[[#This Row],[Matricula]]="","",VLOOKUP(FOcorrencias[[#This Row],[Matricula]],Cadastros!$P:$Q,2,0)) -> Funcionario 3 | G35: Falta | H35: Falta de transporte | J35: Não | K35: 04:00 | M35: {=INDEX('Jornada Prevista'!$H:$H,MATCH(1,('Jornada Prevista'!$B:$B=FOcorrencias[[#This Row],[Matricula]])*('Jornada Prevista'!$P:$P=FOcorrencias[[#This Row],[Mês/Ano]]),0))} -> Empresa Y | N35: {=INDEX('Jornada Prevista'!$I:$I,MATCH(1,('Jornada Prevista'!$B:$B=FOcorrencias[[#This Row],[Matricula]])*('Jornada Prevista'!$P:$P=FOcorrencias[[#This Row],[Mês/Ano]]),0))} -> Operações | O35: {=INDEX('Jornada Prevista'!$J:$J,MATCH(1,('Jornada Prevista'!$B:$B=FOcorrencias[[#This Row],[Matricula]])*('Jornada Prevista'!$P:$P=FOcorrencias[[#This Row],[Mês/Ano]]),0))} -> Diretor | P35: {=INDEX('Jornada Prevista'!$K:$K,MATCH(1,('Jornada Prevista'!$B:$B=FOcorrencias[[#This Row],[Matricula]])*('Jornada Prevista'!$P:$P=FOcorrencias[[#This Row],[Mês/Ano]]),0))} -> Turno C | Q35: {=INDEX('Jornada Prevista'!$L:$L,MATCH(1,('Jornada Prevista'!$B:$B=FOcorrencias[[#This Row],[Matricula]])*('Jornada Prevista'!$P:$P=FOcorrencias[[#This Row],[Mês/Ano]]),0))} -> 5x1 | R35: {=INDEX('Jornada Prevista'!$M:$M,MATCH(1,('Jornada Prevista'!$B:$B=FOcorrencias[[#This Row],[Matricula]])*('Jornada Prevista'!$P:$P=FOcorrencias[[#This Row],[Mês/Ano]]),0))} -> Estágio | S35: =SUMIFS('Jornada Prevista'!$G:$G,'Jornada Prevista'!$B:$B,FOcorrencias[[#This Row],[Matricula]],'Jornada Prevista'!$P:$P,FOcorrencias[[#This Row],[Mês/Ano]]) -> 184.8 | T35: =SUMIFS('Jornada Prevista'!$N:$N,'Jornada Prevista'!$B:$B,FOcorrencias[[#This Row],[Matricula]],'Jornada Prevista'!$P:$P,FOcorrencias[[#This Row],[Mês/Ano]]) -> 8149.67 | U35: =SUMIFS('Jornada Prevista'!$O:$O,'Jornada Prevista'!$B:$B,FOcorrencias[[#This Row],[Matricula]],'Jornada Prevista'!$P:$P,FOcorrencias[[#This Row],[Mês/Ano]]) -> 44.099946 | V35: =IF(FOcorrencias[[#This Row],[Data da Ocorrência]]="","",TEXT(FOcorrencias[[#This Row],[Data da Ocorrência]],"mm/aaaa")) -> 03/2025
B36: 33 | C36: 31/01/2025 | D36: =IF(FOcorrencias[[#This Row],[Data da Ocorrência]]="","",TEXT(FOcorrencias[[#This Row],[Data da Ocorrência]],"dddd")) -> sexta-feira | E36: 3 | F36: =IF(FOcorrencias[[#This Row],[Matricula]]="","",VLOOKUP(FOcorrencias[[#This Row],[Matricula]],Cadastros!$P:$Q,2,0)) -> Funcionario 3 | G36: Atitude disciplinar | H36: Doença | I36: Z00 | J36: Sim | K36: 00:30 | M36: {=INDEX('Jornada Prevista'!$H:$H,MATCH(1,('Jornada Prevista'!$B:$B=FOcorrencias[[#This Row],[Matricula]])*('Jornada Prevista'!$P:$P=FOcorrencias[[#This Row],[Mês/Ano]]),0))} -> Empresa Y | N36: {=INDEX('Jornada Prevista'!$I:$I,MATCH(1,('Jornada Prevista'!$B:$B=FOcorrencias[[#This Row],[Matricula]])*('Jornada Prevista'!$P:$P=FOcorrencias[[#This Row],[Mês/Ano]]),0))} -> Qualidade | O36: {=INDEX('Jornada Prevista'!$J:$J,MATCH(1,('Jornada Prevista'!$B:$B=FOcorrencias[[#This Row],[Matricula]])*('Jornada Prevista'!$P:$P=FOcorrencias[[#This Row],[Mês/Ano]]),0))} -> Diretor | P36: {=INDEX('Jornada Prevista'!$K:$K,MATCH(1,('Jornada Prevista'!$B:$B=FOcorrencias[[#This Row],[Matricula]])*('Jornada Prevista'!$P:$P=FOcorrencias[[#This Row],[Mês/Ano]]),0))} -> Turno D | Q36: {=INDEX('Jornada Prevista'!$L:$L,MATCH(1,('Jornada Prevista'!$B:$B=FOcorrencias[[#This Row],[Matricula]])*('Jornada Prevista'!$P:$P=FOcorrencias[[#This Row],[Mês/Ano]]),0))} -> 5x1 | R36: {=INDEX('Jornada Prevista'!$M:$M,MATCH(1,('Jornada Prevista'!$B:$B=FOcorrencias[[#This Row],[Matricula]])*('Jornada Prevista'!$P:$P=FOcorrencias[[#This Row],[Mês/Ano]]),0))} -> CLT | S36: =SUMIFS('Jornada Prevista'!$G:$G,'Jornada Prevista'!$B:$B,FOcorrencias[[#This Row],[Matricula]],'Jornada Prevista'!$P:$P,FOcorrencias[[#This Row],[Mês/Ano]]) -> 184.8 | T36: =SUMIFS('Jornada Prevista'!$N:$N,'Jornada Prevista'!$B:$B,FOcorrencias[[#This Row],[Matricula]],'Jornada Prevista'!$P:$P,FOcorrencias[[#This Row],[Mês/Ano]]) -> 5782.95 | U36: =SUMIFS('Jornada Prevista'!$O:$O,'Jornada Prevista'!$B:$B,FOcorrencias[[#This Row],[Matricula]],'Jornada Prevista'!$P:$P,FOcorrencias[[#This Row],[Mês/Ano]]) -> 31.293019 | V36: =IF(FOcorrencias[[#This Row],[Data da Ocorrência]]="","",TEXT(FOcorrencias[[#This Row],[Data da Ocorrência]],"mm/aaaa")) -> 01/2025
B37: 34 | C37: 19/01/2025 | D37: =IF(FOcorrencias[[#This Row],[Data da Ocorrência]]="","",TEXT(FOcorrencias[[#This Row],[Data da Ocorrência]],"dddd")) -> domingo | E37: 3 | F37: =IF(FOcorrencias[[#This Row],[Matricula]]="","",VLOOKUP(FOcorrencias[[#This Row],[Matricula]],Cadastros!$P:$Q,2,0)) -> Funcionario 3 | G37: Saída Antecipada | H37: Motivo não informado | I37: K21 | J37: Não | K37: 01:00 | M37: {=INDEX('Jornada Prevista'!$H:$H,MATCH(1,('Jornada Prevista'!$B:$B=FOcorrencias[[#This Row],[Matricula]])*('Jornada Prevista'!$P:$P=FOcorrencias[[#This Row],[Mês/Ano]]),0))} -> Empresa Y | N37: {=INDEX('Jornada Prevista'!$I:$I,MATCH(1,('Jornada Prevista'!$B:$B=FOcorrencias[[#This Row],[Matricula]])*('Jornada Prevista'!$P:$P=FOcorrencias[[#This Row],[Mês/Ano]]),0))} -> Qualidade | O37: {=INDEX('Jornada Prevista'!$J:$J,MATCH(1,('Jornada Prevista'!$B:$B=FOcorrencias[[#This Row],[Matricula]])*('Jornada Prevista'!$P:$P=FOcorrencias[[#This Row],[Mês/Ano]]),0))} -> Diretor | P37: {=INDEX('Jornada Prevista'!$K:$K,MATCH(1,('Jornada Prevista'!$B:$B=FOcorrencias[[#This Row],[Matricula]])*('Jornada Prevista'!$P:$P=FOcorrencias[[#This Row],[Mês/Ano]]),0))} -> Turno D | Q37: {=INDEX('Jornada Prevista'!$L:$L,MATCH(1,('Jornada Prevista'!$B:$B=FOcorrencias[[#This Row],[Matricula]])*('Jornada Prevista'!$P:$P=FOcorrencias[[#This Row],[Mês/Ano]]),0))} -> 5x1 | R37: {=INDEX('Jornada Prevista'!$M:$M,MATCH(1,('Jornada Prevista'!$B:$B=FOcorrencias[[#This Row],[Matricula]])*('Jornada Prevista'!$P:$P=FOcorrencias[[#This Row],[Mês/Ano]]),0))} -> CLT | S37: =SUMIFS('Jornada Prevista'!$G:$G,'Jornada Prevista'!$B:$B,FOcorrencias[[#This Row],[Matricula]],'Jornada Prevista'!$P:$P,FOcorrencias[[#This Row],[Mês/Ano]]) -> 184.8 | T37: =SUMIFS('Jornada Prevista'!$N:$N,'Jornada Prevista'!$B:$B,FOcorrencias[[#This Row],[Matricula]],'Jornada Prevista'!$P:$P,FOcorrencias[[#This Row],[Mês/Ano]]) -> 5782.95 | U37: =SUMIFS('Jornada Prevista'!$O:$O,'Jornada Prevista'!$B:$B,FOcorrencias[[#This Row],[Matricula]],'Jornada Prevista'!$P:$P,FOcorrencias[[#This Row],[Mês/Ano]]) -> 31.293019 | V37: =IF(FOcorrencias[[#This Row],[Data da Ocorrência]]="","",TEXT(FOcorrencias[[#This Row],[Data da Ocorrência]],"mm/aaaa")) -> 01/2025
B38: 35 | C38: 10/07/2025 | D38: =IF(FOcorrencias[[#This Row],[Data da Ocorrência]]="","",TEXT(FOcorrencias[[#This Row],[Data da Ocorrência]],"dddd")) -> quinta-feira | E38: 3 | F38: =IF(FOcorrencias[[#This Row],[Matricula]]="","",VLOOKUP(FOcorrencias[[#This Row],[Matricula]],Cadastros!$P:$Q,2,0)) -> Funcionario 3 | G38: Atitude disciplinar | H38: Motivo não informado | I38: Z00 | J38: Sim | K38: 08:00 | M38: {=INDEX('Jornada Prevista'!$H:$H,MATCH(1,('Jornada Prevista'!$B:$B=FOcorrencias[[#This Row],[Matricula]])*('Jornada Prevista'!$P:$P=FOcorrencias[[#This Row],[Mês/Ano]]),0))} -> Empresa Z | N38: {=INDEX('Jornada Prevista'!$I:$I,MATCH(1,('Jornada Prevista'!$B:$B=FOcorrencias[[#This Row],[Matricula]])*('Jornada Prevista'!$P:$P=FOcorrencias[[#This Row],[Mês/Ano]]),0))} -> Operações | O38: {=INDEX('Jornada Prevista'!$J:$J,MATCH(1,('Jornada Prevista'!$B:$B=FOcorrencias[[#This Row],[Matricula]])*('Jornada Prevista'!$P:$P=FOcorrencias[[#This Row],[Mês/Ano]]),0))} -> Analista | P38: {=INDEX('Jornada Prevista'!$K:$K,MATCH(1,('Jornada Prevista'!$B:$B=FOcorrencias[[#This Row],[Matricula]])*('Jornada Prevista'!$P:$P=FOcorrencias[[#This Row],[Mês/Ano]]),0))} -> Turno A | Q38: {=INDEX('Jornada Prevista'!$L:$L,MATCH(1,('Jornada Prevista'!$B:$B=FOcorrencias[[#This Row],[Matricula]])*('Jornada Prevista'!$P:$P=FOcorrencias[[#This Row],[Mês/Ano]]),0))} -> 12x36 | R38: {=INDEX('Jornada Prevista'!$M:$M,MATCH(1,('Jornada Prevista'!$B:$B=FOcorrencias[[#This Row],[Matricula]])*('Jornada Prevista'!$P:$P=FOcorrencias[[#This Row],[Mês/Ano]]),0))} -> Estágio | S38: =SUMIFS('Jornada Prevista'!$G:$G,'Jornada Prevista'!$B:$B,FOcorrencias[[#This Row],[Matricula]],'Jornada Prevista'!$P:$P,FOcorrencias[[#This Row],[Mês/Ano]]) -> 184.8 | T38: =SUMIFS('Jornada Prevista'!$N:$N,'Jornada Prevista'!$B:$B,FOcorrencias[[#This Row],[Matricula]],'Jornada Prevista'!$P:$P,FOcorrencias[[#This Row],[Mês/Ano]]) -> 2166.92 | U38: =SUMIFS('Jornada Prevista'!$O:$O,'Jornada Prevista'!$B:$B,FOcorrencias[[#This Row],[Matricula]],'Jornada Prevista'!$P:$P,FOcorrencias[[#This Row],[Mês/Ano]]) -> 11.725758 | V38: =IF(FOcorrencias[[#This Row],[Data da Ocorrência]]="","",TEXT(FOcorrencias[[#This Row],[Data da Ocorrência]],"mm/aaaa")) -> 07/2025
B39: 36 | C39: 24/07/2025 | D39: =IF(FOcorrencias[[#This Row],[Data da Ocorrência]]="","",TEXT(FOcorrencias[[#This Row],[Data da Ocorrência]],"dddd")) -> quinta-feira | E39: 3 | F39: =IF(FOcorrencias[[#This Row],[Matricula]]="","",VLOOKUP(FOcorrencias[[#This Row],[Matricula]],Cadastros!$P:$Q,2,0)) -> Funcionario 3 | G39: Atitude disciplinar | H39: Motivo não informado | J39: Sim | K39: 01:30 | M39: {=INDEX('Jornada Prevista'!$H:$H,MATCH(1,('Jornada Prevista'!$B:$B=FOcorrencias[[#This Row],[Matricula]])*('Jornada Prevista'!$P:$P=FOcorrencias[[#This Row],[Mês/Ano]]),0))} -> Empresa Z | N39: {=INDEX('Jornada Prevista'!$I:$I,MATCH(1,('Jornada Prevista'!$B:$B=FOcorrencias[[#This Row],[Matricula]])*('Jornada Prevista'!$P:$P=FOcorrencias[[#This Row],[Mês/Ano]]),0))} -> Operações | O39: {=INDEX('Jornada Prevista'!$J:$J,MATCH(1,('Jornada Prevista'!$B:$B=FOcorrencias[[#This Row],[Matricula]])*('Jornada Prevista'!$P:$P=FOcorrencias[[#This Row],[Mês/Ano]]),0))} -> Analista | P39: {=INDEX('Jornada Prevista'!$K:$K,MATCH(1,('Jornada Prevista'!$B:$B=FOcorrencias[[#This Row],[Matricula]])*('Jornada Prevista'!$P:$P=FOcorrencias[[#This Row],[Mês/Ano]]),0))} -> Turno A | Q39: {=INDEX('Jornada Prevista'!$L:$L,MATCH(1,('Jornada Prevista'!$B:$B=FOcorrencias[[#This Row],[Matricula]])*('Jornada Prevista'!$P:$P=FOcorrencias[[#This Row],[Mês/Ano]]),0))} -> 12x36 | R39: {=INDEX('Jornada Prevista'!$M:$M,MATCH(1,('Jornada Prevista'!$B:$B=FOcorrencias[[#This Row],[Matricula]])*('Jornada Prevista'!$P:$P=FOcorrencias[[#This Row],[Mês/Ano]]),0))} -> Estágio | S39: =SUMIFS('Jornada Prevista'!$G:$G,'Jornada Prevista'!$B:$B,FOcorrencias[[#This Row],[Matricula]],'Jornada Prevista'!$P:$P,FOcorrencias[[#This Row],[Mês/Ano]]) -> 184.8 | T39: =SUMIFS('Jornada Prevista'!$N:$N,'Jornada Prevista'!$B:$B,FOcorrencias[[#This Row],[Matricula]],'Jornada Prevista'!$P:$P,FOcorrencias[[#This Row],[Mês/Ano]]) -> 2166.92 | U39: =SUMIFS('Jornada Prevista'!$O:$O,'Jornada Prevista'!$B:$B,FOcorrencias[[#This Row],[Matricula]],'Jornada Prevista'!$P:$P,FOcorrencias[[#This Row],[Mês/Ano]]) -> 11.725758 | V39: =IF(FOcorrencias[[#This Row],[Data da Ocorrência]]="","",TEXT(FOcorrencias[[#This Row],[Data da Ocorrência]],"mm/aaaa")) -> 07/2025
B40: 37 | C40: 31/05/2025 | D40: =IF(FOcorrencias[[#This Row],[Data da Ocorrência]]="","",TEXT(FOcorrencias[[#This Row],[Data da Ocorrência]],"dddd")) -> sábado | E40: 3 | F40: =IF(FOcorrencias[[#This Row],[Matricula]]="","",VLOOKUP(FOcorrencias[[#This Row],[Matricula]],Cadastros!$P:$Q,2,0)) -> Funcionario 3 | G40: Atitude disciplinar | H40: Trânsito | J40: Não | K40: 04:00 | L40: Saída autorizada pela coordenação. | M40: {=INDEX('Jornada Prevista'!$H:$H,MATCH(1,('Jornada Prevista'!$B:$B=FOcorrencias[[#This Row],[Matricula]])*('Jornada Prevista'!$P:$P=FOcorrencias[[#This Row],[Mês/Ano]]),0))} -> Empresa X | N40: {=INDEX('Jornada Prevista'!$I:$I,MATCH(1,('Jornada Prevista'!$B:$B=FOcorrencias[[#This Row],[Matricula]])*('Jornada Prevista'!$P:$P=FOcorrencias[[#This Row],[Mês/Ano]]),0))} -> Financeiro | O40: {=INDEX('Jornada Prevista'!$J:$J,MATCH(1,('Jornada Prevista'!$B:$B=FOcorrencias[[#This Row],[Matricula]])*('Jornada Prevista'!$P:$P=FOcorrencias[[#This Row],[Mês/Ano]]),0))} -> Auxiliar Administrativo | P40: {=INDEX('Jornada Prevista'!$K:$K,MATCH(1,('Jornada Prevista'!$B:$B=FOcorrencias[[#This Row],[Matricula]])*('Jornada Prevista'!$P:$P=FOcorrencias[[#This Row],[Mês/Ano]]),0))} -> Turno B | Q40: {=INDEX('Jornada Prevista'!$L:$L,MATCH(1,('Jornada Prevista'!$B:$B=FOcorrencias[[#This Row],[Matricula]])*('Jornada Prevista'!$P:$P=FOcorrencias[[#This Row],[Mês/Ano]]),0))} -> 5x1 | R40: {=INDEX('Jornada Prevista'!$M:$M,MATCH(1,('Jornada Prevista'!$B:$B=FOcorrencias[[#This Row],[Matricula]])*('Jornada Prevista'!$P:$P=FOcorrencias[[#This Row],[Mês/Ano]]),0))} -> Estágio | S40: =SUMIFS('Jornada Prevista'!$G:$G,'Jornada Prevista'!$B:$B,FOcorrencias[[#This Row],[Matricula]],'Jornada Prevista'!$P:$P,FOcorrencias[[#This Row],[Mês/Ano]]) -> 184.8 | T40: =SUMIFS('Jornada Prevista'!$N:$N,'Jornada Prevista'!$B:$B,FOcorrencias[[#This Row],[Matricula]],'Jornada Prevista'!$P:$P,FOcorrencias[[#This Row],[Mês/Ano]]) -> 6998.21 | U40: =SUMIFS('Jornada Prevista'!$O:$O,'Jornada Prevista'!$B:$B,FOcorrencias[[#This Row],[Matricula]],'Jornada Prevista'!$P:$P,FOcorrencias[[#This Row],[Mês/Ano]]) -> 37.869102 | V40: =IF(FOcorrencias[[#This Row],[Data da Ocorrência]]="","",TEXT(FOcorrencias[[#This Row],[Data da Ocorrência]],"mm/aaaa")) -> 05/2025
B41: 38 | C41: 13/09/2025 | D41: =IF(FOcorrencias[[#This Row],[Data da Ocorrência]]="","",TEXT(FOcorrencias[[#This Row],[Data da Ocorrência]],"dddd")) -> sábado | E41: 4 | F41: =IF(FOcorrencias[[#This Row],[Matricula]]="","",VLOOKUP(FOcorrencias[[#This Row],[Matricula]],Cadastros!$P:$Q,2,0)) -> Funcionario 4 | G41: Atitude disciplinar | H41: Motivo não informado | J41: Não | K41: 02:00 | M41: {=INDEX('Jornada Prevista'!$H:$H,MATCH(1,('Jornada Prevista'!$B:$B=FOcorrencias[[#This Row],[Matricula]])*('Jornada Prevista'!$P:$P=FOcorrencias[[#This Row],[Mês/Ano]]),0))} -> Empresa Z | N41: {=INDEX('Jornada Prevista'!$I:$I,MATCH(1,('Jornada Prevista'!$B:$B=FOcorrencias[[#This Row],[Matricula]])*('Jornada Prevista'!$P:$P=FOcorrencias[[#This Row],[Mês/Ano]]),0))} -> Engenharia | O41: {=INDEX('Jornada Prevista'!$J:$J,MATCH(1,('Jornada Prevista'!$B:$B=FOcorrencias[[#This Row],[Matricula]])*('Jornada Prevista'!$P:$P=FOcorrencias[[#This Row],[Mês/Ano]]),0))} -> Consultor | P41: {=INDEX('Jornada Prevista'!$K:$K,MATCH(1,('Jornada Prevista'!$B:$B=FOcorrencias[[#This Row],[Matricula]])*('Jornada Prevista'!$P:$P=FOcorrencias[[#This Row],[Mês/Ano]]),0))} -> Turno Folguista | Q41: {=INDEX('Jornada Prevista'!$L:$L,MATCH(1,('Jornada Prevista'!$B:$B=FOcorrencias[[#This Row],[Matricula]])*('Jornada Prevista'!$P:$P=FOcorrencias[[#This Row],[Mês/Ano]]),0))} -> 6x1 | R41: {=INDEX('Jornada Prevista'!$M:$M,MATCH(1,('Jornada Prevista'!$B:$B=FOcorrencias[[#This Row],[Matricula]])*('Jornada Prevista'!$P:$P=FOcorrencias[[#This Row],[Mês/Ano]]),0))} -> CLT | S41: =SUMIFS('Jornada Prevista'!$G:$G,'Jornada Prevista'!$B:$B,FOcorrencias[[#This Row],[Matricula]],'Jornada Prevista'!$P:$P,FOcorrencias[[#This Row],[Mês/Ano]]) -> 184.8 | T41: =SUMIFS('Jornada Prevista'!$N:$N,'Jornada Prevista'!$B:$B,FOcorrencias[[#This Row],[Matricula]],'Jornada Prevista'!$P:$P,FOcorrencias[[#This Row],[Mês/Ano]]) -> 7436.92 | U41: =SUMIFS('Jornada Prevista'!$O:$O,'Jornada Prevista'!$B:$B,FOcorrencias[[#This Row],[Matricula]],'Jornada Prevista'!$P:$P,FOcorrencias[[#This Row],[Mês/Ano]]) -> 40.243074 | V41: =IF(FOcorrencias[[#This Row],[Data da Ocorrência]]="","",TEXT(FOcorrencias[[#This Row],[Data da Ocorrência]],"mm/aaaa")) -> 09/2025
B42: 39 | C42: 23/12/2025 | D42: =IF(FOcorrencias[[#This Row],[Data da Ocorrência]]="","",TEXT(FOcorrencias[[#This Row],[Data da Ocorrência]],"dddd")) -> terça-feira | E42: 4 | F42: =IF(FOcorrencias[[#This Row],[Matricula]]="","",VLOOKUP(FOcorrencias[[#This Row],[Matricula]],Cadastros!$P:$Q,2,0)) -> Funcionario 4 | G42: Atraso | H42: Reunião externa | I42: Z00 | J42: Não | K42: 00:20 | M42: {=INDEX('Jornada Prevista'!$H:$H,MATCH(1,('Jornada Prevista'!$B:$B=FOcorrencias[[#This Row],[Matricula]])*('Jornada Prevista'!$P:$P=FOcorrencias[[#This Row],[Mês/Ano]]),0))} -> Empresa Z | N42: {=INDEX('Jornada Prevista'!$I:$I,MATCH(1,('Jornada Prevista'!$B:$B=FOcorrencias[[#This Row],[Matricula]])*('Jornada Prevista'!$P:$P=FOcorrencias[[#This Row],[Mês/Ano]]),0))} -> Administração | O42: {=INDEX('Jornada Prevista'!$J:$J,MATCH(1,('Jornada Prevista'!$B:$B=FOcorrencias[[#This Row],[Matricula]])*('Jornada Prevista'!$P:$P=FOcorrencias[[#This Row],[Mês/Ano]]),0))} -> Gerente | P42: {=INDEX('Jornada Prevista'!$K:$K,MATCH(1,('Jornada Prevista'!$B:$B=FOcorrencias[[#This Row],[Matricula]])*('Jornada Prevista'!$P:$P=FOcorrencias[[#This Row],[Mês/Ano]]),0))} -> Turno A | Q42: {=INDEX('Jornada Prevista'!$L:$L,MATCH(1,('Jornada Prevista'!$B:$B=FOcorrencias[[#This Row],[Matricula]])*('Jornada Prevista'!$P:$P=FOcorrencias[[#This Row],[Mês/Ano]]),0))} -> 6x1 | R42: {=INDEX('Jornada Prevista'!$M:$M,MATCH(1,('Jornada Prevista'!$B:$B=FOcorrencias[[#This Row],[Matricula]])*('Jornada Prevista'!$P:$P=FOcorrencias[[#This Row],[Mês/Ano]]),0))} -> CLT | S42: =SUMIFS('Jornada Prevista'!$G:$G,'Jornada Prevista'!$B:$B,FOcorrencias[[#This Row],[Matricula]],'Jornada Prevista'!$P:$P,FOcorrencias[[#This Row],[Mês/Ano]]) -> 184.8 | T42: =SUMIFS('Jornada Prevista'!$N:$N,'Jornada Prevista'!$B:$B,FOcorrencias[[#This Row],[Matricula]],'Jornada Prevista'!$P:$P,FOcorrencias[[#This Row],[Mês/Ano]]) -> 10417.01 | U42: =SUMIFS('Jornada Prevista'!$O:$O,'Jornada Prevista'!$B:$B,FOcorrencias[[#This Row],[Matricula]],'Jornada Prevista'!$P:$P,FOcorrencias[[#This Row],[Mês/Ano]]) -> 56.369102 | V42: =IF(FOcorrencias[[#This Row],[Data da Ocorrência]]="","",TEXT(FOcorrencias[[#This Row],[Data da Ocorrência]],"mm/aaaa")) -> 12/2025
B43: 40 | C43: 13/08/2025 | D43: =IF(FOcorrencias[[#This Row],[Data da Ocorrência]]="","",TEXT(FOcorrencias[[#This Row],[Data da Ocorrência]],"dddd")) -> quarta-feira | E43: 4 | F43: =IF(FOcorrencias[[#This Row],[Matricula]]="","",VLOOKUP(FOcorrencias[[#This Row],[Matricula]],Cadastros!$P:$Q,2,0)) -> Funcionario 4 | G43: Falta | H43: Problemas pessoais | J43: Sim | K43: 04:00 | M43: {=INDEX('Jornada Prevista'!$H:$H,MATCH(1,('Jornada Prevista'!$B:$B=FOcorrencias[[#This Row],[Matricula]])*('Jornada Prevista'!$P:$P=FOcorrencias[[#This Row],[Mês/Ano]]),0))} -> Empresa Z | N43: {=INDEX('Jornada Prevista'!$I:$I,MATCH(1,('Jornada Prevista'!$B:$B=FOcorrencias[[#This Row],[Matricula]])*('Jornada Prevista'!$P:$P=FOcorrencias[[#This Row],[Mês/Ano]]),0))} -> Jurídico | O43: {=INDEX('Jornada Prevista'!$J:$J,MATCH(1,('Jornada Prevista'!$B:$B=FOcorrencias[[#This Row],[Matricula]])*('Jornada Prevista'!$P:$P=FOcorrencias[[#This Row],[Mês/Ano]]),0))} -> Assistente | P43: {=INDEX('Jornada Prevista'!$K:$K,MATCH(1,('Jornada Prevista'!$B:$B=FOcorrencias[[#This Row],[Matricula]])*('Jornada Prevista'!$P:$P=FOcorrencias[[#This Row],[Mês/Ano]]),0))} -> Turno D | Q43: {=INDEX('Jornada Prevista'!$L:$L,MATCH(1,('Jornada Prevista'!$B:$B=FOcorrencias[[#This Row],[Matricula]])*('Jornada Prevista'!$P:$P=FOcorrencias[[#This Row],[Mês/Ano]]),0))} -> 12x36 | R43: {=INDEX('Jornada Prevista'!$M:$M,MATCH(1,('Jornada Prevista'!$B:$B=FOcorrencias[[#This Row],[Matricula]])*('Jornada Prevista'!$P:$P=FOcorrencias[[#This Row],[Mês/Ano]]),0))} -> Estágio | S43: =SUMIFS('Jornada Prevista'!$G:$G,'Jornada Prevista'!$B:$B,FOcorrencias[[#This Row],[Matricula]],'Jornada Prevista'!$P:$P,FOcorrencias[[#This Row],[Mês/Ano]]) -> 184.8 | T43: =SUMIFS('Jornada Prevista'!$N:$N,'Jornada Prevista'!$B:$B,FOcorrencias[[#This Row],[Matricula]],'Jornada Prevista'!$P:$P,FOcorrencias[[#This Row],[Mês/Ano]]) -> 10747.95 | U43: =SUMIFS('Jornada Prevista'!$O:$O,'Jornada Prevista'!$B:$B,FOcorrencias[[#This Row],[Matricula]],'Jornada Prevista'!$P:$P,FOcorrencias[[#This Row],[Mês/Ano]]) -> 58.159903 | V43: =IF(FOcorrencias[[#This Row],[Data da Ocorrência]]="","",TEXT(FOcorrencias[[#This Row],[Data da Ocorrência]],"mm/aaaa")) -> 08/2025
B44: 41 | C44: 03/10/2025 | D44: =IF(FOcorrencias[[#This Row],[Data da Ocorrência]]="","",TEXT(FOcorrencias[[#This Row],[Data da Ocorrência]],"dddd")) -> sexta-feira | E44: 4 | F44: =IF(FOcorrencias[[#This Row],[Matricula]]="","",VLOOKUP(FOcorrencias[[#This Row],[Matricula]],Cadastros!$P:$Q,2,0)) -> Funcionario 4 | G44: Saída Antecipada | H44: Doença | I44: K21 | J44: Sim | K44: 00:30 | M44: {=INDEX('Jornada Prevista'!$H:$H,MATCH(1,('Jornada Prevista'!$B:$B=FOcorrencias[[#This Row],[Matricula]])*('Jornada Prevista'!$P:$P=FOcorrencias[[#This Row],[Mês/Ano]]),0))} -> Empresa Y | N44: {=INDEX('Jornada Prevista'!$I:$I,MATCH(1,('Jornada Prevista'!$B:$B=FOcorrencias[[#This Row],[Matricula]])*('Jornada Prevista'!$P:$P=FOcorrencias[[#This Row],[Mês/Ano]]),0))} -> Atendimento | O44: {=INDEX('Jornada Prevista'!$J:$J,MATCH(1,('Jornada Prevista'!$B:$B=FOcorrencias[[#This Row],[Matricula]])*('Jornada Prevista'!$P:$P=FOcorrencias[[#This Row],[Mês/Ano]]),0))} -> Assistente | P44: {=INDEX('Jornada Prevista'!$K:$K,MATCH(1,('Jornada Prevista'!$B:$B=FOcorrencias[[#This Row],[Matricula]])*('Jornada Prevista'!$P:$P=FOcorrencias[[#This Row],[Mês/Ano]]),0))} -> Turno D | Q44: {=INDEX('Jornada Prevista'!$L:$L,MATCH(1,('Jornada Prevista'!$B:$B=FOcorrencias[[#This Row],[Matricula]])*('Jornada Prevista'!$P:$P=FOcorrencias[[#This Row],[Mês/Ano]]),0))} -> 6x1 | R44: {=INDEX('Jornada Prevista'!$M:$M,MATCH(1,('Jornada Prevista'!$B:$B=FOcorrencias[[#This Row],[Matricula]])*('Jornada Prevista'!$P:$P=FOcorrencias[[#This Row],[Mês/Ano]]),0))} -> Estágio | S44: =SUMIFS('Jornada Prevista'!$G:$G,'Jornada Prevista'!$B:$B,FOcorrencias[[#This Row],[Matricula]],'Jornada Prevista'!$P:$P,FOcorrencias[[#This Row],[Mês/Ano]]) -> 184.8 | T44: =SUMIFS('Jornada Prevista'!$N:$N,'Jornada Prevista'!$B:$B,FOcorrencias[[#This Row],[Matricula]],'Jornada Prevista'!$P:$P,FOcorrencias[[#This Row],[Mês/Ano]]) -> 8133.58 | U44: =SUMIFS('Jornada Prevista'!$O:$O,'Jornada Prevista'!$B:$B,FOcorrencias[[#This Row],[Matricula]],'Jornada Prevista'!$P:$P,FOcorrencias[[#This Row],[Mês/Ano]]) -> 44.012879 | V44: =IF(FOcorrencias[[#This Row],[Data da Ocorrência]]="","",TEXT(FOcorrencias[[#This Row],[Data da Ocorrência]],"mm/aaaa")) -> 10/2025
B45: 42 | C45: 20/04/2025 | D45: =IF(FOcorrencias[[#This Row],[Data da Ocorrência]]="","",TEXT(FOcorrencias[[#This Row],[Data da Ocorrência]],"dddd")) -> domingo | E45: 4 | F45: =IF(FOcorrencias[[#This Row],[Matricula]]="","",VLOOKUP(FOcorrencias[[#This Row],[Matricula]],Cadastros!$P:$Q,2,0)) -> Funcionario 4 | G45: Saída Antecipada | H45: Trânsito | J45: Sim | K45: 00:15 | M45: {=INDEX('Jornada Prevista'!$H:$H,MATCH(1,('Jornada Prevista'!$B:$B=FOcorrencias[[#This Row],[Matricula]])*('Jornada Prevista'!$P:$P=FOcorrencias[[#This Row],[Mês/Ano]]),0))} -> Empresa Y | N45: {=INDEX('Jornada Prevista'!$I:$I,MATCH(1,('Jornada Prevista'!$B:$B=FOcorrencias[[#This Row],[Matricula]])*('Jornada Prevista'!$P:$P=FOcorrencias[[#This Row],[Mês/Ano]]),0))} -> TI | O45: {=INDEX('Jornada Prevista'!$J:$J,MATCH(1,('Jornada Prevista'!$B:$B=FOcorrencias[[#This Row],[Matricula]])*('Jornada Prevista'!$P:$P=FOcorrencias[[#This Row],[Mês/Ano]]),0))} -> Assistente | P45: {=INDEX('Jornada Prevista'!$K:$K,MATCH(1,('Jornada Prevista'!$B:$B=FOcorrencias[[#This Row],[Matricula]])*('Jornada Prevista'!$P:$P=FOcorrencias[[#This Row],[Mês/Ano]]),0))} -> Turno C | Q45: {=INDEX('Jornada Prevista'!$L:$L,MATCH(1,('Jornada Prevista'!$B:$B=FOcorrencias[[#This Row],[Matricula]])*('Jornada Prevista'!$P:$P=FOcorrencias[[#This Row],[Mês/Ano]]),0))} -> 5x1 | R45: {=INDEX('Jornada Prevista'!$M:$M,MATCH(1,('Jornada Prevista'!$B:$B=FOcorrencias[[#This Row],[Matricula]])*('Jornada Prevista'!$P:$P=FOcorrencias[[#This Row],[Mês/Ano]]),0))} -> PJ | S45: =SUMIFS('Jornada Prevista'!$G:$G,'Jornada Prevista'!$B:$B,FOcorrencias[[#This Row],[Matricula]],'Jornada Prevista'!$P:$P,FOcorrencias[[#This Row],[Mês/Ano]]) -> 184.8 | T45: =SUMIFS('Jornada Prevista'!$N:$N,'Jornada Prevista'!$B:$B,FOcorrencias[[#This Row],[Matricula]],'Jornada Prevista'!$P:$P,FOcorrencias[[#This Row],[Mês/Ano]]) -> 10877.19 | U45: =SUMIFS('Jornada Prevista'!$O:$O,'Jornada Prevista'!$B:$B,FOcorrencias[[#This Row],[Matricula]],'Jornada Prevista'!$P:$P,FOcorrencias[[#This Row],[Mês/Ano]]) -> 58.859253 | V45: =IF(FOcorrencias[[#This Row],[Data da Ocorrência]]="","",TEXT(FOcorrencias[[#This Row],[Data da Ocorrência]],"mm/aaaa")) -> 04/2025
B46: 43 | C46: 21/02/2025 | D46: =IF(FOcorrencias[[#This Row],[Data da Ocorrência]]="","",TEXT(FOcorrencias[[#This Row],[Data da Ocorrência]],"dddd")) -> sexta-feira | E46: 4 | F46: =IF(FOcorrencias[[#This Row],[Matricula]]="","",VLOOKUP(FOcorrencias[[#This Row],[Matricula]],Cadastros!$P:$Q,2,0)) -> Funcionario 4 | G46: Atitude disciplinar | H46: Falta de transporte | J46: Não | K46: 08:00 | M46: {=INDEX('Jornada Prevista'!$H:$H,MATCH(1,('Jornada Prevista'!$B:$B=FOcorrencias[[#This Row],[Matricula]])*('Jornada Prevista'!$P:$P=FOcorrencias[[#This Row],[Mês/Ano]]),0))} -> Empresa Z | N46: {=INDEX('Jornada Prevista'!$I:$I,MATCH(1,('Jornada Prevista'!$B:$B=FOcorrencias[[#This Row],[Matricula]])*('Jornada Prevista'!$P:$P=FOcorrencias[[#This Row],[Mês/Ano]]),0))} -> Administração | O46: {=INDEX('Jornada Prevista'!$J:$J,MATCH(1,('Jornada Prevista'!$B:$B=FOcorrencias[[#This Row],[Matricula]])*('Jornada Prevista'!$P:$P=FOcorrencias[[#This Row],[Mês/Ano]]),0))} -> Supervisor | P46: {=INDEX('Jornada Prevista'!$K:$K,MATCH(1,('Jornada Prevista'!$B:$B=FOcorrencias[[#This Row],[Matricula]])*('Jornada Prevista'!$P:$P=FOcorrencias[[#This Row],[Mês/Ano]]),0))} -> Turno Folguista | Q46: {=INDEX('Jornada Prevista'!$L:$L,MATCH(1,('Jornada Prevista'!$B:$B=FOcorrencias[[#This Row],[Matricula]])*('Jornada Prevista'!$P:$P=FOcorrencias[[#This Row],[Mês/Ano]]),0))} -> 12x36 | R46: {=INDEX('Jornada Prevista'!$M:$M,MATCH(1,('Jornada Prevista'!$B:$B=FOcorrencias[[#This Row],[Matricula]])*('Jornada Prevista'!$P:$P=FOcorrencias[[#This Row],[Mês/Ano]]),0))} -> PJ | S46: =SUMIFS('Jornada Prevista'!$G:$G,'Jornada Prevista'!$B:$B,FOcorrencias[[#This Row],[Matricula]],'Jornada Prevista'!$P:$P,FOcorrencias[[#This Row],[Mês/Ano]]) -> 184.8 | T46: =SUMIFS('Jornada Prevista'!$N:$N,'Jornada Prevista'!$B:$B,FOcorrencias[[#This Row],[Matricula]],'Jornada Prevista'!$P:$P,FOcorrencias[[#This Row],[Mês/Ano]]) -> 8338.3 | U46: =SUMIFS('Jornada Prevista'!$O:$O,'Jornada Prevista'!$B:$B,FOcorrencias[[#This Row],[Matricula]],'Jornada Prevista'!$P:$P,FOcorrencias[[#This Row],[Mês/Ano]]) -> 45.120671 | V46: =IF(FOcorrencias[[#This Row],[Data da Ocorrência]]="","",TEXT(FOcorrencias[[#This Row],[Data da Ocorrência]],"mm/aaaa")) -> 02/2025
B47: 44 | C47: 31/08/2025 | D47: =IF(FOcorrencias[[#This Row],[Data da Ocorrência]]="","",TEXT(FOcorrencias[[#This Row],[Data da Ocorrência]],"dddd")) -> domingo | E47: 4 | F47: =IF(FOcorrencias[[#This Row],[Matricula]]="","",VLOOKUP(FOcorrencias[[#This Row],[Matricula]],Cadastros!$P:$Q,2,0)) -> Funcionario 4 | G47: Saída Antecipada | H47: Motivo não informado | J47: Não | K47: 02:00 | M47: {=INDEX('Jornada Prevista'!$H:$H,MATCH(1,('Jornada Prevista'!$B:$B=FOcorrencias[[#This Row],[Matricula]])*('Jornada Prevista'!$P:$P=FOcorrencias[[#This Row],[Mês/Ano]]),0))} -> Empresa Z | N47: {=INDEX('Jornada Prevista'!$I:$I,MATCH(1,('Jornada Prevista'!$B:$B=FOcorrencias[[#This Row],[Matricula]])*('Jornada Prevista'!$P:$P=FOcorrencias[[#This Row],[Mês/Ano]]),0))} -> Jurídico | O47: {=INDEX('Jornada Prevista'!$J:$J,MATCH(1,('Jornada Prevista'!$B:$B=FOcorrencias[[#This Row],[Matricula]])*('Jornada Prevista'!$P:$P=FOcorrencias[[#This Row],[Mês/Ano]]),0))} -> Assistente | P47: {=INDEX('Jornada Prevista'!$K:$K,MATCH(1,('Jornada Prevista'!$B:$B=FOcorrencias[[#This Row],[Matricula]])*('Jornada Prevista'!$P:$P=FOcorrencias[[#This Row],[Mês/Ano]]),0))} -> Turno D | Q47: {=INDEX('Jornada Prevista'!$L:$L,MATCH(1,('Jornada Prevista'!$B:$B=FOcorrencias[[#This Row],[Matricula]])*('Jornada Prevista'!$P:$P=FOcorrencias[[#This Row],[Mês/Ano]]),0))} -> 12x36 | R47: {=INDEX('Jornada Prevista'!$M:$M,MATCH(1,('Jornada Prevista'!$B:$B=FOcorrencias[[#This Row],[Matricula]])*('Jornada Prevista'!$P:$P=FOcorrencias[[#This Row],[Mês/Ano]]),0))} -> Estágio | S47: =SUMIFS('Jornada Prevista'!$G:$G,'Jornada Prevista'!$B:$B,FOcorrencias[[#This Row],[Matricula]],'Jornada Prevista'!$P:$P,FOcorrencias[[#This Row],[Mês/Ano]]) -> 184.8 | T47: =SUMIFS('Jornada Prevista'!$N:$N,'Jornada Prevista'!$B:$B,FOcorrencias[[#This Row],[Matricula]],'Jornada Prevista'!$P:$P,FOcorrencias[[#This Row],[Mês/Ano]]) -> 10747.95 | U47: =SUMIFS('Jornada Prevista'!$O:$O,'Jornada Prevista'!$B:$B,FOcorrencias[[#This Row],[Matricula]],'Jornada Prevista'!$P:$P,FOcorrencias[[#This Row],[Mês/Ano]]) -> 58.159903 | V47: =IF(FOcorrencias[[#This Row],[Data da Ocorrência]]="","",TEXT(FOcorrencias[[#This Row],[Data da Ocorrência]],"mm/aaaa")) -> 08/2025
B48: 45 | C48: 31/10/2025 | D48: =IF(FOcorrencias[[#This Row],[Data da Ocorrência]]="","",TEXT(FOcorrencias[[#This Row],[Data da Ocorrência]],"dddd")) -> sexta-feira | E48: 5 | F48: =IF(FOcorrencias[[#This Row],[Matricula]]="","",VLOOKUP(FOcorrencias[[#This Row],[Matricula]],Cadastros!$P:$Q,2,0)) -> Funcionario 5 | G48: Atitude disciplinar | H48: Indisciplina | J48: Não | K48: 02:00 | M48: {=INDEX('Jornada Prevista'!$H:$H,MATCH(1,('Jornada Prevista'!$B:$B=FOcorrencias[[#This Row],[Matricula]])*('Jornada Prevista'!$P:$P=FOcorrencias[[#This Row],[Mês/Ano]]),0))} -> Empresa Z | N48: {=INDEX('Jornada Prevista'!$I:$I,MATCH(1,('Jornada Prevista'!$B:$B=FOcorrencias[[#This Row],[Matricula]])*('Jornada Prevista'!$P:$P=FOcorrencias[[#This Row],[Mês/Ano]]),0))} -> Administração | O48: {=INDEX('Jornada Prevista'!$J:$J,MATCH(1,('Jornada Prevista'!$B:$B=FOcorrencias[[#This Row],[Matricula]])*('Jornada Prevista'!$P:$P=FOcorrencias[[#This Row],[Mês/Ano]]),0))} -> Auxiliar | P48: {=INDEX('Jornada Prevista'!$K:$K,MATCH(1,('Jornada Prevista'!$B:$B=FOcorrencias[[#This Row],[Matricula]])*('Jornada Prevista'!$P:$P=FOcorrencias[[#This Row],[Mês/Ano]]),0))} -> Turno Folguista | Q48: {=INDEX('Jornada Prevista'!$L:$L,MATCH(1,('Jornada Prevista'!$B:$B=FOcorrencias[[#This Row],[Matricula]])*('Jornada Prevista'!$P:$P=FOcorrencias[[#This Row],[Mês/Ano]]),0))} -> 5x1 | R48: {=INDEX('Jornada Prevista'!$M:$M,MATCH(1,('Jornada Prevista'!$B:$B=FOcorrencias[[#This Row],[Matricula]])*('Jornada Prevista'!$P:$P=FOcorrencias[[#This Row],[Mês/Ano]]),0))} -> CLT | S48: =SUMIFS('Jornada Prevista'!$G:$G,'Jornada Prevista'!$B:$B,FOcorrencias[[#This Row],[Matricula]],'Jornada Prevista'!$P:$P,FOcorrencias[[#This Row],[Mês/Ano]]) -> 184.8 | T48: =SUMIFS('Jornada Prevista'!$N:$N,'Jornada Prevista'!$B:$B,FOcorrencias[[#This Row],[Matricula]],'Jornada Prevista'!$P:$P,FOcorrencias[[#This Row],[Mês/Ano]]) -> 2875.55 | U48: =SUMIFS('Jornada Prevista'!$O:$O,'Jornada Prevista'!$B:$B,FOcorrencias[[#This Row],[Matricula]],'Jornada Prevista'!$P:$P,FOcorrencias[[#This Row],[Mês/Ano]]) -> 15.560335 | V48: =IF(FOcorrencias[[#This Row],[Data da Ocorrência]]="","",TEXT(FOcorrencias[[#This Row],[Data da Ocorrência]],"mm/aaaa")) -> 10/2025
B49: 46 | C49: 24/04/2025 | D49: =IF(FOcorrencias[[#This Row],[Data da Ocorrência]]="","",TEXT(FOcorrencias[[#This Row],[Data da Ocorrência]],"dddd")) -> quinta-feira | E49: 5 | F49: =IF(FOcorrencias[[#This Row],[Matricula]]="","",VLOOKUP(FOcorrencias[[#This Row],[Matricula]],Cadastros!$P:$Q,2,0)) -> Funcionario 5 | G49: Atitude disciplinar | H49: Doença | I49: I10 | J49: Sim | K49: 04:00 | M49: {=INDEX('Jornada Prevista'!$H:$H,MATCH(1,('Jornada Prevista'!$B:$B=FOcorrencias[[#This Row],[Matricula]])*('Jornada Prevista'!$P:$P=FOcorrencias[[#This Row],[Mês/Ano]]),0))} -> Empresa Z | N49: {=INDEX('Jornada Prevista'!$I:$I,MATCH(1,('Jornada Prevista'!$B:$B=FOcorrencias[[#This Row],[Matricula]])*('Jornada Prevista'!$P:$P=FOcorrencias[[#This Row],[Mês/Ano]]),0))} -> Contabilidade | O49: {=INDEX('Jornada Prevista'!$J:$J,MATCH(1,('Jornada Prevista'!$B:$B=FOcorrencias[[#This Row],[Matricula]])*('Jornada Prevista'!$P:$P=FOcorrencias[[#This Row],[Mês/Ano]]),0))} -> Gerente | P49: {=INDEX('Jornada Prevista'!$K:$K,MATCH(1,('Jornada Prevista'!$B:$B=FOcorrencias[[#This Row],[Matricula]])*('Jornada Prevista'!$P:$P=FOcorrencias[[#This Row],[Mês/Ano]]),0))} -> Turno C | Q49: {=INDEX('Jornada Prevista'!$L:$L,MATCH(1,('Jornada Prevista'!$B:$B=FOcorrencias[[#This Row],[Matricula]])*('Jornada Prevista'!$P:$P=FOcorrencias[[#This Row],[Mês/Ano]]),0))} -> 5x1 | R49: {=INDEX('Jornada Prevista'!$M:$M,MATCH(1,('Jornada Prevista'!$B:$B=FOcorrencias[[#This Row],[Matricula]])*('Jornada Prevista'!$P:$P=FOcorrencias[[#This Row],[Mês/Ano]]),0))} -> Estágio | S49: =SUMIFS('Jornada Prevista'!$G:$G,'Jornada Prevista'!$B:$B,FOcorrencias[[#This Row],[Matricula]],'Jornada Prevista'!$P:$P,FOcorrencias[[#This Row],[Mês/Ano]]) -> 184.8 | T49: =SUMIFS('Jornada Prevista'!$N:$N,'Jornada Prevista'!$B:$B,FOcorrencias[[#This Row],[Matricula]],'Jornada Prevista'!$P:$P,FOcorrencias[[#This Row],[Mês/Ano]]) -> 5695.45 | U49: =SUMIFS('Jornada Prevista'!$O:$O,'Jornada Prevista'!$B:$B,FOcorrencias[[#This Row],[Matricula]],'Jornada Prevista'!$P:$P,FOcorrencias[[#This Row],[Mês/Ano]]) -> 30.819535 | V49: =IF(FOcorrencias[[#This Row],[Data da Ocorrência]]="","",TEXT(FOcorrencias[[#This Row],[Data da Ocorrência]],"mm/aaaa")) -> 04/2025
B50: 47 | C50: 27/11/2025 | D50: =IF(FOcorrencias[[#This Row],[Data da Ocorrência]]="","",TEXT(FOcorrencias[[#This Row],[Data da Ocorrência]],"dddd")) -> quinta-feira | E50: 5 | F50: =IF(FOcorrencias[[#This Row],[Matricula]]="","",VLOOKUP(FOcorrencias[[#This Row],[Matricula]],Cadastros!$P:$Q,2,0)) -> Funcionario 5 | G50: Atraso | H50: Consulta médica | I50: M54 | J50: Sim | K50: 00:15 | M50: {=INDEX('Jornada Prevista'!$H:$H,MATCH(1,('Jornada Prevista'!$B:$B=FOcorrencias[[#This Row],[Matricula]])*('Jornada Prevista'!$P:$P=FOcorrencias[[#This Row],[Mês/Ano]]),0))} -> Empresa Y | N50: {=INDEX('Jornada Prevista'!$I:$I,MATCH(1,('Jornada Prevista'!$B:$B=FOcorrencias[[#This Row],[Matricula]])*('Jornada Prevista'!$P:$P=FOcorrencias[[#This Row],[Mês/Ano]]),0))} -> Jurídico | O50: {=INDEX('Jornada Prevista'!$J:$J,MATCH(1,('Jornada Prevista'!$B:$B=FOcorrencias[[#This Row],[Matricula]])*('Jornada Prevista'!$P:$P=FOcorrencias[[#This Row],[Mês/Ano]]),0))} -> Consultor | P50: {=INDEX('Jornada Prevista'!$K:$K,MATCH(1,('Jornada Prevista'!$B:$B=FOcorrencias[[#This Row],[Matricula]])*('Jornada Prevista'!$P:$P=FOcorrencias[[#This Row],[Mês/Ano]]),0))} -> Turno Folguista | Q50: {=INDEX('Jornada Prevista'!$L:$L,MATCH(1,('Jornada Prevista'!$B:$B=FOcorrencias[[#This Row],[Matricula]])*('Jornada Prevista'!$P:$P=FOcorrencias[[#This Row],[Mês/Ano]]),0))} -> 5x1 | R50: {=INDEX('Jornada Prevista'!$M:$M,MATCH(1,('Jornada Prevista'!$B:$B=FOcorrencias[[#This Row],[Matricula]])*('Jornada Prevista'!$P:$P=FOcorrencias[[#This Row],[Mês/Ano]]),0))} -> PJ | S50: =SUMIFS('Jornada Prevista'!$G:$G,'Jornada Prevista'!$B:$B,FOcorrencias[[#This Row],[Matricula]],'Jornada Prevista'!$P:$P,FOcorrencias[[#This Row],[Mês/Ano]]) -> 184.8 | T50: =SUMIFS('Jornada Prevista'!$N:$N,'Jornada Prevista'!$B:$B,FOcorrencias[[#This Row],[Matricula]],'Jornada Prevista'!$P:$P,FOcorrencias[[#This Row],[Mês/Ano]]) -> 2516.16 | U50: =SUMIFS('Jornada Prevista'!$O:$O,'Jornada Prevista'!$B:$B,FOcorrencias[[#This Row],[Matricula]],'Jornada Prevista'!$P:$P,FOcorrencias[[#This Row],[Mês/Ano]]) -> 13.615584 | V50: =IF(FOcorrencias[[#This Row],[Data da Ocorrência]]="","",TEXT(FOcorrencias[[#This Row],[Data da Ocorrência]],"mm/aaaa")) -> 11/2025
B51: 48 | C51: 24/11/2025 | D51: =IF(FOcorrencias[[#This Row],[Data da Ocorrência]]="","",TEXT(FOcorrencias[[#This Row],[Data da Ocorrência]],"dddd")) -> segunda-feira | E51: 5 | F51: =IF(FOcorrencias[[#This Row],[Matricula]]="","",VLOOKUP(FOcorrencias[[#This Row],[Matricula]],Cadastros!$P:$Q,2,0)) -> Funcionario 5 | G51: Falta | H51: Doença | I51: J06 | J51: Sim | K51: 08:00 | M51: {=INDEX('Jornada Prevista'!$H:$H,MATCH(1,('Jornada Prevista'!$B:$B=FOcorrencias[[#This Row],[Matricula]])*('Jornada Prevista'!$P:$P=FOcorrencias[[#This Row],[Mês/Ano]]),0))} -> Empresa Y | N51: {=INDEX('Jornada Prevista'!$I:$I,MATCH(1,('Jornada Prevista'!$B:$B=FOcorrencias[[#This Row],[Matricula]])*('Jornada Prevista'!$P:$P=FOcorrencias[[#This Row],[Mês/Ano]]),0))} -> Jurídico | O51: {=INDEX('Jornada Prevista'!$J:$J,MATCH(1,('Jornada Prevista'!$B:$B=FOcorrencias[[#This Row],[Matricula]])*('Jornada Prevista'!$P:$P=FOcorrencias[[#This Row],[Mês/Ano]]),0))} -> Consultor | P51: {=INDEX('Jornada Prevista'!$K:$K,MATCH(1,('Jornada Prevista'!$B:$B=FOcorrencias[[#This Row],[Matricula]])*('Jornada Prevista'!$P:$P=FOcorrencias[[#This Row],[Mês/Ano]]),0))} -> Turno Folguista | Q51: {=INDEX('Jornada Prevista'!$L:$L,MATCH(1,('Jornada Prevista'!$B:$B=FOcorrencias[[#This Row],[Matricula]])*('Jornada Prevista'!$P:$P=FOcorrencias[[#This Row],[Mês/Ano]]),0))} -> 5x1 | R51: {=INDEX('Jornada Prevista'!$M:$M,MATCH(1,('Jornada Prevista'!$B:$B=FOcorrencias[[#This Row],[Matricula]])*('Jornada Prevista'!$P:$P=FOcorrencias[[#This Row],[Mês/Ano]]),0))} -> PJ | S51: =SUMIFS('Jornada Prevista'!$G:$G,'Jornada Prevista'!$B:$B,FOcorrencias[[#This Row],[Matricula]],'Jornada Prevista'!$P:$P,FOcorrencias[[#This Row],[Mês/Ano]]) -> 184.8 | T51: =SUMIFS('Jornada Prevista'!$N:$N,'Jornada Prevista'!$B:$B,FOcorrencias[[#This Row],[Matricula]],'Jornada Prevista'!$P:$P,FOcorrencias[[#This Row],[Mês/Ano]]) -> 2516.16 | U51: =SUMIFS('Jornada Prevista'!$O:$O,'Jornada Prevista'!$B:$B,FOcorrencias[[#This Row],[Matricula]],'Jornada Prevista'!$P:$P,FOcorrencias[[#This Row],[Mês/Ano]]) -> 13.615584 | V51: =IF(FOcorrencias[[#This Row],[Data da Ocorrência]]="","",TEXT(FOcorrencias[[#This Row],[Data da Ocorrência]],"mm/aaaa")) -> 11/2025
B52: 49 | C52: 21/12/2025 | D52: =IF(FOcorrencias[[#This Row],[Data da Ocorrência]]="","",TEXT(FOcorrencias[[#This Row],[Data da Ocorrência]],"dddd")) -> domingo | E52: 5 | F52: =IF(FOcorrencias[[#This Row],[Matricula]]="","",VLOOKUP(FOcorrencias[[#This Row],[Matricula]],Cadastros!$P:$Q,2,0)) -> Funcionario 5 | G52: Saída Antecipada | H52: Problemas pessoais | J52: Sim | K52: 01:00 | M52: {=INDEX('Jornada Prevista'!$H:$H,MATCH(1,('Jornada Prevista'!$B:$B=FOcorrencias[[#This Row],[Matricula]])*('Jornada Prevista'!$P:$P=FOcorrencias[[#This Row],[Mês/Ano]]),0))} -> Empresa Y | N52: {=INDEX('Jornada Prevista'!$I:$I,MATCH(1,('Jornada Prevista'!$B:$B=FOcorrencias[[#This Row],[Matricula]])*('Jornada Prevista'!$P:$P=FOcorrencias[[#This Row],[Mês/Ano]]),0))} -> Financeiro | O52: {=INDEX('Jornada Prevista'!$J:$J,MATCH(1,('Jornada Prevista'!$B:$B=FOcorrencias[[#This Row],[Matricula]])*('Jornada Prevista'!$P:$P=FOcorrencias[[#This Row],[Mês/Ano]]),0))} -> Gerente | P52: {=INDEX('Jornada Prevista'!$K:$K,MATCH(1,('Jornada Prevista'!$B:$B=FOcorrencias[[#This Row],[Matricula]])*('Jornada Prevista'!$P:$P=FOcorrencias[[#This Row],[Mês/Ano]]),0))} -> Turno A | Q52: {=INDEX('Jornada Prevista'!$L:$L,MATCH(1,('Jornada Prevista'!$B:$B=FOcorrencias[[#This Row],[Matricula]])*('Jornada Prevista'!$P:$P=FOcorrencias[[#This Row],[Mês/Ano]]),0))} -> 5x1 | R52: {=INDEX('Jornada Prevista'!$M:$M,MATCH(1,('Jornada Prevista'!$B:$B=FOcorrencias[[#This Row],[Matricula]])*('Jornada Prevista'!$P:$P=FOcorrencias[[#This Row],[Mês/Ano]]),0))} -> CLT | S52: =SUMIFS('Jornada Prevista'!$G:$G,'Jornada Prevista'!$B:$B,FOcorrencias[[#This Row],[Matricula]],'Jornada Prevista'!$P:$P,FOcorrencias[[#This Row],[Mês/Ano]]) -> 184.8 | T52: =SUMIFS('Jornada Prevista'!$N:$N,'Jornada Prevista'!$B:$B,FOcorrencias[[#This Row],[Matricula]],'Jornada Prevista'!$P:$P,FOcorrencias[[#This Row],[Mês/Ano]]) -> 9161.81 | U52: =SUMIFS('Jornada Prevista'!$O:$O,'Jornada Prevista'!$B:$B,FOcorrencias[[#This Row],[Matricula]],'Jornada Prevista'!$P:$P,FOcorrencias[[#This Row],[Mês/Ano]]) -> 49.576894 | V52: =IF(FOcorrencias[[#This Row],[Data da Ocorrência]]="","",TEXT(FOcorrencias[[#This Row],[Data da Ocorrência]],"mm/aaaa")) -> 12/2025
B53: 50 | C53: 08/03/2025 | D53: =IF(FOcorrencias[[#This Row],[Data da Ocorrência]]="","",TEXT(FOcorrencias[[#This Row],[Data da Ocorrência]],"dddd")) -> sábado | E53: 5 | F53: =IF(FOcorrencias[[#This Row],[Matricula]]="","",VLOOKUP(FOcorrencias[[#This Row],[Matricula]],Cadastros!$P:$Q,2,0)) -> Funcionario 5 | G53: Atitude disciplinar | H53: Falta de transporte | J53: Não | K53: 01:00 | M53: {=INDEX('Jornada Prevista'!$H:$H,MATCH(1,('Jornada Prevista'!$B:$B=FOcorrencias[[#This Row],[Matricula]])*('Jornada Prevista'!$P:$P=FOcorrencias[[#This Row],[Mês/Ano]]),0))} -> Empresa Z | N53: {=INDEX('Jornada Prevista'!$I:$I,MATCH(1,('Jornada Prevista'!$B:$B=FOcorrencias[[#This Row],[Matricula]])*('Jornada Prevista'!$P:$P=FOcorrencias[[#This Row],[Mês/Ano]]),0))} -> Logística | O53: {=INDEX('Jornada Prevista'!$J:$J,MATCH(1,('Jornada Prevista'!$B:$B=FOcorrencias[[#This Row],[Matricula]])*('Jornada Prevista'!$P:$P=FOcorrencias[[#This Row],[Mês/Ano]]),0))} -> Estagiário | P53: {=INDEX('Jornada Prevista'!$K:$K,MATCH(1,('Jornada Prevista'!$B:$B=FOcorrencias[[#This Row],[Matricula]])*('Jornada Prevista'!$P:$P=FOcorrencias[[#This Row],[Mês/Ano]]),0))} -> Turno B | Q53: {=INDEX('Jornada Prevista'!$L:$L,MATCH(1,('Jornada Prevista'!$B:$B=FOcorrencias[[#This Row],[Matricula]])*('Jornada Prevista'!$P:$P=FOcorrencias[[#This Row],[Mês/Ano]]),0))} -> 6x1 | R53: {=INDEX('Jornada Prevista'!$M:$M,MATCH(1,('Jornada Prevista'!$B:$B=FOcorrencias[[#This Row],[Matricula]])*('Jornada Prevista'!$P:$P=FOcorrencias[[#This Row],[Mês/Ano]]),0))} -> CLT | S53: =SUMIFS('Jornada Prevista'!$G:$G,'Jornada Prevista'!$B:$B,FOcorrencias[[#This Row],[Matricula]],'Jornada Prevista'!$P:$P,FOcorrencias[[#This Row],[Mês/Ano]]) -> 184.8 | T53: =SUMIFS('Jornada Prevista'!$N:$N,'Jornada Prevista'!$B:$B,FOcorrencias[[#This Row],[Matricula]],'Jornada Prevista'!$P:$P,FOcorrencias[[#This Row],[Mês/Ano]]) -> 5153.83 | U53: =SUMIFS('Jornada Prevista'!$O:$O,'Jornada Prevista'!$B:$B,FOcorrencias[[#This Row],[Matricula]],'Jornada Prevista'!$P:$P,FOcorrencias[[#This Row],[Mês/Ano]]) -> 27.88869 | V53: =IF(FOcorrencias[[#This Row],[Data da Ocorrência]]="","",TEXT(FOcorrencias[[#This Row],[Data da Ocorrência]],"mm/aaaa")) -> 03/2025
B54: 51 | C54: 14/04/2025 | D54: =IF(FOcorrencias[[#This Row],[Data da Ocorrência]]="","",TEXT(FOcorrencias[[#This Row],[Data da Ocorrência]],"dddd")) -> segunda-feira | E54: 5 | F54: =IF(FOcorrencias[[#This Row],[Matricula]]="","",VLOOKUP(FOcorrencias[[#This Row],[Matricula]],Cadastros!$P:$Q,2,0)) -> Funcionario 5 | G54: Saída Antecipada | H54: Consulta médica | J54: Não | K54: 00:30 | M54: {=INDEX('Jornada Prevista'!$H:$H,MATCH(1,('Jornada Prevista'!$B:$B=FOcorrencias[[#This Row],[Matricula]])*('Jornada Prevista'!$P:$P=FOcorrencias[[#This Row],[Mês/Ano]]),0))} -> Empresa Z | N54: {=INDEX('Jornada Prevista'!$I:$I,MATCH(1,('Jornada Prevista'!$B:$B=FOcorrencias[[#This Row],[Matricula]])*('Jornada Prevista'!$P:$P=FOcorrencias[[#This Row],[Mês/Ano]]),0))} -> Contabilidade | O54: {=INDEX('Jornada Prevista'!$J:$J,MATCH(1,('Jornada Prevista'!$B:$B=FOcorrencias[[#This Row],[Matricula]])*('Jornada Prevista'!$P:$P=FOcorrencias[[#This Row],[Mês/Ano]]),0))} -> Gerente | P54: {=INDEX('Jornada Prevista'!$K:$K,MATCH(1,('Jornada Prevista'!$B:$B=FOcorrencias[[#This Row],[Matricula]])*('Jornada Prevista'!$P:$P=FOcorrencias[[#This Row],[Mês/Ano]]),0))} -> Turno C | Q54: {=INDEX('Jornada Prevista'!$L:$L,MATCH(1,('Jornada Prevista'!$B:$B=FOcorrencias[[#This Row],[Matricula]])*('Jornada Prevista'!$P:$P=FOcorrencias[[#This Row],[Mês/Ano]]),0))} -> 5x1 | R54: {=INDEX('Jornada Prevista'!$M:$M,MATCH(1,('Jornada Prevista'!$B:$B=FOcorrencias[[#This Row],[Matricula]])*('Jornada Prevista'!$P:$P=FOcorrencias[[#This Row],[Mês/Ano]]),0))} -> Estágio | S54: =SUMIFS('Jornada Prevista'!$G:$G,'Jornada Prevista'!$B:$B,FOcorrencias[[#This Row],[Matricula]],'Jornada Prevista'!$P:$P,FOcorrencias[[#This Row],[Mês/Ano]]) -> 184.8 | T54: =SUMIFS('Jornada Prevista'!$N:$N,'Jornada Prevista'!$B:$B,FOcorrencias[[#This Row],[Matricula]],'Jornada Prevista'!$P:$P,FOcorrencias[[#This Row],[Mês/Ano]]) -> 5695.45 | U54: =SUMIFS('Jornada Prevista'!$O:$O,'Jornada Prevista'!$B:$B,FOcorrencias[[#This Row],[Matricula]],'Jornada Prevista'!$P:$P,FOcorrencias[[#This Row],[Mês/Ano]]) -> 30.819535 | V54: =IF(FOcorrencias[[#This Row],[Data da Ocorrência]]="","",TEXT(FOcorrencias[[#This Row],[Data da Ocorrência]],"mm/aaaa")) -> 04/2025
B55: 52 | C55: 11/09/2025 | D55: =IF(FOcorrencias[[#This Row],[Data da Ocorrência]]="","",TEXT(FOcorrencias[[#This Row],[Data da Ocorrência]],"dddd")) -> quinta-feira | E55: 5 | F55: =IF(FOcorrencias[[#This Row],[Matricula]]="","",VLOOKUP(FOcorrencias[[#This Row],[Matricula]],Cadastros!$P:$Q,2,0)) -> Funcionario 5 | G55: Falta | H55: Consulta médica | I55: R51 | J55: Sim | K55: 08:00 | M55: {=INDEX('Jornada Prevista'!$H:$H,MATCH(1,('Jornada Prevista'!$B:$B=FOcorrencias[[#This Row],[Matricula]])*('Jornada Prevista'!$P:$P=FOcorrencias[[#This Row],[Mês/Ano]]),0))} -> Empresa Y | N55: {=INDEX('Jornada Prevista'!$I:$I,MATCH(1,('Jornada Prevista'!$B:$B=FOcorrencias[[#This Row],[Matricula]])*('Jornada Prevista'!$P:$P=FOcorrencias[[#This Row],[Mês/Ano]]),0))} -> Recursos Humanos | O55: {=INDEX('Jornada Prevista'!$J:$J,MATCH(1,('Jornada Prevista'!$B:$B=FOcorrencias[[#This Row],[Matricula]])*('Jornada Prevista'!$P:$P=FOcorrencias[[#This Row],[Mês/Ano]]),0))} -> Analista Pleno | P55: {=INDEX('Jornada Prevista'!$K:$K,MATCH(1,('Jornada Prevista'!$B:$B=FOcorrencias[[#This Row],[Matricula]])*('Jornada Prevista'!$P:$P=FOcorrencias[[#This Row],[Mês/Ano]]),0))} -> Turno Folguista | Q55: {=INDEX('Jornada Prevista'!$L:$L,MATCH(1,('Jornada Prevista'!$B:$B=FOcorrencias[[#This Row],[Matricula]])*('Jornada Prevista'!$P:$P=FOcorrencias[[#This Row],[Mês/Ano]]),0))} -> 5x1 | R55: {=INDEX('Jornada Prevista'!$M:$M,MATCH(1,('Jornada Prevista'!$B:$B=FOcorrencias[[#This Row],[Matricula]])*('Jornada Prevista'!$P:$P=FOcorrencias[[#This Row],[Mês/Ano]]),0))} -> CLT | S55: =SUMIFS('Jornada Prevista'!$G:$G,'Jornada Prevista'!$B:$B,FOcorrencias[[#This Row],[Matricula]],'Jornada Prevista'!$P:$P,FOcorrencias[[#This Row],[Mês/Ano]]) -> 184.8 | T55: =SUMIFS('Jornada Prevista'!$N:$N,'Jornada Prevista'!$B:$B,FOcorrencias[[#This Row],[Matricula]],'Jornada Prevista'!$P:$P,FOcorrencias[[#This Row],[Mês/Ano]]) -> 7256.21 | U55: =SUMIFS('Jornada Prevista'!$O:$O,'Jornada Prevista'!$B:$B,FOcorrencias[[#This Row],[Matricula]],'Jornada Prevista'!$P:$P,FOcorrencias[[#This Row],[Mês/Ano]]) -> 39.265206 | V55: =IF(FOcorrencias[[#This Row],[Data da Ocorrência]]="","",TEXT(FOcorrencias[[#This Row],[Data da Ocorrência]],"mm/aaaa")) -> 09/2025
B56: 53 | C56: 19/11/2025 | D56: =IF(FOcorrencias[[#This Row],[Data da Ocorrência]]="","",TEXT(FOcorrencias[[#This Row],[Data da Ocorrência]],"dddd")) -> quarta-feira | E56: 5 | F56: =IF(FOcorrencias[[#This Row],[Matricula]]="","",VLOOKUP(FOcorrencias[[#This Row],[Matricula]],Cadastros!$P:$Q,2,0)) -> Funcionario 5 | G56: Falta | H56: Indisciplina | J56: Não | K56: 08:48 | M56: {=INDEX('Jornada Prevista'!$H:$H,MATCH(1,('Jornada Prevista'!$B:$B=FOcorrencias[[#This Row],[Matricula]])*('Jornada Prevista'!$P:$P=FOcorrencias[[#This Row],[Mês/Ano]]),0))} -> Empresa Y | N56: {=INDEX('Jornada Prevista'!$I:$I,MATCH(1,('Jornada Prevista'!$B:$B=FOcorrencias[[#This Row],[Matricula]])*('Jornada Prevista'!$P:$P=FOcorrencias[[#This Row],[Mês/Ano]]),0))} -> Jurídico | O56: {=INDEX('Jornada Prevista'!$J:$J,MATCH(1,('Jornada Prevista'!$B:$B=FOcorrencias[[#This Row],[Matricula]])*('Jornada Prevista'!$P:$P=FOcorrencias[[#This Row],[Mês/Ano]]),0))} -> Consultor | P56: {=INDEX('Jornada Prevista'!$K:$K,MATCH(1,('Jornada Prevista'!$B:$B=FOcorrencias[[#This Row],[Matricula]])*('Jornada Prevista'!$P:$P=FOcorrencias[[#This Row],[Mês/Ano]]),0))} -> Turno Folguista | Q56: {=INDEX('Jornada Prevista'!$L:$L,MATCH(1,('Jornada Prevista'!$B:$B=FOcorrencias[[#This Row],[Matricula]])*('Jornada Prevista'!$P:$P=FOcorrencias[[#This Row],[Mês/Ano]]),0))} -> 5x1 | R56: {=INDEX('Jornada Prevista'!$M:$M,MATCH(1,('Jornada Prevista'!$B:$B=FOcorrencias[[#This Row],[Matricula]])*('Jornada Prevista'!$P:$P=FOcorrencias[[#This Row],[Mês/Ano]]),0))} -> PJ | S56: =SUMIFS('Jornada Prevista'!$G:$G,'Jornada Prevista'!$B:$B,FOcorrencias[[#This Row],[Matricula]],'Jornada Prevista'!$P:$P,FOcorrencias[[#This Row],[Mês/Ano]]) -> 184.8 | T56: =SUMIFS('Jornada Prevista'!$N:$N,'Jornada Prevista'!$B:$B,FOcorrencias[[#This Row],[Matricula]],'Jornada Prevista'!$P:$P,FOcorrencias[[#This Row],[Mês/Ano]]) -> 2516.16 | U56: =SUMIFS('Jornada Prevista'!$O:$O,'Jornada Prevista'!$B:$B,FOcorrencias[[#This Row],[Matricula]],'Jornada Prevista'!$P:$P,FOcorrencias[[#This Row],[Mês/Ano]]) -> 13.615584 | V56: =IF(FOcorrencias[[#This Row],[Data da Ocorrência]]="","",TEXT(FOcorrencias[[#This Row],[Data da Ocorrência]],"mm/aaaa")) -> 11/2025
B57: 54 | C57: 10/08/2025 | D57: =IF(FOcorrencias[[#This Row],[Data da Ocorrência]]="","",TEXT(FOcorrencias[[#This Row],[Data da Ocorrência]],"dddd")) -> domingo | E57: 5 | F57: =IF(FOcorrencias[[#This Row],[Matricula]]="","",VLOOKUP(FOcorrencias[[#This Row],[Matricula]],Cadastros!$P:$Q,2,0)) -> Funcionario 5 | G57: Atraso | H57: Indisciplina | J57: Sim | K57: 01:00 | L57: Saída autorizada pela coordenação. | M57: {=INDEX('Jornada Prevista'!$H:$H,MATCH(1,('Jornada Prevista'!$B:$B=FOcorrencias[[#This Row],[Matricula]])*('Jornada Prevista'!$P:$P=FOcorrencias[[#This Row],[Mês/Ano]]),0))} -> Empresa X | N57: {=INDEX('Jornada Prevista'!$I:$I,MATCH(1,('Jornada Prevista'!$B:$B=FOcorrencias[[#This Row],[Matricula]])*('Jornada Prevista'!$P:$P=FOcorrencias[[#This Row],[Mês/Ano]]),0))} -> Compras | O57: {=INDEX('Jornada Prevista'!$J:$J,MATCH(1,('Jornada Prevista'!$B:$B=FOcorrencias[[#This Row],[Matricula]])*('Jornada Prevista'!$P:$P=FOcorrencias[[#This Row],[Mês/Ano]]),0))} -> Gerente | P57: {=INDEX('Jornada Prevista'!$K:$K,MATCH(1,('Jornada Prevista'!$B:$B=FOcorrencias[[#This Row],[Matricula]])*('Jornada Prevista'!$P:$P=FOcorrencias[[#This Row],[Mês/Ano]]),0))} -> Turno C | Q57: {=INDEX('Jornada Prevista'!$L:$L,MATCH(1,('Jornada Prevista'!$B:$B=FOcorrencias[[#This Row],[Matricula]])*('Jornada Prevista'!$P:$P=FOcorrencias[[#This Row],[Mês/Ano]]),0))} -> 5x1 | R57: {=INDEX('Jornada Prevista'!$M:$M,MATCH(1,('Jornada Prevista'!$B:$B=FOcorrencias[[#This Row],[Matricula]])*('Jornada Prevista'!$P:$P=FOcorrencias[[#This Row],[Mês/Ano]]),0))} -> Estágio | S57: =SUMIFS('Jornada Prevista'!$G:$G,'Jornada Prevista'!$B:$B,FOcorrencias[[#This Row],[Matricula]],'Jornada Prevista'!$P:$P,FOcorrencias[[#This Row],[Mês/Ano]]) -> 184.8 | T57: =SUMIFS('Jornada Prevista'!$N:$N,'Jornada Prevista'!$B:$B,FOcorrencias[[#This Row],[Matricula]],'Jornada Prevista'!$P:$P,FOcorrencias[[#This Row],[Mês/Ano]]) -> 3889.12 | U57: =SUMIFS('Jornada Prevista'!$O:$O,'Jornada Prevista'!$B:$B,FOcorrencias[[#This Row],[Matricula]],'Jornada Prevista'!$P:$P,FOcorrencias[[#This Row],[Mês/Ano]]) -> 21.045022 | V57: =IF(FOcorrencias[[#This Row],[Data da Ocorrência]]="","",TEXT(FOcorrencias[[#This Row],[Data da Ocorrência]],"mm/aaaa")) -> 08/2025
B58: 55 | C58: 06/04/2025 | D58: =IF(FOcorrencias[[#This Row],[Data da Ocorrência]]="","",TEXT(FOcorrencias[[#This Row],[Data da Ocorrência]],"dddd")) -> domingo | E58: 5 | F58: =IF(FOcorrencias[[#This Row],[Matricula]]="","",VLOOKUP(FOcorrencias[[#This Row],[Matricula]],Cadastros!$P:$Q,2,0)) -> Funcionario 5 | G58: Saída Antecipada | H58: Trânsito | J58: Não | K58: 00:45 | M58: {=INDEX('Jornada Prevista'!$H:$H,MATCH(1,('Jornada Prevista'!$B:$B=FOcorrencias[[#This Row],[Matricula]])*('Jornada Prevista'!$P:$P=FOcorrencias[[#This Row],[Mês/Ano]]),0))} -> Empresa Z | N58: {=INDEX('Jornada Prevista'!$I:$I,MATCH(1,('Jornada Prevista'!$B:$B=FOcorrencias[[#This Row],[Matricula]])*('Jornada Prevista'!$P:$P=FOcorrencias[[#This Row],[Mês/Ano]]),0))} -> Contabilidade | O58: {=INDEX('Jornada Prevista'!$J:$J,MATCH(1,('Jornada Prevista'!$B:$B=FOcorrencias[[#This Row],[Matricula]])*('Jornada Prevista'!$P:$P=FOcorrencias[[#This Row],[Mês/Ano]]),0))} -> Gerente | P58: {=INDEX('Jornada Prevista'!$K:$K,MATCH(1,('Jornada Prevista'!$B:$B=FOcorrencias[[#This Row],[Matricula]])*('Jornada Prevista'!$P:$P=FOcorrencias[[#This Row],[Mês/Ano]]),0))} -> Turno C | Q58: {=INDEX('Jornada Prevista'!$L:$L,MATCH(1,('Jornada Prevista'!$B:$B=FOcorrencias[[#This Row],[Matricula]])*('Jornada Prevista'!$P:$P=FOcorrencias[[#This Row],[Mês/Ano]]),0))} -> 5x1 | R58: {=INDEX('Jornada Prevista'!$M:$M,MATCH(1,('Jornada Prevista'!$B:$B=FOcorrencias[[#This Row],[Matricula]])*('Jornada Prevista'!$P:$P=FOcorrencias[[#This Row],[Mês/Ano]]),0))} -> Estágio | S58: =SUMIFS('Jornada Prevista'!$G:$G,'Jornada Prevista'!$B:$B,FOcorrencias[[#This Row],[Matricula]],'Jornada Prevista'!$P:$P,FOcorrencias[[#This Row],[Mês/Ano]]) -> 184.8 | T58: =SUMIFS('Jornada Prevista'!$N:$N,'Jornada Prevista'!$B:$B,FOcorrencias[[#This Row],[Matricula]],'Jornada Prevista'!$P:$P,FOcorrencias[[#This Row],[Mês/Ano]]) -> 5695.45 | U58: =SUMIFS('Jornada Prevista'!$O:$O,'Jornada Prevista'!$B:$B,FOcorrencias[[#This Row],[Matricula]],'Jornada Prevista'!$P:$P,FOcorrencias[[#This Row],[Mês/Ano]]) -> 30.819535 | V58: =IF(FOcorrencias[[#This Row],[Data da Ocorrência]]="","",TEXT(FOcorrencias[[#This Row],[Data da Ocorrência]],"mm/aaaa")) -> 04/2025
B59: 56 | C59: 02/11/2025 | D59: =IF(FOcorrencias[[#This Row],[Data da Ocorrência]]="","",TEXT(FOcorrencias[[#This Row],[Data da Ocorrência]],"dddd")) -> domingo | E59: 5 | F59: =IF(FOcorrencias[[#This Row],[Matricula]]="","",VLOOKUP(FOcorrencias[[#This Row],[Matricula]],Cadastros!$P:$Q,2,0)) -> Funcionario 5 | G59: Atraso | H59: Motivo não informado | J59: Não | K59: 00:40 | M59: {=INDEX('Jornada Prevista'!$H:$H,MATCH(1,('Jornada Prevista'!$B:$B=FOcorrencias[[#This Row],[Matricula]])*('Jornada Prevista'!$P:$P=FOcorrencias[[#This Row],[Mês/Ano]]),0))} -> Empresa Y | N59: {=INDEX('Jornada Prevista'!$I:$I,MATCH(1,('Jornada Prevista'!$B:$B=FOcorrencias[[#This Row],[Matricula]])*('Jornada Prevista'!$P:$P=FOcorrencias[[#This Row],[Mês/Ano]]),0))} -> Jurídico | O59: {=INDEX('Jornada Prevista'!$J:$J,MATCH(1,('Jornada Prevista'!$B:$B=FOcorrencias[[#This Row],[Matricula]])*('Jornada Prevista'!$P:$P=FOcorrencias[[#This Row],[Mês/Ano]]),0))} -> Consultor | P59: {=INDEX('Jornada Prevista'!$K:$K,MATCH(1,('Jornada Prevista'!$B:$B=FOcorrencias[[#This Row],[Matricula]])*('Jornada Prevista'!$P:$P=FOcorrencias[[#This Row],[Mês/Ano]]),0))} -> Turno Folguista | Q59: {=INDEX('Jornada Prevista'!$L:$L,MATCH(1,('Jornada Prevista'!$B:$B=FOcorrencias[[#This Row],[Matricula]])*('Jornada Prevista'!$P:$P=FOcorrencias[[#This Row],[Mês/Ano]]),0))} -> 5x1 | R59: {=INDEX('Jornada Prevista'!$M:$M,MATCH(1,('Jornada Prevista'!$B:$B=FOcorrencias[[#This Row],[Matricula]])*('Jornada Prevista'!$P:$P=FOcorrencias[[#This Row],[Mês/Ano]]),0))} -> PJ | S59: =SUMIFS('Jornada Prevista'!$G:$G,'Jornada Prevista'!$B:$B,FOcorrencias[[#This Row],[Matricula]],'Jornada Prevista'!$P:$P,FOcorrencias[[#This Row],[Mês/Ano]]) -> 184.8 | T59: =SUMIFS('Jornada Prevista'!$N:$N,'Jornada Prevista'!$B:$B,FOcorrencias[[#This Row],[Matricula]],'Jornada Prevista'!$P:$P,FOcorrencias[[#This Row],[Mês/Ano]]) -> 2516.16 | U59: =SUMIFS('Jornada Prevista'!$O:$O,'Jornada Prevista'!$B:$B,FOcorrencias[[#This Row],[Matricula]],'Jornada Prevista'!$P:$P,FOcorrencias[[#This Row],[Mês/Ano]]) -> 13.615584 | V59: =IF(FOcorrencias[[#This Row],[Data da Ocorrência]]="","",TEXT(FOcorrencias[[#This Row],[Data da Ocorrência]],"mm/aaaa")) -> 11/2025
B60: 57 | C60: 03/04/2025 | D60: =IF(FOcorrencias[[#This Row],[Data da Ocorrência]]="","",TEXT(FOcorrencias[[#This Row],[Data da Ocorrência]],"dddd")) -> quinta-feira | E60: 5 | F60: =IF(FOcorrencias[[#This Row],[Matricula]]="","",VLOOKUP(FOcorrencias[[#This Row],[Matricula]],Cadastros!$P:$Q,2,0)) -> Funcionario 5 | G60: Falta | H60: Trânsito | J60: Não | K60: 08:00 | M60: {=INDEX('Jornada Prevista'!$H:$H,MATCH(1,('Jornada Prevista'!$B:$B=FOcorrencias[[#This Row],[Matricula]])*('Jornada Prevista'!$P:$P=FOcorrencias[[#This Row],[Mês/Ano]]),0))} -> Empresa Z | N60: {=INDEX('Jornada Prevista'!$I:$I,MATCH(1,('Jornada Prevista'!$B:$B=FOcorrencias[[#This Row],[Matricula]])*('Jornada Prevista'!$P:$P=FOcorrencias[[#This Row],[Mês/Ano]]),0))} -> Contabilidade | O60: {=INDEX('Jornada Prevista'!$J:$J,MATCH(1,('Jornada Prevista'!$B:$B=FOcorrencias[[#This Row],[Matricula]])*('Jornada Prevista'!$P:$P=FOcorrencias[[#This Row],[Mês/Ano]]),0))} -> Gerente | P60: {=INDEX('Jornada Prevista'!$K:$K,MATCH(1,('Jornada Prevista'!$B:$B=FOcorrencias[[#This Row],[Matricula]])*('Jornada Prevista'!$P:$P=FOcorrencias[[#This Row],[Mês/Ano]]),0))} -> Turno C | Q60: {=INDEX('Jornada Prevista'!$L:$L,MATCH(1,('Jornada Prevista'!$B:$B=FOcorrencias[[#This Row],[Matricula]])*('Jornada Prevista'!$P:$P=FOcorrencias[[#This Row],[Mês/Ano]]),0))} -> 5x1 | R60: {=INDEX('Jornada Prevista'!$M:$M,MATCH(1,('Jornada Prevista'!$B:$B=FOcorrencias[[#This Row],[Matricula]])*('Jornada Prevista'!$P:$P=FOcorrencias[[#This Row],[Mês/Ano]]),0))} -> Estágio | S60: =SUMIFS('Jornada Prevista'!$G:$G,'Jornada Prevista'!$B:$B,FOcorrencias[[#This Row],[Matricula]],'Jornada Prevista'!$P:$P,FOcorrencias[[#This Row],[Mês/Ano]]) -> 184.8 | T60: =SUMIFS('Jornada Prevista'!$N:$N,'Jornada Prevista'!$B:$B,FOcorrencias[[#This Row],[Matricula]],'Jornada Prevista'!$P:$P,FOcorrencias[[#This Row],[Mês/Ano]]) -> 5695.45 | U60: =SUMIFS('Jornada Prevista'!$O:$O,'Jornada Prevista'!$B:$B,FOcorrencias[[#This Row],[Matricula]],'Jornada Prevista'!$P:$P,FOcorrencias[[#This Row],[Mês/Ano]]) -> 30.819535 | V60: =IF(FOcorrencias[[#This Row],[Data da Ocorrência]]="","",TEXT(FOcorrencias[[#This Row],[Data da Ocorrência]],"mm/aaaa")) -> 04/2025
B61: 58 | C61: 05/05/2025 | D61: =IF(FOcorrencias[[#This Row],[Data da Ocorrência]]="","",TEXT(FOcorrencias[[#This Row],[Data da Ocorrência]],"dddd")) -> segunda-feira | E61: 6 | F61: =IF(FOcorrencias[[#This Row],[Matricula]]="","",VLOOKUP(FOcorrencias[[#This Row],[Matricula]],Cadastros!$P:$Q,2,0)) -> Funcionario 6 | G61: Atitude disciplinar | H61: Problemas pessoais | J61: Não | K61: 00:30 | M61: {=INDEX('Jornada Prevista'!$H:$H,MATCH(1,('Jornada Prevista'!$B:$B=FOcorrencias[[#This Row],[Matricula]])*('Jornada Prevista'!$P:$P=FOcorrencias[[#This Row],[Mês/Ano]]),0))} -> Empresa X | N61: {=INDEX('Jornada Prevista'!$I:$I,MATCH(1,('Jornada Prevista'!$B:$B=FOcorrencias[[#This Row],[Matricula]])*('Jornada Prevista'!$P:$P=FOcorrencias[[#This Row],[Mês/Ano]]),0))} -> Engenharia | O61: {=INDEX('Jornada Prevista'!$J:$J,MATCH(1,('Jornada Prevista'!$B:$B=FOcorrencias[[#This Row],[Matricula]])*('Jornada Prevista'!$P:$P=FOcorrencias[[#This Row],[Mês/Ano]]),0))} -> Administrador | P61: {=INDEX('Jornada Prevista'!$K:$K,MATCH(1,('Jornada Prevista'!$B:$B=FOcorrencias[[#This Row],[Matricula]])*('Jornada Prevista'!$P:$P=FOcorrencias[[#This Row],[Mês/Ano]]),0))} -> Turno B | Q61: {=INDEX('Jornada Prevista'!$L:$L,MATCH(1,('Jornada Prevista'!$B:$B=FOcorrencias[[#This Row],[Matricula]])*('Jornada Prevista'!$P:$P=FOcorrencias[[#This Row],[Mês/Ano]]),0))} -> 6x1 | R61: {=INDEX('Jornada Prevista'!$M:$M,MATCH(1,('Jornada Prevista'!$B:$B=FOcorrencias[[#This Row],[Matricula]])*('Jornada Prevista'!$P:$P=FOcorrencias[[#This Row],[Mês/Ano]]),0))} -> CLT | S61: =SUMIFS('Jornada Prevista'!$G:$G,'Jornada Prevista'!$B:$B,FOcorrencias[[#This Row],[Matricula]],'Jornada Prevista'!$P:$P,FOcorrencias[[#This Row],[Mês/Ano]]) -> 184.8 | T61: =SUMIFS('Jornada Prevista'!$N:$N,'Jornada Prevista'!$B:$B,FOcorrencias[[#This Row],[Matricula]],'Jornada Prevista'!$P:$P,FOcorrencias[[#This Row],[Mês/Ano]]) -> 7651.21 | U61: =SUMIFS('Jornada Prevista'!$O:$O,'Jornada Prevista'!$B:$B,FOcorrencias[[#This Row],[Matricula]],'Jornada Prevista'!$P:$P,FOcorrencias[[#This Row],[Mês/Ano]]) -> 41.402652 | V61: =IF(FOcorrencias[[#This Row],[Data da Ocorrência]]="","",TEXT(FOcorrencias[[#This Row],[Data da Ocorrência]],"mm/aaaa")) -> 05/2025
B62: 59 | C62: 26/04/2025 | D62: =IF(FOcorrencias[[#This Row],[Data da Ocorrência]]="","",TEXT(FOcorrencias[[#This Row],[Data da Ocorrência]],"dddd")) -> sábado | E62: 6 | F62: =IF(FOcorrencias[[#This Row],[Matricula]]="","",VLOOKUP(FOcorrencias[[#This Row],[Matricula]],Cadastros!$P:$Q,2,0)) -> Funcionario 6 | G62: Atitude disciplinar | H62: Reunião externa | J62: Sim | K62: 02:00 | M62: {=INDEX('Jornada Prevista'!$H:$H,MATCH(1,('Jornada Prevista'!$B:$B=FOcorrencias[[#This Row],[Matricula]])*('Jornada Prevista'!$P:$P=FOcorrencias[[#This Row],[Mês/Ano]]),0))} -> Empresa Y | N62: {=INDEX('Jornada Prevista'!$I:$I,MATCH(1,('Jornada Prevista'!$B:$B=FOcorrencias[[#This Row],[Matricula]])*('Jornada Prevista'!$P:$P=FOcorrencias[[#This Row],[Mês/Ano]]),0))} -> Financeiro | O62: {=INDEX('Jornada Prevista'!$J:$J,MATCH(1,('Jornada Prevista'!$B:$B=FOcorrencias[[#This Row],[Matricula]])*('Jornada Prevista'!$P:$P=FOcorrencias[[#This Row],[Mês/Ano]]),0))} -> Estagiário | P62: {=INDEX('Jornada Prevista'!$K:$K,MATCH(1,('Jornada Prevista'!$B:$B=FOcorrencias[[#This Row],[Matricula]])*('Jornada Prevista'!$P:$P=FOcorrencias[[#This Row],[Mês/Ano]]),0))} -> Turno C | Q62: {=INDEX('Jornada Prevista'!$L:$L,MATCH(1,('Jornada Prevista'!$B:$B=FOcorrencias[[#This Row],[Matricula]])*('Jornada Prevista'!$P:$P=FOcorrencias[[#This Row],[Mês/Ano]]),0))} -> 5x1 | R62: {=INDEX('Jornada Prevista'!$M:$M,MATCH(1,('Jornada Prevista'!$B:$B=FOcorrencias[[#This Row],[Matricula]])*('Jornada Prevista'!$P:$P=FOcorrencias[[#This Row],[Mês/Ano]]),0))} -> CLT | S62: =SUMIFS('Jornada Prevista'!$G:$G,'Jornada Prevista'!$B:$B,FOcorrencias[[#This Row],[Matricula]],'Jornada Prevista'!$P:$P,FOcorrencias[[#This Row],[Mês/Ano]]) -> 184.8 | T62: =SUMIFS('Jornada Prevista'!$N:$N,'Jornada Prevista'!$B:$B,FOcorrencias[[#This Row],[Matricula]],'Jornada Prevista'!$P:$P,FOcorrencias[[#This Row],[Mês/Ano]]) -> 9075.62 | U62: =SUMIFS('Jornada Prevista'!$O:$O,'Jornada Prevista'!$B:$B,FOcorrencias[[#This Row],[Matricula]],'Jornada Prevista'!$P:$P,FOcorrencias[[#This Row],[Mês/Ano]]) -> 49.110498 | V62: =IF(FOcorrencias[[#This Row],[Data da Ocorrência]]="","",TEXT(FOcorrencias[[#This Row],[Data da Ocorrência]],"mm/aaaa")) -> 04/2025
B63: 60 | C63: 20/07/2025 | D63: =IF(FOcorrencias[[#This Row],[Data da Ocorrência]]="","",TEXT(FOcorrencias[[#This Row],[Data da Ocorrência]],"dddd")) -> domingo | E63: 6 | F63: =IF(FOcorrencias[[#This Row],[Matricula]]="","",VLOOKUP(FOcorrencias[[#This Row],[Matricula]],Cadastros!$P:$Q,2,0)) -> Funcionario 6 | G63: Atraso | H63: Consulta médica | I63: F32 | J63: Sim | K63: 00:50 | M63: {=INDEX('Jornada Prevista'!$H:$H,MATCH(1,('Jornada Prevista'!$B:$B=FOcorrencias[[#This Row],[Matricula]])*('Jornada Prevista'!$P:$P=FOcorrencias[[#This Row],[Mês/Ano]]),0))} -> Empresa X | N63: {=INDEX('Jornada Prevista'!$I:$I,MATCH(1,('Jornada Prevista'!$B:$B=FOcorrencias[[#This Row],[Matricula]])*('Jornada Prevista'!$P:$P=FOcorrencias[[#This Row],[Mês/Ano]]),0))} -> Vendas | O63: {=INDEX('Jornada Prevista'!$J:$J,MATCH(1,('Jornada Prevista'!$B:$B=FOcorrencias[[#This Row],[Matricula]])*('Jornada Prevista'!$P:$P=FOcorrencias[[#This Row],[Mês/Ano]]),0))} -> Diretor | P63: {=INDEX('Jornada Prevista'!$K:$K,MATCH(1,('Jornada Prevista'!$B:$B=FOcorrencias[[#This Row],[Matricula]])*('Jornada Prevista'!$P:$P=FOcorrencias[[#This Row],[Mês/Ano]]),0))} -> Turno Folguista | Q63: {=INDEX('Jornada Prevista'!$L:$L,MATCH(1,('Jornada Prevista'!$B:$B=FOcorrencias[[#This Row],[Matricula]])*('Jornada Prevista'!$P:$P=FOcorrencias[[#This Row],[Mês/Ano]]),0))} -> 6x1 | R63: {=INDEX('Jornada Prevista'!$M:$M,MATCH(1,('Jornada Prevista'!$B:$B=FOcorrencias[[#This Row],[Matricula]])*('Jornada Prevista'!$P:$P=FOcorrencias[[#This Row],[Mês/Ano]]),0))} -> PJ | S63: =SUMIFS('Jornada Prevista'!$G:$G,'Jornada Prevista'!$B:$B,FOcorrencias[[#This Row],[Matricula]],'Jornada Prevista'!$P:$P,FOcorrencias[[#This Row],[Mês/Ano]]) -> 184.8 | T63: =SUMIFS('Jornada Prevista'!$N:$N,'Jornada Prevista'!$B:$B,FOcorrencias[[#This Row],[Matricula]],'Jornada Prevista'!$P:$P,FOcorrencias[[#This Row],[Mês/Ano]]) -> 3047.84 | U63: =SUMIFS('Jornada Prevista'!$O:$O,'Jornada Prevista'!$B:$B,FOcorrencias[[#This Row],[Matricula]],'Jornada Prevista'!$P:$P,FOcorrencias[[#This Row],[Mês/Ano]]) -> 16.492641 | V63: =IF(FOcorrencias[[#This Row],[Data da Ocorrência]]="","",TEXT(FOcorrencias[[#This Row],[Data da Ocorrência]],"mm/aaaa")) -> 07/2025
B64: 61 | C64: 28/02/2025 | D64: =IF(FOcorrencias[[#This Row],[Data da Ocorrência]]="","",TEXT(FOcorrencias[[#This Row],[Data da Ocorrência]],"dddd")) -> sexta-feira | E64: 6 | F64: =IF(FOcorrencias[[#This Row],[Matricula]]="","",VLOOKUP(FOcorrencias[[#This Row],[Matricula]],Cadastros!$P:$Q,2,0)) -> Funcionario 6 | G64: Saída Antecipada | H64: Doença | I64: J06 | J64: Sim | K64: 00:45 | M64: {=INDEX('Jornada Prevista'!$H:$H,MATCH(1,('Jornada Prevista'!$B:$B=FOcorrencias[[#This Row],[Matricula]])*('Jornada Prevista'!$P:$P=FOcorrencias[[#This Row],[Mês/Ano]]),0))} -> Empresa Z | N64: {=INDEX('Jornada Prevista'!$I:$I,MATCH(1,('Jornada Prevista'!$B:$B=FOcorrencias[[#This Row],[Matricula]])*('Jornada Prevista'!$P:$P=FOcorrencias[[#This Row],[Mês/Ano]]),0))} -> Produção | O64: {=INDEX('Jornada Prevista'!$J:$J,MATCH(1,('Jornada Prevista'!$B:$B=FOcorrencias[[#This Row],[Matricula]])*('Jornada Prevista'!$P:$P=FOcorrencias[[#This Row],[Mês/Ano]]),0))} -> Analista Sênior | P64: {=INDEX('Jornada Prevista'!$K:$K,MATCH(1,('Jornada Prevista'!$B:$B=FOcorrencias[[#This Row],[Matricula]])*('Jornada Prevista'!$P:$P=FOcorrencias[[#This Row],[Mês/Ano]]),0))} -> Turno A | Q64: {=INDEX('Jornada Prevista'!$L:$L,MATCH(1,('Jornada Prevista'!$B:$B=FOcorrencias[[#This Row],[Matricula]])*('Jornada Prevista'!$P:$P=FOcorrencias[[#This Row],[Mês/Ano]]),0))} -> 12x36 | R64: {=INDEX('Jornada Prevista'!$M:$M,MATCH(1,('Jornada Prevista'!$B:$B=FOcorrencias[[#This Row],[Matricula]])*('Jornada Prevista'!$P:$P=FOcorrencias[[#This Row],[Mês/Ano]]),0))} -> Estágio | S64: =SUMIFS('Jornada Prevista'!$G:$G,'Jornada Prevista'!$B:$B,FOcorrencias[[#This Row],[Matricula]],'Jornada Prevista'!$P:$P,FOcorrencias[[#This Row],[Mês/Ano]]) -> 184.8 | T64: =SUMIFS('Jornada Prevista'!$N:$N,'Jornada Prevista'!$B:$B,FOcorrencias[[#This Row],[Matricula]],'Jornada Prevista'!$P:$P,FOcorrencias[[#This Row],[Mês/Ano]]) -> 7979.69 | U64: =SUMIFS('Jornada Prevista'!$O:$O,'Jornada Prevista'!$B:$B,FOcorrencias[[#This Row],[Matricula]],'Jornada Prevista'!$P:$P,FOcorrencias[[#This Row],[Mês/Ano]]) -> 43.180141 | V64: =IF(FOcorrencias[[#This Row],[Data da Ocorrência]]="","",TEXT(FOcorrencias[[#This Row],[Data da Ocorrência]],"mm/aaaa")) -> 02/2025
B65: 62 | C65: 12/11/2025 | D65: =IF(FOcorrencias[[#This Row],[Data da Ocorrência]]="","",TEXT(FOcorrencias[[#This Row],[Data da Ocorrência]],"dddd")) -> quarta-feira | E65: 6 | F65: =IF(FOcorrencias[[#This Row],[Matricula]]="","",VLOOKUP(FOcorrencias[[#This Row],[Matricula]],Cadastros!$P:$Q,2,0)) -> Funcionario 6 | G65: Atraso | H65: Trânsito | J65: Não | K65: 00:05 | M65: {=INDEX('Jornada Prevista'!$H:$H,MATCH(1,('Jornada Prevista'!$B:$B=FOcorrencias[[#This Row],[Matricula]])*('Jornada Prevista'!$P:$P=FOcorrencias[[#This Row],[Mês/Ano]]),0))} -> Empresa Y | N65: {=INDEX('Jornada Prevista'!$I:$I,MATCH(1,('Jornada Prevista'!$B:$B=FOcorrencias[[#This Row],[Matricula]])*('Jornada Prevista'!$P:$P=FOcorrencias[[#This Row],[Mês/Ano]]),0))} -> Contabilidade | O65: {=INDEX('Jornada Prevista'!$J:$J,MATCH(1,('Jornada Prevista'!$B:$B=FOcorrencias[[#This Row],[Matricula]])*('Jornada Prevista'!$P:$P=FOcorrencias[[#This Row],[Mês/Ano]]),0))} -> Consultor | P65: {=INDEX('Jornada Prevista'!$K:$K,MATCH(1,('Jornada Prevista'!$B:$B=FOcorrencias[[#This Row],[Matricula]])*('Jornada Prevista'!$P:$P=FOcorrencias[[#This Row],[Mês/Ano]]),0))} -> Turno D | Q65: {=INDEX('Jornada Prevista'!$L:$L,MATCH(1,('Jornada Prevista'!$B:$B=FOcorrencias[[#This Row],[Matricula]])*('Jornada Prevista'!$P:$P=FOcorrencias[[#This Row],[Mês/Ano]]),0))} -> 5x1 | R65: {=INDEX('Jornada Prevista'!$M:$M,MATCH(1,('Jornada Prevista'!$B:$B=FOcorrencias[[#This Row],[Matricula]])*('Jornada Prevista'!$P:$P=FOcorrencias[[#This Row],[Mês/Ano]]),0))} -> PJ | S65: =SUMIFS('Jornada Prevista'!$G:$G,'Jornada Prevista'!$B:$B,FOcorrencias[[#This Row],[Matricula]],'Jornada Prevista'!$P:$P,FOcorrencias[[#This Row],[Mês/Ano]]) -> 184.8 | T65: =SUMIFS('Jornada Prevista'!$N:$N,'Jornada Prevista'!$B:$B,FOcorrencias[[#This Row],[Matricula]],'Jornada Prevista'!$P:$P,FOcorrencias[[#This Row],[Mês/Ano]]) -> 4358.43 | U65: =SUMIFS('Jornada Prevista'!$O:$O,'Jornada Prevista'!$B:$B,FOcorrencias[[#This Row],[Matricula]],'Jornada Prevista'!$P:$P,FOcorrencias[[#This Row],[Mês/Ano]]) -> 23.584578 | V65: =IF(FOcorrencias[[#This Row],[Data da Ocorrência]]="","",TEXT(FOcorrencias[[#This Row],[Data da Ocorrência]],"mm/aaaa")) -> 11/2025
B66: 63 | C66: 10/12/2025 | D66: =IF(FOcorrencias[[#This Row],[Data da Ocorrência]]="","",TEXT(FOcorrencias[[#This Row],[Data da Ocorrência]],"dddd")) -> quarta-feira | E66: 6 | F66: =IF(FOcorrencias[[#This Row],[Matricula]]="","",VLOOKUP(FOcorrencias[[#This Row],[Matricula]],Cadastros!$P:$Q,2,0)) -> Funcionario 6 | G66: Atraso | H66: Trânsito | I66: I10 | J66: Não | K66: 00:05 | M66: {=INDEX('Jornada Prevista'!$H:$H,MATCH(1,('Jornada Prevista'!$B:$B=FOcorrencias[[#This Row],[Matricula]])*('Jornada Prevista'!$P:$P=FOcorrencias[[#This Row],[Mês/Ano]]),0))} -> Empresa X | N66: {=INDEX('Jornada Prevista'!$I:$I,MATCH(1,('Jornada Prevista'!$B:$B=FOcorrencias[[#This Row],[Matricula]])*('Jornada Prevista'!$P:$P=FOcorrencias[[#This Row],[Mês/Ano]]),0))} -> Operações | O66: {=INDEX('Jornada Prevista'!$J:$J,MATCH(1,('Jornada Prevista'!$B:$B=FOcorrencias[[#This Row],[Matricula]])*('Jornada Prevista'!$P:$P=FOcorrencias[[#This Row],[Mês/Ano]]),0))} -> Gerente | P66: {=INDEX('Jornada Prevista'!$K:$K,MATCH(1,('Jornada Prevista'!$B:$B=FOcorrencias[[#This Row],[Matricula]])*('Jornada Prevista'!$P:$P=FOcorrencias[[#This Row],[Mês/Ano]]),0))} -> Turno A | Q66: {=INDEX('Jornada Prevista'!$L:$L,MATCH(1,('Jornada Prevista'!$B:$B=FOcorrencias[[#This Row],[Matricula]])*('Jornada Prevista'!$P:$P=FOcorrencias[[#This Row],[Mês/Ano]]),0))} -> 6x1 | R66: {=INDEX('Jornada Prevista'!$M:$M,MATCH(1,('Jornada Prevista'!$B:$B=FOcorrencias[[#This Row],[Matricula]])*('Jornada Prevista'!$P:$P=FOcorrencias[[#This Row],[Mês/Ano]]),0))} -> Estágio | S66: =SUMIFS('Jornada Prevista'!$G:$G,'Jornada Prevista'!$B:$B,FOcorrencias[[#This Row],[Matricula]],'Jornada Prevista'!$P:$P,FOcorrencias[[#This Row],[Mês/Ano]]) -> 184.8 | T66: =SUMIFS('Jornada Prevista'!$N:$N,'Jornada Prevista'!$B:$B,FOcorrencias[[#This Row],[Matricula]],'Jornada Prevista'!$P:$P,FOcorrencias[[#This Row],[Mês/Ano]]) -> 5592.39 | U66: =SUMIFS('Jornada Prevista'!$O:$O,'Jornada Prevista'!$B:$B,FOcorrencias[[#This Row],[Matricula]],'Jornada Prevista'!$P:$P,FOcorrencias[[#This Row],[Mês/Ano]]) -> 30.261851 | V66: =IF(FOcorrencias[[#This Row],[Data da Ocorrência]]="","",TEXT(FOcorrencias[[#This Row],[Data da Ocorrência]],"mm/aaaa")) -> 12/2025
B67: 64 | C67: 25/10/2025 | D67: =IF(FOcorrencias[[#This Row],[Data da Ocorrência]]="","",TEXT(FOcorrencias[[#This Row],[Data da Ocorrência]],"dddd")) -> sábado | E67: 6 | F67: =IF(FOcorrencias[[#This Row],[Matricula]]="","",VLOOKUP(FOcorrencias[[#This Row],[Matricula]],Cadastros!$P:$Q,2,0)) -> Funcionario 6 | G67: Falta | H67: Doença | I67: J06 | J67: Sim | K67: 08:00 | M67: {=INDEX('Jornada Prevista'!$H:$H,MATCH(1,('Jornada Prevista'!$B:$B=FOcorrencias[[#This Row],[Matricula]])*('Jornada Prevista'!$P:$P=FOcorrencias[[#This Row],[Mês/Ano]]),0))} -> Empresa Y | N67: {=INDEX('Jornada Prevista'!$I:$I,MATCH(1,('Jornada Prevista'!$B:$B=FOcorrencias[[#This Row],[Matricula]])*('Jornada Prevista'!$P:$P=FOcorrencias[[#This Row],[Mês/Ano]]),0))} -> Recursos Humanos | O67: {=INDEX('Jornada Prevista'!$J:$J,MATCH(1,('Jornada Prevista'!$B:$B=FOcorrencias[[#This Row],[Matricula]])*('Jornada Prevista'!$P:$P=FOcorrencias[[#This Row],[Mês/Ano]]),0))} -> Analista | P67: {=INDEX('Jornada Prevista'!$K:$K,MATCH(1,('Jornada Prevista'!$B:$B=FOcorrencias[[#This Row],[Matricula]])*('Jornada Prevista'!$P:$P=FOcorrencias[[#This Row],[Mês/Ano]]),0))} -> Turno A | Q67: {=INDEX('Jornada Prevista'!$L:$L,MATCH(1,('Jornada Prevista'!$B:$B=FOcorrencias[[#This Row],[Matricula]])*('Jornada Prevista'!$P:$P=FOcorrencias[[#This Row],[Mês/Ano]]),0))} -> 12x36 | R67: {=INDEX('Jornada Prevista'!$M:$M,MATCH(1,('Jornada Prevista'!$B:$B=FOcorrencias[[#This Row],[Matricula]])*('Jornada Prevista'!$P:$P=FOcorrencias[[#This Row],[Mês/Ano]]),0))} -> PJ | S67: =SUMIFS('Jornada Prevista'!$G:$G,'Jornada Prevista'!$B:$B,FOcorrencias[[#This Row],[Matricula]],'Jornada Prevista'!$P:$P,FOcorrencias[[#This Row],[Mês/Ano]]) -> 184.8 | T67: =SUMIFS('Jornada Prevista'!$N:$N,'Jornada Prevista'!$B:$B,FOcorrencias[[#This Row],[Matricula]],'Jornada Prevista'!$P:$P,FOcorrencias[[#This Row],[Mês/Ano]]) -> 7429.06 | U67: =SUMIFS('Jornada Prevista'!$O:$O,'Jornada Prevista'!$B:$B,FOcorrencias[[#This Row],[Matricula]],'Jornada Prevista'!$P:$P,FOcorrencias[[#This Row],[Mês/Ano]]) -> 40.200541 | V67: =IF(FOcorrencias[[#This Row],[Data da Ocorrência]]="","",TEXT(FOcorrencias[[#This Row],[Data da Ocorrência]],"mm/aaaa")) -> 10/2025
B68: 65 | C68: 26/01/2025 | D68: =IF(FOcorrencias[[#This Row],[Data da Ocorrência]]="","",TEXT(FOcorrencias[[#This Row],[Data da Ocorrência]],"dddd")) -> domingo | E68: 6 | F68: =IF(FOcorrencias[[#This Row],[Matricula]]="","",VLOOKUP(FOcorrencias[[#This Row],[Matricula]],Cadastros!$P:$Q,2,0)) -> Funcionario 6 | G68: Falta | H68: Motivo não informado | J68: Não | K68: 08:48 | M68: {=INDEX('Jornada Prevista'!$H:$H,MATCH(1,('Jornada Prevista'!$B:$B=FOcorrencias[[#This Row],[Matricula]])*('Jornada Prevista'!$P:$P=FOcorrencias[[#This Row],[Mês/Ano]]),0))} -> Empresa Y | N68: {=INDEX('Jornada Prevista'!$I:$I,MATCH(1,('Jornada Prevista'!$B:$B=FOcorrencias[[#This Row],[Matricula]])*('Jornada Prevista'!$P:$P=FOcorrencias[[#This Row],[Mês/Ano]]),0))} -> Logística | O68: {=INDEX('Jornada Prevista'!$J:$J,MATCH(1,('Jornada Prevista'!$B:$B=FOcorrencias[[#This Row],[Matricula]])*('Jornada Prevista'!$P:$P=FOcorrencias[[#This Row],[Mês/Ano]]),0))} -> Analista de Projetos | P68: {=INDEX('Jornada Prevista'!$K:$K,MATCH(1,('Jornada Prevista'!$B:$B=FOcorrencias[[#This Row],[Matricula]])*('Jornada Prevista'!$P:$P=FOcorrencias[[#This Row],[Mês/Ano]]),0))} -> Turno A | Q68: {=INDEX('Jornada Prevista'!$L:$L,MATCH(1,('Jornada Prevista'!$B:$B=FOcorrencias[[#This Row],[Matricula]])*('Jornada Prevista'!$P:$P=FOcorrencias[[#This Row],[Mês/Ano]]),0))} -> 5x1 | R68: {=INDEX('Jornada Prevista'!$M:$M,MATCH(1,('Jornada Prevista'!$B:$B=FOcorrencias[[#This Row],[Matricula]])*('Jornada Prevista'!$P:$P=FOcorrencias[[#This Row],[Mês/Ano]]),0))} -> CLT | S68: =SUMIFS('Jornada Prevista'!$G:$G,'Jornada Prevista'!$B:$B,FOcorrencias[[#This Row],[Matricula]],'Jornada Prevista'!$P:$P,FOcorrencias[[#This Row],[Mês/Ano]]) -> 184.8 | T68: =SUMIFS('Jornada Prevista'!$N:$N,'Jornada Prevista'!$B:$B,FOcorrencias[[#This Row],[Matricula]],'Jornada Prevista'!$P:$P,FOcorrencias[[#This Row],[Mês/Ano]]) -> 7294.92 | U68: =SUMIFS('Jornada Prevista'!$O:$O,'Jornada Prevista'!$B:$B,FOcorrencias[[#This Row],[Matricula]],'Jornada Prevista'!$P:$P,FOcorrencias[[#This Row],[Mês/Ano]]) -> 39.474675 | V68: =IF(FOcorrencias[[#This Row],[Data da Ocorrência]]="","",TEXT(FOcorrencias[[#This Row],[Data da Ocorrência]],"mm/aaaa")) -> 01/2025
B69: 66 | C69: 10/01/2025 | D69: =IF(FOcorrencias[[#This Row],[Data da Ocorrência]]="","",TEXT(FOcorrencias[[#This Row],[Data da Ocorrência]],"dddd")) -> sexta-feira | E69: 6 | F69: =IF(FOcorrencias[[#This Row],[Matricula]]="","",VLOOKUP(FOcorrencias[[#This Row],[Matricula]],Cadastros!$P:$Q,2,0)) -> Funcionario 6 | G69: Falta | H69: Motivo não informado | J69: Não | K69: 08:00 | L69: Funcionário apresentou atestado. | M69: {=INDEX('Jornada Prevista'!$H:$H,MATCH(1,('Jornada Prevista'!$B:$B=FOcorrencias[[#This Row],[Matricula]])*('Jornada Prevista'!$P:$P=FOcorrencias[[#This Row],[Mês/Ano]]),0))} -> Empresa Y | N69: {=INDEX('Jornada Prevista'!$I:$I,MATCH(1,('Jornada Prevista'!$B:$B=FOcorrencias[[#This Row],[Matricula]])*('Jornada Prevista'!$P:$P=FOcorrencias[[#This Row],[Mês/Ano]]),0))} -> Logística | O69: {=INDEX('Jornada Prevista'!$J:$J,MATCH(1,('Jornada Prevista'!$B:$B=FOcorrencias[[#This Row],[Matricula]])*('Jornada Prevista'!$P:$P=FOcorrencias[[#This Row],[Mês/Ano]]),0))} -> Analista de Projetos | P69: {=INDEX('Jornada Prevista'!$K:$K,MATCH(1,('Jornada Prevista'!$B:$B=FOcorrencias[[#This Row],[Matricula]])*('Jornada Prevista'!$P:$P=FOcorrencias[[#This Row],[Mês/Ano]]),0))} -> Turno A | Q69: {=INDEX('Jornada Prevista'!$L:$L,MATCH(1,('Jornada Prevista'!$B:$B=FOcorrencias[[#This Row],[Matricula]])*('Jornada Prevista'!$P:$P=FOcorrencias[[#This Row],[Mês/Ano]]),0))} -> 5x1 | R69: {=INDEX('Jornada Prevista'!$M:$M,MATCH(1,('Jornada Prevista'!$B:$B=FOcorrencias[[#This Row],[Matricula]])*('Jornada Prevista'!$P:$P=FOcorrencias[[#This Row],[Mês/Ano]]),0))} -> CLT | S69: =SUMIFS('Jornada Prevista'!$G:$G,'Jornada Prevista'!$B:$B,FOcorrencias[[#This Row],[Matricula]],'Jornada Prevista'!$P:$P,FOcorrencias[[#This Row],[Mês/Ano]]) -> 184.8 | T69: =SUMIFS('Jornada Prevista'!$N:$N,'Jornada Prevista'!$B:$B,FOcorrencias[[#This Row],[Matricula]],'Jornada Prevista'!$P:$P,FOcorrencias[[#This Row],[Mês/Ano]]) -> 7294.92 | U69: =SUMIFS('Jornada Prevista'!$O:$O,'Jornada Prevista'!$B:$B,FOcorrencias[[#This Row],[Matricula]],'Jornada Prevista'!$P:$P,FOcorrencias[[#This Row],[Mês/Ano]]) -> 39.474675 | V69: =IF(FOcorrencias[[#This Row],[Data da Ocorrência]]="","",TEXT(FOcorrencias[[#This Row],[Data da Ocorrência]],"mm/aaaa")) -> 01/2025
B70: 67 | C70: 10/04/2025 | D70: =IF(FOcorrencias[[#This Row],[Data da Ocorrência]]="","",TEXT(FOcorrencias[[#This Row],[Data da Ocorrência]],"dddd")) -> quinta-feira | E70: 6 | F70: =IF(FOcorrencias[[#This Row],[Matricula]]="","",VLOOKUP(FOcorrencias[[#This Row],[Matricula]],Cadastros!$P:$Q,2,0)) -> Funcionario 6 | G70: Falta | H70: Trânsito | J70: Não | K70: 08:00 | M70: {=INDEX('Jornada Prevista'!$H:$H,MATCH(1,('Jornada Prevista'!$B:$B=FOcorrencias[[#This Row],[Matricula]])*('Jornada Prevista'!$P:$P=FOcorrencias[[#This Row],[Mês/Ano]]),0))} -> Empresa Y | N70: {=INDEX('Jornada Prevista'!$I:$I,MATCH(1,('Jornada Prevista'!$B:$B=FOcorrencias[[#This Row],[Matricula]])*('Jornada Prevista'!$P:$P=FOcorrencias[[#This Row],[Mês/Ano]]),0))} -> Financeiro | O70: {=INDEX('Jornada Prevista'!$J:$J,MATCH(1,('Jornada Prevista'!$B:$B=FOcorrencias[[#This Row],[Matricula]])*('Jornada Prevista'!$P:$P=FOcorrencias[[#This Row],[Mês/Ano]]),0))} -> Estagiário | P70: {=INDEX('Jornada Prevista'!$K:$K,MATCH(1,('Jornada Prevista'!$B:$B=FOcorrencias[[#This Row],[Matricula]])*('Jornada Prevista'!$P:$P=FOcorrencias[[#This Row],[Mês/Ano]]),0))} -> Turno C | Q70: {=INDEX('Jornada Prevista'!$L:$L,MATCH(1,('Jornada Prevista'!$B:$B=FOcorrencias[[#This Row],[Matricula]])*('Jornada Prevista'!$P:$P=FOcorrencias[[#This Row],[Mês/Ano]]),0))} -> 5x1 | R70: {=INDEX('Jornada Prevista'!$M:$M,MATCH(1,('Jornada Prevista'!$B:$B=FOcorrencias[[#This Row],[Matricula]])*('Jornada Prevista'!$P:$P=FOcorrencias[[#This Row],[Mês/Ano]]),0))} -> CLT | S70: =SUMIFS('Jornada Prevista'!$G:$G,'Jornada Prevista'!$B:$B,FOcorrencias[[#This Row],[Matricula]],'Jornada Prevista'!$P:$P,FOcorrencias[[#This Row],[Mês/Ano]]) -> 184.8 | T70: =SUMIFS('Jornada Prevista'!$N:$N,'Jornada Prevista'!$B:$B,FOcorrencias[[#This Row],[Matricula]],'Jornada Prevista'!$P:$P,FOcorrencias[[#This Row],[Mês/Ano]]) -> 9075.62 | U70: =SUMIFS('Jornada Prevista'!$O:$O,'Jornada Prevista'!$B:$B,FOcorrencias[[#This Row],[Matricula]],'Jornada Prevista'!$P:$P,FOcorrencias[[#This Row],[Mês/Ano]]) -> 49.110498 | V70: =IF(FOcorrencias[[#This Row],[Data da Ocorrência]]="","",TEXT(FOcorrencias[[#This Row],[Data da Ocorrência]],"mm/aaaa")) -> 04/2025
B71: 68 | C71: 28/01/2025 | D71: =IF(FOcorrencias[[#This Row],[Data da Ocorrência]]="","",TEXT(FOcorrencias[[#This Row],[Data da Ocorrência]],"dddd")) -> terça-feira | E71: 7 | F71: =IF(FOcorrencias[[#This Row],[Matricula]]="","",VLOOKUP(FOcorrencias[[#This Row],[Matricula]],Cadastros!$P:$Q,2,0)) -> Funcionario 7 | G71: Atraso | H71: Motivo não informado | J71: Não | K71: 00:40 | M71: {=INDEX('Jornada Prevista'!$H:$H,MATCH(1,('Jornada Prevista'!$B:$B=FOcorrencias[[#This Row],[Matricula]])*('Jornada Prevista'!$P:$P=FOcorrencias[[#This Row],[Mês/Ano]]),0))} -> Empresa X | N71: {=INDEX('Jornada Prevista'!$I:$I,MATCH(1,('Jornada Prevista'!$B:$B=FOcorrencias[[#This Row],[Matricula]])*('Jornada Prevista'!$P:$P=FOcorrencias[[#This Row],[Mês/Ano]]),0))} -> Recursos Humanos | O71: {=INDEX('Jornada Prevista'!$J:$J,MATCH(1,('Jornada Prevista'!$B:$B=FOcorrencias[[#This Row],[Matricula]])*('Jornada Prevista'!$P:$P=FOcorrencias[[#This Row],[Mês/Ano]]),0))} -> Administrador | P71: {=INDEX('Jornada Prevista'!$K:$K,MATCH(1,('Jornada Prevista'!$B:$B=FOcorrencias[[#This Row],[Matricula]])*('Jornada Prevista'!$P:$P=FOcorrencias[[#This Row],[Mês/Ano]]),0))} -> Turno D | Q71: {=INDEX('Jornada Prevista'!$L:$L,MATCH(1,('Jornada Prevista'!$B:$B=FOcorrencias[[#This Row],[Matricula]])*('Jornada Prevista'!$P:$P=FOcorrencias[[#This Row],[Mês/Ano]]),0))} -> 12x36 | R71: {=INDEX('Jornada Prevista'!$M:$M,MATCH(1,('Jornada Prevista'!$B:$B=FOcorrencias[[#This Row],[Matricula]])*('Jornada Prevista'!$P:$P=FOcorrencias[[#This Row],[Mês/Ano]]),0))} -> PJ | S71: =SUMIFS('Jornada Prevista'!$G:$G,'Jornada Prevista'!$B:$B,FOcorrencias[[#This Row],[Matricula]],'Jornada Prevista'!$P:$P,FOcorrencias[[#This Row],[Mês/Ano]]) -> 184.8 | T71: =SUMIFS('Jornada Prevista'!$N:$N,'Jornada Prevista'!$B:$B,FOcorrencias[[#This Row],[Matricula]],'Jornada Prevista'!$P:$P,FOcorrencias[[#This Row],[Mês/Ano]]) -> 7008.31 | U71: =SUMIFS('Jornada Prevista'!$O:$O,'Jornada Prevista'!$B:$B,FOcorrencias[[#This Row],[Matricula]],'Jornada Prevista'!$P:$P,FOcorrencias[[#This Row],[Mês/Ano]]) -> 37.923755 | V71: =IF(FOcorrencias[[#This Row],[Data da Ocorrência]]="","",TEXT(FOcorrencias[[#This Row],[Data da Ocorrência]],"mm/aaaa")) -> 01/2025
B72: 69 | C72: 30/10/2025 | D72: =IF(FOcorrencias[[#This Row],[Data da Ocorrência]]="","",TEXT(FOcorrencias[[#This Row],[Data da Ocorrência]],"dddd")) -> quinta-feira | E72: 7 | F72: =IF(FOcorrencias[[#This Row],[Matricula]]="","",VLOOKUP(FOcorrencias[[#This Row],[Matricula]],Cadastros!$P:$Q,2,0)) -> Funcionario 7 | G72: Falta | H72: Motivo não informado | J72: Sim | K72: 08:48 | M72: {=INDEX('Jornada Prevista'!$H:$H,MATCH(1,('Jornada Prevista'!$B:$B=FOcorrencias[[#This Row],[Matricula]])*('Jornada Prevista'!$P:$P=FOcorrencias[[#This Row],[Mês/Ano]]),0))} -> Empresa Z | N72: {=INDEX('Jornada Prevista'!$I:$I,MATCH(1,('Jornada Prevista'!$B:$B=FOcorrencias[[#This Row],[Matricula]])*('Jornada Prevista'!$P:$P=FOcorrencias[[#This Row],[Mês/Ano]]),0))} -> Engenharia | O72: {=INDEX('Jornada Prevista'!$J:$J,MATCH(1,('Jornada Prevista'!$B:$B=FOcorrencias[[#This Row],[Matricula]])*('Jornada Prevista'!$P:$P=FOcorrencias[[#This Row],[Mês/Ano]]),0))} -> Administrador | P72: {=INDEX('Jornada Prevista'!$K:$K,MATCH(1,('Jornada Prevista'!$B:$B=FOcorrencias[[#This Row],[Matricula]])*('Jornada Prevista'!$P:$P=FOcorrencias[[#This Row],[Mês/Ano]]),0))} -> Turno D | Q72: {=INDEX('Jornada Prevista'!$L:$L,MATCH(1,('Jornada Prevista'!$B:$B=FOcorrencias[[#This Row],[Matricula]])*('Jornada Prevista'!$P:$P=FOcorrencias[[#This Row],[Mês/Ano]]),0))} -> 12x36 | R72: {=INDEX('Jornada Prevista'!$M:$M,MATCH(1,('Jornada Prevista'!$B:$B=FOcorrencias[[#This Row],[Matricula]])*('Jornada Prevista'!$P:$P=FOcorrencias[[#This Row],[Mês/Ano]]),0))} -> CLT | S72: =SUMIFS('Jornada Prevista'!$G:$G,'Jornada Prevista'!$B:$B,FOcorrencias[[#This Row],[Matricula]],'Jornada Prevista'!$P:$P,FOcorrencias[[#This Row],[Mês/Ano]]) -> 184.8 | T72: =SUMIFS('Jornada Prevista'!$N:$N,'Jornada Prevista'!$B:$B,FOcorrencias[[#This Row],[Matricula]],'Jornada Prevista'!$P:$P,FOcorrencias[[#This Row],[Mês/Ano]]) -> 7664.17 | U72: =SUMIFS('Jornada Prevista'!$O:$O,'Jornada Prevista'!$B:$B,FOcorrencias[[#This Row],[Matricula]],'Jornada Prevista'!$P:$P,FOcorrencias[[#This Row],[Mês/Ano]]) -> 41.472781 | V72: =IF(FOcorrencias[[#This Row],[Data da Ocorrência]]="","",TEXT(FOcorrencias[[#This Row],[Data da Ocorrência]],"mm/aaaa")) -> 10/2025
B73: 70 | C73: 08/06/2025 | D73: =IF(FOcorrencias[[#This Row],[Data da Ocorrência]]="","",TEXT(FOcorrencias[[#This Row],[Data da Ocorrência]],"dddd")) -> domingo | E73: 7 | F73: =IF(FOcorrencias[[#This Row],[Matricula]]="","",VLOOKUP(FOcorrencias[[#This Row],[Matricula]],Cadastros!$P:$Q,2,0)) -> Funcionario 7 | G73: Atraso | H73: Doença | I73: Z00 | J73: Sim | K73: 00:45 | M73: {=INDEX('Jornada Prevista'!$H:$H,MATCH(1,('Jornada Prevista'!$B:$B=FOcorrencias[[#This Row],[Matricula]])*('Jornada Prevista'!$P:$P=FOcorrencias[[#This Row],[Mês/Ano]]),0))} -> Empresa X | N73: {=INDEX('Jornada Prevista'!$I:$I,MATCH(1,('Jornada Prevista'!$B:$B=FOcorrencias[[#This Row],[Matricula]])*('Jornada Prevista'!$P:$P=FOcorrencias[[#This Row],[Mês/Ano]]),0))} -> Atendimento | O73: {=INDEX('Jornada Prevista'!$J:$J,MATCH(1,('Jornada Prevista'!$B:$B=FOcorrencias[[#This Row],[Matricula]])*('Jornada Prevista'!$P:$P=FOcorrencias[[#This Row],[Mês/Ano]]),0))} -> Assistente | P73: {=INDEX('Jornada Prevista'!$K:$K,MATCH(1,('Jornada Prevista'!$B:$B=FOcorrencias[[#This Row],[Matricula]])*('Jornada Prevista'!$P:$P=FOcorrencias[[#This Row],[Mês/Ano]]),0))} -> Turno Folguista | Q73: {=INDEX('Jornada Prevista'!$L:$L,MATCH(1,('Jornada Prevista'!$B:$B=FOcorrencias[[#This Row],[Matricula]])*('Jornada Prevista'!$P:$P=FOcorrencias[[#This Row],[Mês/Ano]]),0))} -> 5x1 | R73: {=INDEX('Jornada Prevista'!$M:$M,MATCH(1,('Jornada Prevista'!$B:$B=FOcorrencias[[#This Row],[Matricula]])*('Jornada Prevista'!$P:$P=FOcorrencias[[#This Row],[Mês/Ano]]),0))} -> PJ | S73: =SUMIFS('Jornada Prevista'!$G:$G,'Jornada Prevista'!$B:$B,FOcorrencias[[#This Row],[Matricula]],'Jornada Prevista'!$P:$P,FOcorrencias[[#This Row],[Mês/Ano]]) -> 184.8 | T73: =SUMIFS('Jornada Prevista'!$N:$N,'Jornada Prevista'!$B:$B,FOcorrencias[[#This Row],[Matricula]],'Jornada Prevista'!$P:$P,FOcorrencias[[#This Row],[Mês/Ano]]) -> 6843.64 | U73: =SUMIFS('Jornada Prevista'!$O:$O,'Jornada Prevista'!$B:$B,FOcorrencias[[#This Row],[Matricula]],'Jornada Prevista'!$P:$P,FOcorrencias[[#This Row],[Mês/Ano]]) -> 37.032684 | V73: =IF(FOcorrencias[[#This Row],[Data da Ocorrência]]="","",TEXT(FOcorrencias[[#This Row],[Data da Ocorrência]],"mm/aaaa")) -> 06/2025
B74: 71 | C74: 12/07/2025 | D74: =IF(FOcorrencias[[#This Row],[Data da Ocorrência]]="","",TEXT(FOcorrencias[[#This Row],[Data da Ocorrência]],"dddd")) -> sábado | E74: 8 | F74: =IF(FOcorrencias[[#This Row],[Matricula]]="","",VLOOKUP(FOcorrencias[[#This Row],[Matricula]],Cadastros!$P:$Q,2,0)) -> Funcionario 8 | G74: Atitude disciplinar | H74: Consulta médica | I74: K21 | J74: Sim | K74: 04:00 | M74: {=INDEX('Jornada Prevista'!$H:$H,MATCH(1,('Jornada Prevista'!$B:$B=FOcorrencias[[#This Row],[Matricula]])*('Jornada Prevista'!$P:$P=FOcorrencias[[#This Row],[Mês/Ano]]),0))} -> Empresa X | N74: {=INDEX('Jornada Prevista'!$I:$I,MATCH(1,('Jornada Prevista'!$B:$B=FOcorrencias[[#This Row],[Matricula]])*('Jornada Prevista'!$P:$P=FOcorrencias[[#This Row],[Mês/Ano]]),0))} -> Recursos Humanos | O74: {=INDEX('Jornada Prevista'!$J:$J,MATCH(1,('Jornada Prevista'!$B:$B=FOcorrencias[[#This Row],[Matricula]])*('Jornada Prevista'!$P:$P=FOcorrencias[[#This Row],[Mês/Ano]]),0))} -> Programador | P74: {=INDEX('Jornada Prevista'!$K:$K,MATCH(1,('Jornada Prevista'!$B:$B=FOcorrencias[[#This Row],[Matricula]])*('Jornada Prevista'!$P:$P=FOcorrencias[[#This Row],[Mês/Ano]]),0))} -> Turno A | Q74: {=INDEX('Jornada Prevista'!$L:$L,MATCH(1,('Jornada Prevista'!$B:$B=FOcorrencias[[#This Row],[Matricula]])*('Jornada Prevista'!$P:$P=FOcorrencias[[#This Row],[Mês/Ano]]),0))} -> 5x1 | R74: {=INDEX('Jornada Prevista'!$M:$M,MATCH(1,('Jornada Prevista'!$B:$B=FOcorrencias[[#This Row],[Matricula]])*('Jornada Prevista'!$P:$P=FOcorrencias[[#This Row],[Mês/Ano]]),0))} -> Estágio | S74: =SUMIFS('Jornada Prevista'!$G:$G,'Jornada Prevista'!$B:$B,FOcorrencias[[#This Row],[Matricula]],'Jornada Prevista'!$P:$P,FOcorrencias[[#This Row],[Mês/Ano]]) -> 184.8 | T74: =SUMIFS('Jornada Prevista'!$N:$N,'Jornada Prevista'!$B:$B,FOcorrencias[[#This Row],[Matricula]],'Jornada Prevista'!$P:$P,FOcorrencias[[#This Row],[Mês/Ano]]) -> 10595.16 | U74: =SUMIFS('Jornada Prevista'!$O:$O,'Jornada Prevista'!$B:$B,FOcorrencias[[#This Row],[Matricula]],'Jornada Prevista'!$P:$P,FOcorrencias[[#This Row],[Mês/Ano]]) -> 57.333117 | V74: =IF(FOcorrencias[[#This Row],[Data da Ocorrência]]="","",TEXT(FOcorrencias[[#This Row],[Data da Ocorrência]],"mm/aaaa")) -> 07/2025
B75: 72 | C75: 07/07/2025 | D75: =IF(FOcorrencias[[#This Row],[Data da Ocorrência]]="","",TEXT(FOcorrencias[[#This Row],[Data da Ocorrência]],"dddd")) -> segunda-feira | E75: 8 | F75: =IF(FOcorrencias[[#This Row],[Matricula]]="","",VLOOKUP(FOcorrencias[[#This Row],[Matricula]],Cadastros!$P:$Q,2,0)) -> Funcionario 8 | G75: Falta | H75: Falta de transporte | J75: Sim | K75: 08:48 | M75: {=INDEX('Jornada Prevista'!$H:$H,MATCH(1,('Jornada Prevista'!$B:$B=FOcorrencias[[#This Row],[Matricula]])*('Jornada Prevista'!$P:$P=FOcorrencias[[#This Row],[Mês/Ano]]),0))} -> Empresa X | N75: {=INDEX('Jornada Prevista'!$I:$I,MATCH(1,('Jornada Prevista'!$B:$B=FOcorrencias[[#This Row],[Matricula]])*('Jornada Prevista'!$P:$P=FOcorrencias[[#This Row],[Mês/Ano]]),0))} -> Recursos Humanos | O75: {=INDEX('Jornada Prevista'!$J:$J,MATCH(1,('Jornada Prevista'!$B:$B=FOcorrencias[[#This Row],[Matricula]])*('Jornada Prevista'!$P:$P=FOcorrencias[[#This Row],[Mês/Ano]]),0))} -> Programador | P75: {=INDEX('Jornada Prevista'!$K:$K,MATCH(1,('Jornada Prevista'!$B:$B=FOcorrencias[[#This Row],[Matricula]])*('Jornada Prevista'!$P:$P=FOcorrencias[[#This Row],[Mês/Ano]]),0))} -> Turno A | Q75: {=INDEX('Jornada Prevista'!$L:$L,MATCH(1,('Jornada Prevista'!$B:$B=FOcorrencias[[#This Row],[Matricula]])*('Jornada Prevista'!$P:$P=FOcorrencias[[#This Row],[Mês/Ano]]),0))} -> 5x1 | R75: {=INDEX('Jornada Prevista'!$M:$M,MATCH(1,('Jornada Prevista'!$B:$B=FOcorrencias[[#This Row],[Matricula]])*('Jornada Prevista'!$P:$P=FOcorrencias[[#This Row],[Mês/Ano]]),0))} -> Estágio | S75: =SUMIFS('Jornada Prevista'!$G:$G,'Jornada Prevista'!$B:$B,FOcorrencias[[#This Row],[Matricula]],'Jornada Prevista'!$P:$P,FOcorrencias[[#This Row],[Mês/Ano]]) -> 184.8 | T75: =SUMIFS('Jornada Prevista'!$N:$N,'Jornada Prevista'!$B:$B,FOcorrencias[[#This Row],[Matricula]],'Jornada Prevista'!$P:$P,FOcorrencias[[#This Row],[Mês/Ano]]) -> 10595.16 | U75: =SUMIFS('Jornada Prevista'!$O:$O,'Jornada Prevista'!$B:$B,FOcorrencias[[#This Row],[Matricula]],'Jornada Prevista'!$P:$P,FOcorrencias[[#This Row],[Mês/Ano]]) -> 57.333117 | V75: =IF(FOcorrencias[[#This Row],[Data da Ocorrência]]="","",TEXT(FOcorrencias[[#This Row],[Data da Ocorrência]],"mm/aaaa")) -> 07/2025
B76: 73 | C76: 27/03/2025 | D76: =IF(FOcorrencias[[#This Row],[Data da Ocorrência]]="","",TEXT(FOcorrencias[[#This Row],[Data da Ocorrência]],"dddd")) -> quinta-feira | E76: 8 | F76: =IF(FOcorrencias[[#This Row],[Matricula]]="","",VLOOKUP(FOcorrencias[[#This Row],[Matricula]],Cadastros!$P:$Q,2,0)) -> Funcionario 8 | G76: Saída Antecipada | H76: Falta de transporte | I76: Z76 | J76: Não | K76: 01:00 | M76: {=INDEX('Jornada Prevista'!$H:$H,MATCH(1,('Jornada Prevista'!$B:$B=FOcorrencias[[#This Row],[Matricula]])*('Jornada Prevista'!$P:$P=FOcorrencias[[#This Row],[Mês/Ano]]),0))} -> Empresa X | N76: {=INDEX('Jornada Prevista'!$I:$I,MATCH(1,('Jornada Prevista'!$B:$B=FOcorrencias[[#This Row],[Matricula]])*('Jornada Prevista'!$P:$P=FOcorrencias[[#This Row],[Mês/Ano]]),0))} -> Atendimento | O76: {=INDEX('Jornada Prevista'!$J:$J,MATCH(1,('Jornada Prevista'!$B:$B=FOcorrencias[[#This Row],[Matricula]])*('Jornada Prevista'!$P:$P=FOcorrencias[[#This Row],[Mês/Ano]]),0))} -> Supervisor | P76: {=INDEX('Jornada Prevista'!$K:$K,MATCH(1,('Jornada Prevista'!$B:$B=FOcorrencias[[#This Row],[Matricula]])*('Jornada Prevista'!$P:$P=FOcorrencias[[#This Row],[Mês/Ano]]),0))} -> Turno D | Q76: {=INDEX('Jornada Prevista'!$L:$L,MATCH(1,('Jornada Prevista'!$B:$B=FOcorrencias[[#This Row],[Matricula]])*('Jornada Prevista'!$P:$P=FOcorrencias[[#This Row],[Mês/Ano]]),0))} -> 5x1 | R76: {=INDEX('Jornada Prevista'!$M:$M,MATCH(1,('Jornada Prevista'!$B:$B=FOcorrencias[[#This Row],[Matricula]])*('Jornada Prevista'!$P:$P=FOcorrencias[[#This Row],[Mês/Ano]]),0))} -> CLT | S76: =SUMIFS('Jornada Prevista'!$G:$G,'Jornada Prevista'!$B:$B,FOcorrencias[[#This Row],[Matricula]],'Jornada Prevista'!$P:$P,FOcorrencias[[#This Row],[Mês/Ano]]) -> 184.8 | T76: =SUMIFS('Jornada Prevista'!$N:$N,'Jornada Prevista'!$B:$B,FOcorrencias[[#This Row],[Matricula]],'Jornada Prevista'!$P:$P,FOcorrencias[[#This Row],[Mês/Ano]]) -> 2683.14 | U76: =SUMIFS('Jornada Prevista'!$O:$O,'Jornada Prevista'!$B:$B,FOcorrencias[[#This Row],[Matricula]],'Jornada Prevista'!$P:$P,FOcorrencias[[#This Row],[Mês/Ano]]) -> 14.519156 | V76: =IF(FOcorrencias[[#This Row],[Data da Ocorrência]]="","",TEXT(FOcorrencias[[#This Row],[Data da Ocorrência]],"mm/aaaa")) -> 03/2025
B77: 74 | C77: 02/02/2025 | D77: =IF(FOcorrencias[[#This Row],[Data da Ocorrência]]="","",TEXT(FOcorrencias[[#This Row],[Data da Ocorrência]],"dddd")) -> domingo | E77: 8 | F77: =IF(FOcorrencias[[#This Row],[Matricula]]="","",VLOOKUP(FOcorrencias[[#This Row],[Matricula]],Cadastros!$P:$Q,2,0)) -> Funcionario 8 | G77: Atitude disciplinar | H77: Consulta médica | I77: F32 | J77: Sim | K77: 04:00 | M77: {=INDEX('Jornada Prevista'!$H:$H,MATCH(1,('Jornada Prevista'!$B:$B=FOcorrencias[[#This Row],[Matricula]])*('Jornada Prevista'!$P:$P=FOcorrencias[[#This Row],[Mês/Ano]]),0))} -> Empresa Z | N77: {=INDEX('Jornada Prevista'!$I:$I,MATCH(1,('Jornada Prevista'!$B:$B=FOcorrencias[[#This Row],[Matricula]])*('Jornada Prevista'!$P:$P=FOcorrencias[[#This Row],[Mês/Ano]]),0))} -> Recursos Humanos | O77: {=INDEX('Jornada Prevista'!$J:$J,MATCH(1,('Jornada Prevista'!$B:$B=FOcorrencias[[#This Row],[Matricula]])*('Jornada Prevista'!$P:$P=FOcorrencias[[#This Row],[Mês/Ano]]),0))} -> Analista de Projetos | P77: {=INDEX('Jornada Prevista'!$K:$K,MATCH(1,('Jornada Prevista'!$B:$B=FOcorrencias[[#This Row],[Matricula]])*('Jornada Prevista'!$P:$P=FOcorrencias[[#This Row],[Mês/Ano]]),0))} -> Turno C | Q77: {=INDEX('Jornada Prevista'!$L:$L,MATCH(1,('Jornada Prevista'!$B:$B=FOcorrencias[[#This Row],[Matricula]])*('Jornada Prevista'!$P:$P=FOcorrencias[[#This Row],[Mês/Ano]]),0))} -> 12x36 | R77: {=INDEX('Jornada Prevista'!$M:$M,MATCH(1,('Jornada Prevista'!$B:$B=FOcorrencias[[#This Row],[Matricula]])*('Jornada Prevista'!$P:$P=FOcorrencias[[#This Row],[Mês/Ano]]),0))} -> Estágio | S77: =SUMIFS('Jornada Prevista'!$G:$G,'Jornada Prevista'!$B:$B,FOcorrencias[[#This Row],[Matricula]],'Jornada Prevista'!$P:$P,FOcorrencias[[#This Row],[Mês/Ano]]) -> 184.8 | T77: =SUMIFS('Jornada Prevista'!$N:$N,'Jornada Prevista'!$B:$B,FOcorrencias[[#This Row],[Matricula]],'Jornada Prevista'!$P:$P,FOcorrencias[[#This Row],[Mês/Ano]]) -> 8818.93 | U77: =SUMIFS('Jornada Prevista'!$O:$O,'Jornada Prevista'!$B:$B,FOcorrencias[[#This Row],[Matricula]],'Jornada Prevista'!$P:$P,FOcorrencias[[#This Row],[Mês/Ano]]) -> 47.721483 | V77: =IF(FOcorrencias[[#This Row],[Data da Ocorrência]]="","",TEXT(FOcorrencias[[#This Row],[Data da Ocorrência]],"mm/aaaa")) -> 02/2025
B78: 75 | C78: 19/02/2025 | D78: =IF(FOcorrencias[[#This Row],[Data da Ocorrência]]="","",TEXT(FOcorrencias[[#This Row],[Data da Ocorrência]],"dddd")) -> quarta-feira | E78: 9 | F78: =IF(FOcorrencias[[#This Row],[Matricula]]="","",VLOOKUP(FOcorrencias[[#This Row],[Matricula]],Cadastros!$P:$Q,2,0)) -> Funcionario 9 | G78: Atraso | H78: Compromisso familiar | J78: Sim | K78: 00:10 | M78: {=INDEX('Jornada Prevista'!$H:$H,MATCH(1,('Jornada Prevista'!$B:$B=FOcorrencias[[#This Row],[Matricula]])*('Jornada Prevista'!$P:$P=FOcorrencias[[#This Row],[Mês/Ano]]),0))} -> Empresa X | N78: {=INDEX('Jornada Prevista'!$I:$I,MATCH(1,('Jornada Prevista'!$B:$B=FOcorrencias[[#This Row],[Matricula]])*('Jornada Prevista'!$P:$P=FOcorrencias[[#This Row],[Mês/Ano]]),0))} -> Vendas | O78: {=INDEX('Jornada Prevista'!$J:$J,MATCH(1,('Jornada Prevista'!$B:$B=FOcorrencias[[#This Row],[Matricula]])*('Jornada Prevista'!$P:$P=FOcorrencias[[#This Row],[Mês/Ano]]),0))} -> Supervisor | P78: {=INDEX('Jornada Prevista'!$K:$K,MATCH(1,('Jornada Prevista'!$B:$B=FOcorrencias[[#This Row],[Matricula]])*('Jornada Prevista'!$P:$P=FOcorrencias[[#This Row],[Mês/Ano]]),0))} -> Turno D | Q78: {=INDEX('Jornada Prevista'!$L:$L,MATCH(1,('Jornada Prevista'!$B:$B=FOcorrencias[[#This Row],[Matricula]])*('Jornada Prevista'!$P:$P=FOcorrencias[[#This Row],[Mês/Ano]]),0))} -> 6x1 | R78: {=INDEX('Jornada Prevista'!$M:$M,MATCH(1,('Jornada Prevista'!$B:$B=FOcorrencias[[#This Row],[Matricula]])*('Jornada Prevista'!$P:$P=FOcorrencias[[#This Row],[Mês/Ano]]),0))} -> CLT | S78: =SUMIFS('Jornada Prevista'!$G:$G,'Jornada Prevista'!$B:$B,FOcorrencias[[#This Row],[Matricula]],'Jornada Prevista'!$P:$P,FOcorrencias[[#This Row],[Mês/Ano]]) -> 184.8 | T78: =SUMIFS('Jornada Prevista'!$N:$N,'Jornada Prevista'!$B:$B,FOcorrencias[[#This Row],[Matricula]],'Jornada Prevista'!$P:$P,FOcorrencias[[#This Row],[Mês/Ano]]) -> 1920.05 | U78: =SUMIFS('Jornada Prevista'!$O:$O,'Jornada Prevista'!$B:$B,FOcorrencias[[#This Row],[Matricula]],'Jornada Prevista'!$P:$P,FOcorrencias[[#This Row],[Mês/Ano]]) -> 10.389881 | V78: =IF(FOcorrencias[[#This Row],[Data da Ocorrência]]="","",TEXT(FOcorrencias[[#This Row],[Data da Ocorrência]],"mm/aaaa")) -> 02/2025
B79: 76 | C79: 25/07/2025 | D79: =IF(FOcorrencias[[#This Row],[Data da Ocorrência]]="","",TEXT(FOcorrencias[[#This Row],[Data da Ocorrência]],"dddd")) -> sexta-feira | E79: 9 | F79: =IF(FOcorrencias[[#This Row],[Matricula]]="","",VLOOKUP(FOcorrencias[[#This Row],[Matricula]],Cadastros!$P:$Q,2,0)) -> Funcionario 9 | G79: Atitude disciplinar | H79: Problemas pessoais | J79: Não | K79: 08:00 | M79: {=INDEX('Jornada Prevista'!$H:$H,MATCH(1,('Jornada Prevista'!$B:$B=FOcorrencias[[#This Row],[Matricula]])*('Jornada Prevista'!$P:$P=FOcorrencias[[#This Row],[Mês/Ano]]),0))} -> Empresa Y | N79: {=INDEX('Jornada Prevista'!$I:$I,MATCH(1,('Jornada Prevista'!$B:$B=FOcorrencias[[#This Row],[Matricula]])*('Jornada Prevista'!$P:$P=FOcorrencias[[#This Row],[Mês/Ano]]),0))} -> Contabilidade | O79: {=INDEX('Jornada Prevista'!$J:$J,MATCH(1,('Jornada Prevista'!$B:$B=FOcorrencias[[#This Row],[Matricula]])*('Jornada Prevista'!$P:$P=FOcorrencias[[#This Row],[Mês/Ano]]),0))} -> Gerente | P79: {=INDEX('Jornada Prevista'!$K:$K,MATCH(1,('Jornada Prevista'!$B:$B=FOcorrencias[[#This Row],[Matricula]])*('Jornada Prevista'!$P:$P=FOcorrencias[[#This Row],[Mês/Ano]]),0))} -> Turno C | Q79: {=INDEX('Jornada Prevista'!$L:$L,MATCH(1,('Jornada Prevista'!$B:$B=FOcorrencias[[#This Row],[Matricula]])*('Jornada Prevista'!$P:$P=FOcorrencias[[#This Row],[Mês/Ano]]),0))} -> 6x1 | R79: {=INDEX('Jornada Prevista'!$M:$M,MATCH(1,('Jornada Prevista'!$B:$B=FOcorrencias[[#This Row],[Matricula]])*('Jornada Prevista'!$P:$P=FOcorrencias[[#This Row],[Mês/Ano]]),0))} -> CLT | S79: =SUMIFS('Jornada Prevista'!$G:$G,'Jornada Prevista'!$B:$B,FOcorrencias[[#This Row],[Matricula]],'Jornada Prevista'!$P:$P,FOcorrencias[[#This Row],[Mês/Ano]]) -> 184.8 | T79: =SUMIFS('Jornada Prevista'!$N:$N,'Jornada Prevista'!$B:$B,FOcorrencias[[#This Row],[Matricula]],'Jornada Prevista'!$P:$P,FOcorrencias[[#This Row],[Mês/Ano]]) -> 11367.27 | U79: =SUMIFS('Jornada Prevista'!$O:$O,'Jornada Prevista'!$B:$B,FOcorrencias[[#This Row],[Matricula]],'Jornada Prevista'!$P:$P,FOcorrencias[[#This Row],[Mês/Ano]]) -> 61.511201 | V79: =IF(FOcorrencias[[#This Row],[Data da Ocorrência]]="","",TEXT(FOcorrencias[[#This Row],[Data da Ocorrência]],"mm/aaaa")) -> 07/2025
B80: 77 | C80: 12/11/2025 | D80: =IF(FOcorrencias[[#This Row],[Data da Ocorrência]]="","",TEXT(FOcorrencias[[#This Row],[Data da Ocorrência]],"dddd")) -> quarta-feira | E80: 9 | F80: =IF(FOcorrencias[[#This Row],[Matricula]]="","",VLOOKUP(FOcorrencias[[#This Row],[Matricula]],Cadastros!$P:$Q,2,0)) -> Funcionario 9 | G80: Saída Antecipada | H80: Problemas pessoais | I80: K21 | J80: Não | K80: 00:15 | M80: {=INDEX('Jornada Prevista'!$H:$H,MATCH(1,('Jornada Prevista'!$B:$B=FOcorrencias[[#This Row],[Matricula]])*('Jornada Prevista'!$P:$P=FOcorrencias[[#This Row],[Mês/Ano]]),0))} -> Empresa Y | N80: {=INDEX('Jornada Prevista'!$I:$I,MATCH(1,('Jornada Prevista'!$B:$B=FOcorrencias[[#This Row],[Matricula]])*('Jornada Prevista'!$P:$P=FOcorrencias[[#This Row],[Mês/Ano]]),0))} -> Contabilidade | O80: {=INDEX('Jornada Prevista'!$J:$J,MATCH(1,('Jornada Prevista'!$B:$B=FOcorrencias[[#This Row],[Matricula]])*('Jornada Prevista'!$P:$P=FOcorrencias[[#This Row],[Mês/Ano]]),0))} -> Coordenador | P80: {=INDEX('Jornada Prevista'!$K:$K,MATCH(1,('Jornada Prevista'!$B:$B=FOcorrencias[[#This Row],[Matricula]])*('Jornada Prevista'!$P:$P=FOcorrencias[[#This Row],[Mês/Ano]]),0))} -> Turno B | Q80: {=INDEX('Jornada Prevista'!$L:$L,MATCH(1,('Jornada Prevista'!$B:$B=FOcorrencias[[#This Row],[Matricula]])*('Jornada Prevista'!$P:$P=FOcorrencias[[#This Row],[Mês/Ano]]),0))} -> 12x36 | R80: {=INDEX('Jornada Prevista'!$M:$M,MATCH(1,('Jornada Prevista'!$B:$B=FOcorrencias[[#This Row],[Matricula]])*('Jornada Prevista'!$P:$P=FOcorrencias[[#This Row],[Mês/Ano]]),0))} -> Estágio | S80: =SUMIFS('Jornada Prevista'!$G:$G,'Jornada Prevista'!$B:$B,FOcorrencias[[#This Row],[Matricula]],'Jornada Prevista'!$P:$P,FOcorrencias[[#This Row],[Mês/Ano]]) -> 184.8 | T80: =SUMIFS('Jornada Prevista'!$N:$N,'Jornada Prevista'!$B:$B,FOcorrencias[[#This Row],[Matricula]],'Jornada Prevista'!$P:$P,FOcorrencias[[#This Row],[Mês/Ano]]) -> 10613.93 | U80: =SUMIFS('Jornada Prevista'!$O:$O,'Jornada Prevista'!$B:$B,FOcorrencias[[#This Row],[Matricula]],'Jornada Prevista'!$P:$P,FOcorrencias[[#This Row],[Mês/Ano]]) -> 57.434686 | V80: =IF(FOcorrencias[[#This Row],[Data da Ocorrência]]="","",TEXT(FOcorrencias[[#This Row],[Data da Ocorrência]],"mm/aaaa")) -> 11/2025
B81: 78 | C81: 28/05/2025 | D81: =IF(FOcorrencias[[#This Row],[Data da Ocorrência]]="","",TEXT(FOcorrencias[[#This Row],[Data da Ocorrência]],"dddd")) -> quarta-feira | E81: 9 | F81: =IF(FOcorrencias[[#This Row],[Matricula]]="","",VLOOKUP(FOcorrencias[[#This Row],[Matricula]],Cadastros!$P:$Q,2,0)) -> Funcionario 9 | G81: Atraso | H81: Consulta médica | I81: Z00 | J81: Sim | K81: 00:50 | M81: {=INDEX('Jornada Prevista'!$H:$H,MATCH(1,('Jornada Prevista'!$B:$B=FOcorrencias[[#This Row],[Matricula]])*('Jornada Prevista'!$P:$P=FOcorrencias[[#This Row],[Mês/Ano]]),0))} -> Empresa Y | N81: {=INDEX('Jornada Prevista'!$I:$I,MATCH(1,('Jornada Prevista'!$B:$B=FOcorrencias[[#This Row],[Matricula]])*('Jornada Prevista'!$P:$P=FOcorrencias[[#This Row],[Mês/Ano]]),0))} -> Jurídico | O81: {=INDEX('Jornada Prevista'!$J:$J,MATCH(1,('Jornada Prevista'!$B:$B=FOcorrencias[[#This Row],[Matricula]])*('Jornada Prevista'!$P:$P=FOcorrencias[[#This Row],[Mês/Ano]]),0))} -> Analista Pleno | P81: {=INDEX('Jornada Prevista'!$K:$K,MATCH(1,('Jornada Prevista'!$B:$B=FOcorrencias[[#This Row],[Matricula]])*('Jornada Prevista'!$P:$P=FOcorrencias[[#This Row],[Mês/Ano]]),0))} -> Turno B | Q81: {=INDEX('Jornada Prevista'!$L:$L,MATCH(1,('Jornada Prevista'!$B:$B=FOcorrencias[[#This Row],[Matricula]])*('Jornada Prevista'!$P:$P=FOcorrencias[[#This Row],[Mês/Ano]]),0))} -> 6x1 | R81: {=INDEX('Jornada Prevista'!$M:$M,MATCH(1,('Jornada Prevista'!$B:$B=FOcorrencias[[#This Row],[Matricula]])*('Jornada Prevista'!$P:$P=FOcorrencias[[#This Row],[Mês/Ano]]),0))} -> PJ | S81: =SUMIFS('Jornada Prevista'!$G:$G,'Jornada Prevista'!$B:$B,FOcorrencias[[#This Row],[Matricula]],'Jornada Prevista'!$P:$P,FOcorrencias[[#This Row],[Mês/Ano]]) -> 184.8 | T81: =SUMIFS('Jornada Prevista'!$N:$N,'Jornada Prevista'!$B:$B,FOcorrencias[[#This Row],[Matricula]],'Jornada Prevista'!$P:$P,FOcorrencias[[#This Row],[Mês/Ano]]) -> 5828.16 | U81: =SUMIFS('Jornada Prevista'!$O:$O,'Jornada Prevista'!$B:$B,FOcorrencias[[#This Row],[Matricula]],'Jornada Prevista'!$P:$P,FOcorrencias[[#This Row],[Mês/Ano]]) -> 31.537662 | V81: =IF(FOcorrencias[[#This Row],[Data da Ocorrência]]="","",TEXT(FOcorrencias[[#This Row],[Data da Ocorrência]],"mm/aaaa")) -> 05/2025
B82: 79 | C82: 05/09/2025 | D82: =IF(FOcorrencias[[#This Row],[Data da Ocorrência]]="","",TEXT(FOcorrencias[[#This Row],[Data da Ocorrência]],"dddd")) -> sexta-feira | E82: 9 | F82: =IF(FOcorrencias[[#This Row],[Matricula]]="","",VLOOKUP(FOcorrencias[[#This Row],[Matricula]],Cadastros!$P:$Q,2,0)) -> Funcionario 9 | G82: Atitude disciplinar | H82: Indisciplina | J82: Sim | K82: 01:30 | L82: Ocorrência registrada pelo gestor imediato. | M82: {=INDEX('Jornada Prevista'!$H:$H,MATCH(1,('Jornada Prevista'!$B:$B=FOcorrencias[[#This Row],[Matricula]])*('Jornada Prevista'!$P:$P=FOcorrencias[[#This Row],[Mês/Ano]]),0))} -> Empresa X | N82: {=INDEX('Jornada Prevista'!$I:$I,MATCH(1,('Jornada Prevista'!$B:$B=FOcorrencias[[#This Row],[Matricula]])*('Jornada Prevista'!$P:$P=FOcorrencias[[#This Row],[Mês/Ano]]),0))} -> Operações | O82: {=INDEX('Jornada Prevista'!$J:$J,MATCH(1,('Jornada Prevista'!$B:$B=FOcorrencias[[#This Row],[Matricula]])*('Jornada Prevista'!$P:$P=FOcorrencias[[#This Row],[Mês/Ano]]),0))} -> Administrador | P82: {=INDEX('Jornada Prevista'!$K:$K,MATCH(1,('Jornada Prevista'!$B:$B=FOcorrencias[[#This Row],[Matricula]])*('Jornada Prevista'!$P:$P=FOcorrencias[[#This Row],[Mês/Ano]]),0))} -> Turno Folguista | Q82: {=INDEX('Jornada Prevista'!$L:$L,MATCH(1,('Jornada Prevista'!$B:$B=FOcorrencias[[#This Row],[Matricula]])*('Jornada Prevista'!$P:$P=FOcorrencias[[#This Row],[Mês/Ano]]),0))} -> 12x36 | R82: {=INDEX('Jornada Prevista'!$M:$M,MATCH(1,('Jornada Prevista'!$B:$B=FOcorrencias[[#This Row],[Matricula]])*('Jornada Prevista'!$P:$P=FOcorrencias[[#This Row],[Mês/Ano]]),0))} -> Estágio | S82: =SUMIFS('Jornada Prevista'!$G:$G,'Jornada Prevista'!$B:$B,FOcorrencias[[#This Row],[Matricula]],'Jornada Prevista'!$P:$P,FOcorrencias[[#This Row],[Mês/Ano]]) -> 184.8 | T82: =SUMIFS('Jornada Prevista'!$N:$N,'Jornada Prevista'!$B:$B,FOcorrencias[[#This Row],[Matricula]],'Jornada Prevista'!$P:$P,FOcorrencias[[#This Row],[Mês/Ano]]) -> 9814.35 | U82: =SUMIFS('Jornada Prevista'!$O:$O,'Jornada Prevista'!$B:$B,FOcorrencias[[#This Row],[Matricula]],'Jornada Prevista'!$P:$P,FOcorrencias[[#This Row],[Mês/Ano]]) -> 53.107955 | V82: =IF(FOcorrencias[[#This Row],[Data da Ocorrência]]="","",TEXT(FOcorrencias[[#This Row],[Data da Ocorrência]],"mm/aaaa")) -> 09/2025
