Workbook

Sheet Cadastros
B3: Empresa | D3: Turno | F3: Setor | H3: Cargo | J3: Tipo de Contrato | L3: Escala | N3: Tipo de Ocorrência | P3: Matricula | Q3: Nome do Funcionário | R3: Genero | S3: Data de Nascimento | T3: Data de Admissão | U3: Idade | V3: Tempo de Emprea
B4: Empresa X | D4: Turno A | F4: Recursos Humanos | H4: Analista | J4: PJ | L4: 5x1 | N4: Falta | P4: 1 | Q4: Funcionario 1 | R4: Masculino | S4: 32424 | T4: 41673 | U4: =IF(DFuncionarios[[#This Row],[Data de Nascimento]]="","",YEAR(TODAY())-YEAR(DFuncionarios[[#This Row],[Data de Nascimento]])) -> 37 | V4: =IF(DFuncionarios[[#This Row],[Data de Admissão]]="","",YEAR(TODAY())-YEAR(DFuncionarios[[#This Row],[Data de Admissão]])) -> 11
B5: Empresa Y | D5: Turno B | F5: Financeiro | H5: Assistente | J5: CLT | L5: 6x1 | N5: Atraso | P5: 2 | Q5: Funcionario 2 | R5: Feminino | S5: 02/11/1971 | U5: =IF(DFuncionarios[[#This Row],[Data de Nascimento]]="","",YEAR(TODAY())-YEAR(DFuncionarios[[#This Row],[Data de Nascimento]])) -> 54 | V5: =IF(DFuncionarios[[#This Row],[Data de Admissão]]="","",YEAR(TODAY())-YEAR(DFuncionarios[[#This Row],[Data de Admissão]]))
B6: Empresa Z | D6: Turno C | F6: Contabilidade | H6: Coordenador | J6: Estágio | L6: 12x36 | N6: Saída Antecipada | P6: 3 | Q6: Funcionario 3 | R6: Feminino | S6: 36496 | T6: 44942 | U6: =IF(DFuncionarios[[#This Row],[Data de Nascimento]]="","",YEAR(TODAY())-YEAR(DFuncionarios[[#This Row],[Data de Nascimento]])) -> 26 | V6: =IF(DFuncionarios[[#This Row],[Data de Admissão]]="","",YEAR(TODAY())-YEAR(DFuncionarios[[#This Row],[Data de Admissão]])) -> 2
D7: Turno D | F7: Jurídico | H7: Supervisor | L7: 5x2 | N7: Atitude disciplinar | P7: 4 | Q7: Funcionario 4 | R7: Masculino | S7: 35085 | T7: 41701 | U7: =IF(DFuncionarios[[#This Row],[Data de Nascimento]]="","",YEAR(TODAY())-YEAR(DFuncionarios[[#This Row],[Data de Nascimento]])) -> 29 | V7: =IF(DFuncionarios[[#This Row],[Data de Admissão]]="","",YEAR(TODAY())-YEAR(DFuncionarios[[#This Row],[Data de Admissão]])) -> 11
D8: Turno Folguista | F8: Operações | H8: Gerente | L8: 24x48 | P8: 5 | Q8: Funcionario 5 | R8: Masculino | S8: 35085 | T8: 45243 | U8: =IF(DFuncionarios[[#This Row],[Data de Nascimento]]="","",YEAR(TODAY())-YEAR(DFuncionarios[[#This Row],[Data de Nascimento]])) -> 29 | V8: =IF(DFuncionarios[[#This Row],[Data de Admissão]]="","",YEAR(TODAY())-YEAR(DFuncionarios[[#This Row],[Data de Admissão]])) -> 2
F9: Logística | H9: Diretor | L9: 4x2 | P9: 6 | Q9: Funcionario 6 | R9: Feminino | S9: 35085 | T9: 45393 | U9: =IF(DFuncionarios[[#This Row],[Data de Nascimento]]="","",YEAR(TODAY())-YEAR(DFuncionarios[[#This Row],[Data de Nascimento]])) -> 29 | V9: =IF(DFuncionarios[[#This Row],[Data de Admissão]]="","",YEAR(TODAY())-YEAR(DFuncionarios[[#This Row],[Data de Admissão]])) -> 1
F10: Marketing | H10: Estagiário | L10: 4x3 | P10: 7 | Q10: Funcionario 7 | R10: Feminino | S10: 35085 | T10: 44840 | U10: =IF(DFuncionarios[[#This Row],[Data de Nascimento]]="","",YEAR(TODAY())-YEAR(DFuncionarios[[#This Row],[Data de Nascimento]])) -> 29 | V10: =IF(DFuncionarios[[#This Row],[Data de Admissão]]="","",YEAR(TODAY())-YEAR(DFuncionarios[[#This Row],[Data de Admissão]])) -> 3
F11: Vendas | H11: Auxiliar | P11: 8 | Q11: Funcionario 8 | R11: Masculino | S11: 35085 | T11: 44972 | U11: =IF(DFuncionarios[[#This Row],[Data de Nascimento]]="","",YEAR(TODAY())-YEAR(DFuncionarios[[#This Row],[Data de Nascimento]])) -> 29 | V11: =IF(DFuncionarios[[#This Row],[Data de Admissão]]="","",YEAR(TODAY())-YEAR(DFuncionarios[[#This Row],[Data de Admissão]])) -> 2
F12: TI | H12: Técnico | P12: 9 | Q12: Funcionario 9 | R12: Masculino | S12: 35085 | T12: 44972 | U12: =IF(DFuncionarios[[#This Row],[Data de Nascimento]]="","",YEAR(TODAY())-YEAR(DFuncionarios[[#This Row],[Data de Nascimento]])) -> 29 | V12: =IF(DFuncionarios[[#This Row],[Data de Admissão]]="","",YEAR(TODAY())-YEAR(DFuncionarios[[#This Row],[Data de Admissão]])) -> 2
F13: Engenharia | H13: Especialista | P13: 10 | Q13: Funcionario 10 | R13: Masculino | S13: 35085 | T13: 45383 | U13: =IF(DFuncionarios[[#This Row],[Data de Nascimento]]="","",YEAR(TODAY())-YEAR(DFuncionarios[[#This Row],[Data de Nascimento]])) -> 29 | V13: =IF(DFuncionarios[[#This Row],[Data de Admissão]]="","",YEAR(TODAY())-YEAR(DFuncionarios[[#This Row],[Data de Admissão]])) -> 1
F14: Produção | H14: Operador | P14: 11 | Q14: Funcionario 11 | R14: Masculino | S14: 35085 | T14: 45159 | U14: =IF(DFuncionarios[[#This Row],[Data de Nascimento]]="","",YEAR(TODAY())-YEAR(DFuncionarios[[#This Row],[Data de Nascimento]])) -> 29 | V14: =IF(DFuncionarios[[#This Row],[Data de Admissão]]="","",YEAR(TODAY())-YEAR(DFuncionarios[[#This Row],[Data de Admissão]])) -> 2
F15: Qualidade | H15: Consultor | P15: 12 | Q15: Funcionario 12 | R15: Feminino | S15: 35085 | T15: 43836 | U15: =IF(DFuncionarios[[#This Row],[Data de Nascimento]]="","",YEAR(TODAY())-YEAR(DFuncionarios[[#This Row],[Data de Nascimento]])) -> 29 | V15: =IF(DFuncionarios[[#This Row],[Data de Admissão]]="","",YEAR(TODAY())-YEAR(DFuncionarios[[#This Row],[Data de Admissão]])) -> 5
F16: Compras | H16: Administrador | P16: 13 | Q16: Funcionario 13 | R16: Feminino | S16: 36033 | T16: 38231 | U16: =IF(DFuncionarios[[#This Row],[Data de Nascimento]]="","",YEAR(TODAY())-YEAR(DFuncionarios[[#This Row],[Data de Nascimento]])) -> 27 | V16: =IF(DFuncionarios[[#This Row],[Data de Admissão]]="","",YEAR(TODAY())-YEAR(DFuncionarios[[#This Row],[Data de Admissão]])) -> 21
F17: Atendimento | H17: Programador | P17: 14 | Q17: Funcionario 14 | R17: Masculino | S17: 36033 | T17: 42233 | U17: =IF(DFuncionarios[[#This Row],[Data de Nascimento]]="","",YEAR(TODAY())-YEAR(DFuncionarios[[#This Row],[Data de Nascimento]])) -> 27 | V17: =IF(DFuncionarios[[#This Row],[Data de Admissão]]="","",YEAR(TODAY())-YEAR(DFuncionarios[[#This Row],[Data de Admissão]])) -> 10
F18: Administração | H18: Engenheiro | P18: 15 | Q18: Funcionario 15 | R18: Masculino | S18: 35512 | T18: 45362 | U18: =IF(DFuncionarios[[#This Row],[Data de Nascimento]]="","",YEAR(TODAY())-YEAR(DFuncionarios[[#This Row],[Data de Nascimento]])) -> 28 | V18: =IF(DFuncionarios[[#This Row],[Data de Admissão]]="","",YEAR(TODAY())-YEAR(DFuncionarios[[#This Row],[Data de Admissão]])) -> 1
H19: Analista Pleno | P19: 16 | Q19: Funcionario 16 | R19: Masculino | S19: 35512 | T19: 45341 | U19: =IF(DFuncionarios[[#This Row],[Data de Nascimento]]="","",YEAR(TODAY())-YEAR(DFuncionarios[[#This Row],[Data de Nascimento]])) -> 28 | V19: =IF(DFuncionarios[[#This Row],[Data de Admissão]]="","",YEAR(TODAY())-YEAR(DFuncionarios[[#This Row],[Data de Admissão]])) -> 1
H20: Analista Sênior | P20: 17 | Q20: Funcionario 17 | R20: Masculino | S20: 35512 | T20: 44942 | U20: =IF(DFuncionarios[[#This Row],[Data de Nascimento]]="","",YEAR(TODAY())-YEAR(DFuncionarios[[#This Row],[Data de Nascimento]])) -> 28 | V20: =IF(DFuncionarios[[#This Row],[Data de Admissão]]="","",YEAR(TODAY())-YEAR(DFuncionarios[[#This Row],[Data de Admissão]])) -> 2
H21: Auxiliar Administrativo | P21: 18 | Q21: Funcionario 18 | R21: Masculino | S21: 35512 | T21: 43108 | U21: =IF(DFuncionarios[[#This Row],[Data de Nascimento]]="","",YEAR(TODAY())-YEAR(DFuncionarios[[#This Row],[Data de Nascimento]])) -> 28 | V21: =IF(DFuncionarios[[#This Row],[Data de Admissão]]="","",YEAR(TODAY())-YEAR(DFuncionarios[[#This Row],[Data de Admissão]])) -> 7
H22: Atendente | P22: 19 | Q22: Funcionario 19 | R22: Feminino | S22: 35512 | T22: 44144 | U22: =IF(DFuncionarios[[#This Row],[Data de Nascimento]]="","",YEAR(TODAY())-YEAR(DFuncionarios[[#This Row],[Data de Nascimento]])) -> 28 | V22: =IF(DFuncionarios[[#This Row],[Data de Admissão]]="","",YEAR(TODAY())-YEAR(DFuncionarios[[#This Row],[Data de Admissão]])) -> 5
H23: Analista de Projetos | P23: 20 | Q23: Funcionario 20 | R23: Feminino | S23: 35512 | T23: 41061 | U23: =IF(DFuncionarios[[#This Row],[Data de Nascimento]]="","",YEAR(TODAY())-YEAR(DFuncionarios[[#This Row],[Data de Nascimento]])) -> 28 | V23: =IF(DFuncionarios[[#This Row],[Data de Admissão]]="","",YEAR(TODAY())-YEAR(DFuncionarios[[#This Row],[Data de Admissão]])) -> 13
P24: 21 | Q24: Funcionario 21 | R24: Masculino | S24: 35512 | T24: 44440 | U24: =IF(DFuncionarios[[#This Row],[Data de Nascimento]]="","",YEAR(TODAY())-YEAR(DFuncionarios[[#This Row],[Data de Nascimento]])) -> 28 | V24: =IF(DFuncionarios[[#This Row],[Data de Admissão]]="","",YEAR(TODAY())-YEAR(DFuncionarios[[#This Row],[Data de Admissão]])) -> 4
P25: 22 | Q25: Funcionario 22 | R25: Masculino | S25: 35512 | T25: 45397 | U25: =IF(DFuncionarios[[#This Row],[Data de Nascimento]]="","",YEAR(TODAY())-YEAR(DFuncionarios[[#This Row],[Data de Nascimento]])) -> 28 | V25: =IF(DFuncionarios[[#This Row],[Data de Admissão]]="","",YEAR(TODAY())-YEAR(DFuncionarios[[#This Row],[Data de Admissão]])) -> 1
P26: 23 | Q26: Funcionario 23 | R26: Feminino | S26: 35512 | T26: 40787 | U26: =IF(DFuncionarios[[#This Row],[Data de Nascimento]]="","",YEAR(TODAY())-YEAR(DFuncionarios[[#This Row],[Data de Nascimento]])) -> 28 | V26: =IF(DFuncionarios[[#This Row],[Data de Admissão]]="","",YEAR(TODAY())-YEAR(DFuncionarios[[#This Row],[Data de Admissão]])) -> 14
P27: 24 | Q27: Funcionario 24 | R27: Feminino | S27: 35512 | T27: 42240 | U27: =IF(DFuncionarios[[#This Row],[Data de Nascimento]]="","",YEAR(TODAY())-YEAR(DFuncionarios[[#This Row],[Data de Nascimento]])) -> 28 | V27: =IF(DFuncionarios[[#This Row],[Data de Admissão]]="","",YEAR(TODAY())-YEAR(DFuncionarios[[#This Row],[Data de Admissão]])) -> 10
P28: 25 | Q28: Funcionario 25 | R28: Masculino | S28: 15/05/1984 | T28: 44881 | U28: =IF(DFuncionarios[[#This Row],[Data de Nascimento]]="","",YEAR(TODAY())-YEAR(DFuncionarios[[#This Row],[Data de Nascimento]])) -> 41 | V28: =IF(DFuncionarios[[#This Row],[Data de Admissão]]="","",YEAR(TODAY())-YEAR(DFuncionarios[[#This Row],[Data de Admissão]])) -> 3
P29: 26 | Q29: Funcionario 26 | R29: Masculino | S29: 36033 | T29: 43864 | U29: =IF(DFuncionarios[[#This Row],[Data de Nascimento]]="","",YEAR(TODAY())-YEAR(DFuncionarios[[#This Row],[Data de Nascimento]])) -> 27 | V29: =IF(DFuncionarios[[#This Row],[Data de Admissão]]="","",YEAR(TODAY())-YEAR(DFuncionarios[[#This Row],[Data de Admissão]])) -> 5
P30: 27 | Q30: Funcionario 27 | R30: Masculino | S30: 36033 | T30: 44566 | U30: =IF(DFuncionarios[[#This Row],[Data de Nascimento]]="","",YEAR(TODAY())-YEAR(DFuncionarios[[#This Row],[Data de Nascimento]])) -> 27 | V30: =IF(DFuncionarios[[#This Row],[Data de Admissão]]="","",YEAR(TODAY())-YEAR(DFuncionarios[[#This Row],[Data de Admissão]])) -> 3
P31: 28 | Q31: Funcionario 28 | R31: Masculino | S31: 36234 | T31: 45159 | U31: =IF(DFuncionarios[[#This Row],[Data de Nascimento]]="","",YEAR(TODAY())-YEAR(DFuncionarios[[#This Row],[Data de Nascimento]])) -> 26 | V31: =IF(DFuncionarios[[#This Row],[Data de Admissão]]="","",YEAR(TODAY())-YEAR(DFuncionarios[[#This Row],[Data de Admissão]])) -> 2
P32: 29 | Q32: Funcionario 29 | R32: Feminino | S32: 36234 | T32: 43500 | U32: =IF(DFuncionarios[[#This Row],[Data de Nascimento]]="","",YEAR(TODAY())-YEAR(DFuncionarios[[#This Row],[Data de Nascimento]])) -> 26 | V32: =IF(DFuncionarios[[#This Row],[Data de Admissão]]="","",YEAR(TODAY())-YEAR(DFuncionarios[[#This Row],[Data de Admissão]])) -> 6
P33: 30 | Q33: Funcionario 30 | R33: Feminino | S33: 36234 | T33: 43348 | U33: =IF(DFuncionarios[[#This Row],[Data de Nascimento]]="","",YEAR(TODAY())-YEAR(DFuncionarios[[#This Row],[Data de Nascimento]])) -> 26 | V33: =IF(DFuncionarios[[#This Row],[Data de Admissão]]="","",YEAR(TODAY())-YEAR(DFuncionarios[[#This Row],[Data de Admissão]])) -> 7
P34: 31 | Q34: Funcionario 31 | R34: Masculino | S34: 36234 | T34: 45383 | U34: =IF(DFuncionarios[[#This Row],[Data de Nascimento]]="","",YEAR(TODAY())-YEAR(DFuncionarios[[#This Row],[Data de Nascimento]])) -> 26 | V34: =IF(DFuncionarios[[#This Row],[Data de Admissão]]="","",YEAR(TODAY())-YEAR(DFuncionarios[[#This Row],[Data de Admissão]])) -> 1
P35: 32 | Q35: Funcionario 32 | R35: Masculino | S35: 36234 | T35: 44972 | U35: =IF(DFuncionarios[[#This Row],[Data de Nascimento]]="","",YEAR(TODAY())-YEAR(DFuncionarios[[#This Row],[Data de Nascimento]])) -> 26 | V35: =IF(DFuncionarios[[#This Row],[Data de Admissão]]="","",YEAR(TODAY())-YEAR(DFuncionarios[[#This Row],[Data de Admissão]])) -> 2
P36: 33 | Q36: Funcionario 33 | R36: Masculino | S36: 36234 | T36: 44482 | U36: =IF(DFuncionarios[[#This Row],[Data de Nascimento]]="","",YEAR(TODAY())-YEAR(DFuncionarios[[#This Row],[Data de Nascimento]])) -> 26 | V36: =IF(DFuncionarios[[#This Row],[Data de Admissão]]="","",YEAR(TODAY())-YEAR(DFuncionarios[[#This Row],[Data de Admissão]])) -> 4
P37: 34 | Q37: Funcionario 34 | R37: Masculino | S37: 36234 | T37: 45140 | U37: =IF(DFuncionarios[[#This Row],[Data de Nascimento]]="","",YEAR(TODAY())-YEAR(DFuncionarios[[#This Row],[Data de Nascimento]])) -> 26 | V37: =IF(DFuncionarios[[#This Row],[Data de Admissão]]="","",YEAR(TODAY())-YEAR(DFuncionarios[[#This Row],[Data de Admissão]])) -> 2
P38: 35 | Q38: Funcionario 35 | R38: Masculino | S38: 36234 | T38: 45397 | U38: =IF(DFuncionarios[[#This Row],[Data de Nascimento]]="","",YEAR(TODAY())-YEAR(DFuncionarios[[#This Row],[Data de Nascimento]])) -> 26 | V38: =IF(DFuncionarios[[#This Row],[Data de Admissão]]="","",YEAR(TODAY())-YEAR(DFuncionarios[[#This Row],[Data de Admissão]])) -> 1
P39: 36 | Q39: Funcionario 36 | R39: Feminino | S39: 35085 | T39: 44256 | U39: =IF(DFuncionarios[[#This Row],[Data de Nascimento]]="","",YEAR(TODAY())-YEAR(DFuncionarios[[#This Row],[Data de Nascimento]])) -> 29 | V39: =IF(DFuncionarios[[#This Row],[Data de Admissão]]="","",YEAR(TODAY())-YEAR(DFuncionarios[[#This Row],[Data de Admissão]])) -> 4
P40: 37 | Q40: Funcionario 37 | R40: Feminino | S40: 35085 | T40: 45341 | U40: =IF(DFuncionarios[[#This Row],[Data de Nascimento]]="","",YEAR(TODAY())-YEAR(DFuncionarios[[#This Row],[Data de Nascimento]])) -> 29 | V40: =IF(DFuncionarios[[#This Row],[Data de Admissão]]="","",YEAR(TODAY())-YEAR(DFuncionarios[[#This Row],[Data de Admissão]])) -> 1
... P42: 39 | Q42: Funcionario 39 | R42: Masculino | S42: 35085 | T42: 39722 | U42: =IF(DFuncionarios[[#This Row],[Data de Nascimento]]="","",YEAR(TODAY())-YEAR(DFuncionarios[[#This Row],[Data de Nascimento]])) -> 29 | V42: =IF(DFuncionarios[[#This Row],[Data de Admissão]]="","",YEAR(TODAY())-YEAR(DFuncionarios[[#This Row],[Data de Admissão]])) -> 17
P43: 40 | Q43: Funcionario 40 | R43: Feminino | S43: 35085 | U43: =IF(DFuncionarios[[#This Row],[Data de Nascimento]]="","",YEAR(TODAY())-YEAR(DFuncionarios[[#This Row],[Data de Nascimento]])) -> 29 | V43: =IF(DFuncionarios[[#This Row],[Data de Admissão]]="","",YEAR(TODAY())-YEAR(DFuncionarios[[#This Row],[Data de Admissão]]))

Sheet Jornada Prevista
B3: Matricula | C3: Funcionários | D3: Data Prevista | E3: Dias Úteis | F3: Carga Horária | G3: Horas Prevista no Mês | H3: Empresa | I3: Setor | J3: Cargo | K3: Turno | L3: Escala | M3: Tipo de Contrato | N3: Salário | O3: Salário/Hora | P3: Mês/Ano
B4: 1 | C4: =IF(DJornada[[#This Row],[Matricula]]="","",VLOOKUP(DJornada[[#This Row],[Matricula]],Cadastros!$P:$Q,2,0)) -> Funcionario 1 | D4: 01/01/2025 | E4: 21 | F4: 0.36666667 | G4: =IFERROR(IF(DJornada[[#This Row],[Dias Úteis]]="","",DJornada[[#This Row],[Dias Úteis]]*DJornada[[#This Row],[Carga Horária]]*24),"") -> 184.8 | H4: Empresa Y | I4: Vendas | J4: Supervisor | K4: Turno D | L4: 5x1 | M4: PJ | N4: 10321.61 | O4: =IF(DJornada[[#This Row],[Salário]]="","",DJornada[[#This Row],[Salário]]/DJornada[[#This Row],[Horas Prevista no Mês]]) -> 55.852868 | P4: =IF(DJornada[[#This Row],[Data Prevista]]="","",TEXT(DJornada[[#This Row],[Data Prevista]],"mm/aaaa")) -> 01/2025
B5: 2 | C5: =IF(DJornada[[#This Row],[Matricula]]="","",VLOOKUP(DJornada[[#This Row],[Matricula]],Cadastros!$P:$Q,2,0)) -> Funcionario 2 | D5: 01/01/2025 | E5: 21 | F5: 0.36666667 | G5: =IFERROR(IF(DJornada[[#This Row],[Dias Úteis]]="","",DJornada[[#This Row],[Dias Úteis]]*DJornada[[#This Row],[Carga Horária]]*24),"") -> 184.8 | H5: Empresa Y | I5: Operações | J5: Analista de Projetos | K5: Turno Folguista | L5: 6x1 | M5: CLT | N5: 11555.79 | O5: =IF(DJornada[[#This Row],[Salário]]="","",DJornada[[#This Row],[Salário]]/DJornada[[#This Row],[Horas Prevista no Mês]]) -> 62.531331 | P5: =IF(DJornada[[#This Row],[Data Prevista]]="","",TEXT(DJornada[[#This Row],[Data Prevista]],"mm/aaaa")) -> 01/2025
B6: 3 | C6: =IF(DJornada[[#This Row],[Matricula]]="","",VLOOKUP(DJornada[[#This Row],[Matricula]],Cadastros!$P:$Q,2,0)) -> Funcionario 3 | D6: 01/01/2025 | E6: 21 | F6: 0.36666667 | G6: =IFERROR(IF(DJornada[[#This Row],[Dias Úteis]]="","",DJornada[[#This Row],[Dias Úteis]]*DJornada[[#This Row],[Carga Horária]]*24),"") -> 184.8 | H6: Empresa Y | I6: Qualidade | J6: Diretor | K6: Turno D | L6: 5x1 | M6: CLT | N6: 5782.95 | O6: =IF(DJornada[[#This Row],[Salário]]="","",DJornada[[#This Row],[Salário]]/DJornada[[#This Row],[Horas Prevista no Mês]]) -> 31.293019 | P6: =IF(DJornada[[#This Row],[Data Prevista]]="","",TEXT(DJornada[[#This Row],[Data Prevista]],"mm/aaaa")) -> 01/2025
B7: 4 | C7: =IF(DJornada[[#This Row],[Matricula]]="","",VLOOKUP(DJornada[[#This Row],[Matricula]],Cadastros!$P:$Q,2,0)) -> Funcionario 4 | D7: 01/01/2025 | E7: 21 | F7: 0.36666667 | G7: =IFERROR(IF(DJornada[[#This Row],[Dias Úteis]]="","",DJornada[[#This Row],[Dias Úteis]]*DJornada[[#This Row],[Carga Horária]]*24),"") -> 184.8 | H7: Empresa Z | I7: Marketing | J7: Analista Sênior | K7: Turno A | L7: 6x1 | M7: CLT | N7: 4044.17 | O7: =IF(DJornada[[#This Row],[Salário]]="","",DJornada[[#This Row],[Salário]]/DJornada[[#This Row],[Horas Prevista no Mês]]) -> 21.884037 | P7: =IF(DJornada[[#This Row],[Data Prevista]]="","",TEXT(DJornada[[#This Row],[Data Prevista]],"mm/aaaa")) -> 01/2025
B8: 5 | C8: =IF(DJornada[[#This Row],[Matricula]]="","",VLOOKUP(DJornada[[#This Row],[Matricula]],Cadastros!$P:$Q,2,0)) -> Funcionario 5 | D8: 01/01/2025 | E8: 21 | F8: 0.36666667 | G8: =IFERROR(IF(DJornada[[#This Row],[Dias Úteis]]="","",DJornada[[#This Row],[Dias Úteis]]*DJornada[[#This Row],[Carga Horária]]*24),"") -> 184.8 | H8: Empresa X | I8: Marketing | J8: Coordenador | K8: Turno D | L8: 6x1 | M8: Estágio | N8: 2445.13 | O8: =IF(DJornada[[#This Row],[Salário]]="","",DJornada[[#This Row],[Salário]]/DJornada[[#This Row],[Horas Prevista no Mês]]) -> 13.231223 | P8: =IF(DJornada[[#This Row],[Data Prevista]]="","",TEXT(DJornada[[#This Row],[Data Prevista]],"mm/aaaa")) -> 01/2025
B9: 6 | C9: =IF(DJornada[[#This Row],[Matricula]]="","",VLOOKUP(DJornada[[#This Row],[Matricula]],Cadastros!$P:$Q,2,0)) -> Funcionario 6 | D9: 01/01/2025 | E9: 21 | F9: 0.36666667 | G9: =IFERROR(IF(DJornada[[#This Row],[Dias Úteis]]="","",DJornada[[#This Row],[Dias Úteis]]*DJornada[[#This Row],[Carga Horária]]*24),"") -> 184.8 | H9: Empresa Y | I9: Logística | J9: Analista de Projetos | K9: Turno A | L9: 5x1 | M9: CLT | N9: 7294.92 | O9: =IF(DJornada[[#This Row],[Salário]]="","",DJornada[[#This Row],[Salário]]/DJornada[[#This Row],[Horas Prevista no Mês]]) -> 39.474675 | P9: =IF(DJornada[[#This Row],[Data Prevista]]="","",TEXT(DJornada[[#This Row],[Data Prevista]],"mm/aaaa")) -> 01/2025
B10: 7 | C10: =IF(DJornada[[#This Row],[Matricula]]="","",VLOOKUP(DJornada[[#This Row],[Matricula]],Cadastros!$P:$Q,2,0)) -> Funcionario 7 | D10: 01/01/2025 | E10: 21 | F10: 0.36666667 | G10: =IFERROR(IF(DJornada[[#This Row],[Dias Úteis]]="","",DJornada[[#This Row],[Dias Úteis]]*DJornada[[#This Row],[Carga Horária]]*24),"") -> 184.8 | H10: Empresa X | I10: Recursos Humanos | J10: Administrador | K10: Turno D | L10: 12x36 | M10: PJ | N10: 7008.31 | O10: =IF(DJornada[[#This Row],[Salário]]="","",DJornada[[#This Row],[Salário]]/DJornada[[#This Row],[Horas Prevista no Mês]]) -> 37.923755 | P10: =IF(DJornada[[#This Row],[Data Prevista]]="","",TEXT(DJornada[[#This Row],[Data Prevista]],"mm/aaaa")) -> 01/2025
B11: 8 | C11: =IF(DJornada[[#This Row],[Matricula]]="","",VLOOKUP(DJornada[[#This Row],[Matricula]],Cadastros!$P:$Q,2,0)) -> Funcionario 8 | D11: 01/01/2025 | E11: 21 | F11: 0.36666667 | G11: =IFERROR(IF(DJornada[[#This Row],[Dias Úteis]]="","",DJornada[[#This Row],[Dias Úteis]]*DJornada[[#This Row],[Carga Horária]]*24),"") -> 184.8 | H11: Empresa Y | I11: Financeiro | J11: Técnico | K11: Turno D | L11: 6x1 | M11: Estágio | N11: 10319.72 | O11: =IF(DJornada[[#This Row],[Salário]]="","",DJornada[[#This Row],[Salário]]/DJornada[[#This Row],[Horas Prevista no Mês]]) -> 55.842641 | P11: =IF(DJornada[[#This Row],[Data Prevista]]="","",TEXT(DJornada[[#This Row],[Data Prevista]],"mm/aaaa")) -> 01/2025
B12: 9 | C12: =IF(DJornada[[#This Row],[Matricula]]="","",VLOOKUP(DJornada[[#This Row],[Matricula]],Cadastros!$P:$Q,2,0)) -> Funcionario 9 | D12: 01/01/2025 | E12: 21 | F12: 0.36666667 | G12: =IFERROR(IF(DJornada[[#This Row],[Dias Úteis]]="","",DJornada[[#This Row],[Dias Úteis]]*DJornada[[#This Row],[Carga Horária]]*24),"") -> 184.8 | H12: Empresa Z | I12: Qualidade | J12: Supervisor | K12: Turno C | L12: 5x1 | M12: PJ | N12: 8719.01 | O12: =IF(DJornada[[#This Row],[Salário]]="","",DJornada[[#This Row],[Salário]]/DJornada[[#This Row],[Horas Prevista no Mês]]) -> 47.18079 | P12: =IF(DJornada[[#This Row],[Data Prevista]]="","",TEXT(DJornada[[#This Row],[Data Prevista]],"mm/aaaa")) -> 01/2025
B13: 10 | C13: =IF(DJornada[[#This Row],[Matricula]]="","",VLOOKUP(DJornada[[#This Row],[Matricula]],Cadastros!$P:$Q,2,0)) -> Funcionario 10 | D13: 01/01/2025 | E13: 21 | F13: 0.36666667 | G13: =IFERROR(IF(DJornada[[#This Row],[Dias Úteis]]="","",DJornada[[#This Row],[Dias Úteis]]*DJornada[[#This Row],[Carga Horária]]*24),"") -> 184.8 | H13: Empresa X | I13: Administração | J13: Supervisor | K13: Turno Folguista | L13: 5x1 | M13: Estágio | N13: 8819.97 | O13: =IF(DJornada[[#This Row],[Salário]]="","",DJornada[[#This Row],[Salário]]/DJornada[[#This Row],[Horas Prevista no Mês]]) -> 47.72711 | P13: =IF(DJornada[[#This Row],[Data Prevista]]="","",TEXT(DJornada[[#This Row],[Data Prevista]],"mm/aaaa")) -> 01/2025
B14: 11 | C14: =IF(DJornada[[#This Row],[Matricula]]="","",VLOOKUP(DJornada[[#This Row],[Matricula]],Cadastros!$P:$Q,2,0)) -> Funcionario 11 | D14: 01/01/2025 | E14: 21 | F14: 0.36666667 | G14: =IFERROR(IF(DJornada[[#This Row],[Dias Úteis]]="","",DJornada[[#This Row],[Dias Úteis]]*DJornada[[#This Row],[Carga Horária]]*24),"") -> 184.8 | H14: Empresa Y | I14: Marketing | J14: Assistente | K14: Turno D | L14: 6x1 | M14: PJ | N14: 4471.83 | O14: =IF(DJornada[[#This Row],[Salário]]="","",DJornada[[#This Row],[Salário]]/DJornada[[#This Row],[Horas Prevista no Mês]]) -> 24.198214 | P14: =IF(DJornada[[#This Row],[Data Prevista]]="","",TEXT(DJornada[[#This Row],[Data Prevista]],"mm/aaaa")) -> 01/2025
B15: 12 | C15: =IF(DJornada[[#This Row],[Matricula]]="","",VLOOKUP(DJornada[[#This Row],[Matricula]],Cadastros!$P:$Q,2,0)) -> Funcionario 12 | D15: 01/01/2025 | E15: 21 | F15: 0.36666667 | G15: =IFERROR(IF(DJornada[[#This Row],[Dias Úteis]]="","",DJornada[[#This Row],[Dias Úteis]]*DJornada[[#This Row],[Carga Horária]]*24),"") -> 184.8 | H15: Empresa Z | I15: Recursos Humanos | J15: Auxiliar Administrativo | K15: Turno A | L15: 6x1 | M15: PJ | N15: 6128.8 | O15: =IF(DJornada[[#This Row],[Salário]]="","",DJornada[[#This Row],[Salário]]/DJornada[[#This Row],[Horas Prevista no Mês]]) -> 33.164502 | P15: =IF(DJornada[[#This Row],[Data Prevista]]="","",TEXT(DJornada[[#This Row],[Data Prevista]],"mm/aaaa")) -> 01/2025
... B483: 40 | C483: =IF(DJornada[[#This Row],[Matricula]]="","",VLOOKUP(DJornada[[#This Row],[Matricula]],Cadastros!$P:$Q,2,0)) -> Funcionario 40 | D483: 01/12/2025 | E483: 21 | F483: 0.36666667 | G483: =IFERROR(IF(DJornada[[#This Row],[Dias Úteis]]="","",DJornada[[#This Row],[Dias Úteis]]*DJornada[[#This Row],[Carga Horária]]*24),"") -> 184.8 | H483: Empresa Z | I483: Engenharia | J483: Técnico | K483: Turno D | L483: 6x1 | M483: PJ | N483: 3477.21 | O483: =IF(DJornada[[#This Row],[Salário]]="","",DJornada[[#This Row],[Salário]]/DJornada[[#This Row],[Horas Prevista no Mês]]) -> 18.816071 | P483: =IF(DJornada[[#This Row],[Data Prevista]]="","",TEXT(DJornada[[#This Row],[Data Prevista]],"mm/aaaa")) -> 12/2025

Sheet Ocorrências
B3: ID Ocorrência | C3: Data da Ocorrência | D3: Dia da Semana | E3: Matricula | F3: Nome | G3: Tipo de Ocorrência | H3: Motivo | I3: CID | J3: Justificado | K3: Horas Ausência | L3: Observação | M3: Empresa | N3: Setor | O3: Cargo | P3: Turno | Q3: Escala | R3: Tipo de Contrato | S3: Horas Previstas | T3: Salário | U3: Salário/Hora | V3: Mês/Ano
B4: 1 | C4: 25/09/2025 | D4: =IF(FOcorrencias[[#This Row],[Data da Ocorrência]]="","",TEXT(FOcorrencias[[#This Row],[Data da Ocorrência]],"dddd")) -> quinta-feira | E4: 1 | F4: =IF(FOcorrencias[[#This Row],[Matricula]]="","",VLOOKUP(FOcorrencias[[#This Row],[Matricula]],Cadastros!$P:$Q,2,0)) -> Funcionario 1 | G4: Atraso | H4: Atestado médico | I4: K21 | J4: Sim | K4: 01:00 | M4: {=INDEX('Jornada Prevista'!$H:$H,MATCH(1,('Jornada Prevista'!$B:$B=FOcorrencias[[#This Row],[Matricula]])*('Jornada Prevista'!$P:$P=FOcorrencias[[#This Row],[Mês/Ano]]),0))} -> Empresa X | N4: {=INDEX('Jornada Prevista'!$I:$I,MATCH(1,('Jornada Prevista'!$B:$B=FOcorrencias[[#This Row],[Matricula]])*('Jornada Prevista'!$P:$P=FOcorrencias[[#This Row],[Mês/Ano]]),0))} -> Qualidade | O4: {=INDEX('Jornada Prevista'!$J:$J,MATCH(1,('Jornada Prevista'!$B:$B=FOcorrencias[[#This Row],[Matricula]])*('Jornada Prevista'!$P:$P=FOcorrencias[[#This Row],[Mês/Ano]]),0))} -> Especialista | P4: {=INDEX('Jornada Prevista'!$K:$K,MATCH(1,('Jornada Prevista'!$B:$B=FOcorrencias[[#This Row],[Matricula]])*('Jornada Prevista'!$P:$P=FOcorrencias[[#This Row],[Mês/Ano]]),0))} -> Turno C | Q4: {=INDEX('Jornada Prevista'!$L:$L,MATCH(1,('Jornada Prevista'!$B:$B=FOcorrencias[[#This Row],[Matricula]])*('Jornada Prevista'!$P:$P=FOcorrencias[[#This Row],[Mês/Ano]]),0))} -> 12x36 | R4: {=INDEX('Jornada Prevista'!$M:$M,MATCH(1,('Jornada Prevista'!$B:$B=FOcorrencias[[#This Row],[Matricula]])*('Jornada Prevista'!$P:$P=FOcorrencias[[#This Row],[Mês/Ano]]),0))} -> PJ | S4: =SUMIFS('Jornada Prevista'!$G:$G,'Jornada Prevista'!$B:$B,FOcorrencias[[#This Row],[Matricula]],'Jornada Prevista'!$P:$P,FOcorrencias[[#This Row],[Mês/Ano]]) -> 184.8 | T4: =SUMIFS('Jornada Prevista'!$N:$N,'Jornada Prevista'!$B:$B,FOcorrencias[[#This Row],[Matricula]],'Jornada Prevista'!$P:$P,FOcorrencias[[#This Row],[Mês/Ano]]) -> 6808.49 | U4: =SUMIFS('Jornada Prevista'!$O:$O,'Jornada Prevista'!$B:$B,FOcorrencias[[#This Row],[Matricula]],'Jornada Prevista'!$P:$P,FOcorrencias[[#This Row],[Mês/Ano]]) -> 36.842478 | V4: =IF(FOcorrencias[[#This Row],[Data da Ocorrência]]="","",TEXT(FOcorrencias[[#This Row],[Data da Ocorrência]],"mm/aaaa")) -> 09/2025
B5: 2 | C5: 15/08/2025 | D5: =IF(FOcorrencias[[#This Row],[Data da Ocorrência]]="","",TEXT(FOcorrencias[[#This Row],[Data da Ocorrência]],"dddd")) -> sexta-feira | E5: 1 | F5: =IF(FOcorrencias[[#This Row],[Matricula]]="","",VLOOKUP(FOcorrencias[[#This Row],[Matricula]],Cadastros!$P:$Q,2,0)) -> Funcionario 1 | G5: Atitude disciplinar | H5: Compromisso familiar | J5: Sim | K5: 01:30 | M5: {=INDEX('Jornada Prevista'!$H:$H,MATCH(1,('Jornada Prevista'!$B:$B=FOcorrencias[[#This Row],[Matricula]])*('Jornada Prevista'!$P:$P=FOcorrencias[[#This Row],[Mês/Ano]]),0))} -> Empresa X | N5: {=INDEX('Jornada Prevista'!$I:$I,MATCH(1,('Jornada Prevista'!$B:$B=FOcorrencias[[#This Row],[Matricula]])*('Jornada Prevista'!$P:$P=FOcorrencias[[#This Row],[Mês/Ano]]),0))} -> Contabilidade | O5: {=INDEX('Jornada Prevista'!$J:$J,MATCH(1,('Jornada Prevista'!$B:$B=FOcorrencias[[#This Row],[Matricula]])*('Jornada Prevista'!$P:$P=FOcorrencias[[#This Row],[Mês/Ano]]),0))} -> Assistente | P5: {=INDEX('Jornada Prevista'!$K:$K,MATCH(1,('Jornada Prevista'!$B:$B=FOcorrencias[[#This Row],[Matricula]])*('Jornada Prevista'!$P:$P=FOcorrencias[[#This Row],[Mês/Ano]]),0))} -> Turno D | Q5: {=INDEX('Jornada Prevista'!$L:$L,MATCH(1,('Jornada Prevista'!$B:$B=FOcorrencias[[#This Row],[Matricula]])*('Jornada Prevista'!$P:$P=FOcorrencias[[#This Row],[Mês/Ano]]),0))} -> 6x1 | R5: {=INDEX('Jornada Prevista'!$M:$M,MATCH(1,('Jornada Prevista'!$B:$B=FOcorrencias[[#This Row],[Matricula]])*('Jornada Prevista'!$P:$P=FOcorrencias[[#This Row],[Mês/Ano]]),0))} -> PJ | S5: =SUMIFS('Jornada Prevista'!$G:$G,'Jornada Prevista'!$B:$B,FOcorrencias[[#This Row],[Matricula]],'Jornada Prevista'!$P:$P,FOcorrencias[[#This Row],[Mês/Ano]]) -> 184.8 | T5: =SUMIFS('Jornada Prevista'!$N:$N,'Jornada Prevista'!$B:$B,FOcorrencias[[#This Row],[Matricula]],'Jornada Prevista'!$P:$P,FOcorrencias[[#This Row],[Mês/Ano]]) -> 3105.23 | U5: =SUMIFS('Jornada Prevista'!$O:$O,'Jornada Prevista'!$B:$B,FOcorrencias[[#This Row],[Matricula]],'Jornada Prevista'!$P:$P,FOcorrencias[[#This Row],[Mês/Ano]]) -> 16.803193 | V5: =IF(FOcorrencias[[#This Row],[Data da Ocorrência]]="","",TEXT(FOcorrencias[[#This Row],[Data da Ocorrência]],"mm/aaaa")) -> 08/2025
B6: 3 | C6: 27/09/2025 | D6: =IF(FOcorrencias[[#This Row],[Data da Ocorrência]]="","",TEXT(FOcorrencias[[#This Row],[Data da Ocorrência]],"dddd")) -> sábado | E6: 1 | F6: =IF(FOcorrencias[[#This Row],[Matricula]]="","",VLOOKUP(FOcorrencias[[#This Row],[Matricula]],Cadastros!$P:$Q,2,0)) -> Funcionario 1 | G6: Saída Antecipada | H6: Compromisso familiar | J6: Não | K6: 00:45 | M6: {=INDEX('Jornada Prevista'!$H:$H,MATCH(1,('Jornada Prevista'!$B:$B=FOcorrencias[[#This Row],[Matricula]])*('Jornada Prevista'!$P:$P=FOcorrencias[[#This Row],[Mês/Ano]]),0))} -> Empresa X | N6: {=INDEX('Jornada Prevista'!$I:$I,MATCH(1,('Jornada Prevista'!$B:$B=FOcorrencias[[#This Row],[Matricula]])*('Jornada Prevista'!$P:$P=FOcorrencias[[#This Row],[Mês/Ano]]),0))} -> Qualidade | O6: {=INDEX('Jornada Prevista'!$J:$J,MATCH(1,('Jornada Prevista'!$B:$B=FOcorrencias[[#This Row],[Matricula]])*('Jornada Prevista'!$P:$P=FOcorrencias[[#This Row],[Mês/Ano]]),0))} -> Especialista | P6: {=INDEX('Jornada Prevista'!$K:$K,MATCH(1,('Jornada Prevista'!$B:$B=FOcorrencias[[#This Row],[Matricula]])*('Jornada Prevista'!$P:$P=FOcorrencias[[#This Row],[Mês/Ano]]),0))} -> Turno C | Q6: {=INDEX('Jornada Prevista'!$L:$L,MATCH(1,('Jornada Prevista'!$B:$B=FOcorrencias[[#This Row],[Matricula]])*('Jornada Prevista'!$P:$P=FOcorrencias[[#This Row],[Mês/Ano]]),0))} -> 12x36 | R6: {=INDEX('Jornada Prevista'!$M:$M,MATCH(1,('Jornada Prevista'!$B:$B=FOcorrencias[[#This Row],[Matricula]])*('Jornada Prevista'!$P:$P=FOcorrencias[[#This Row],[Mês/Ano]]),0))} -> PJ | S6: =SUMIFS('Jornada Prevista'!$G:$G,'Jornada Prevista'!$B:$B,FOcorrencias[[#This Row],[Matricula]],'Jornada Prevista'!$P:$P,FOcorrencias[[#This Row],[Mês/Ano]]) -> 184.8 | T6: =SUMIFS('Jornada Prevista'!$N:$N,'Jornada Prevista'!$B:$B,FOcorrencias[[#This Row],[Matricula]],'Jornada Prevista'!$P:$P,FOcorrencias[[#This Row],[Mês/Ano]]) -> 6808.49 | U6: =SUMIFS('Jornada Prevista'!$O:$O,'Jornada Prevista'!$B:$B,FOcorrencias[[#This Row],[Matricula]],'Jornada Prevista'!$P:$P,FOcorrencias[[#This Row],[Mês/Ano]]) -> 36.842478 | V6: =IF(FOcorrencias[[#This Row],[Data da Ocorrência]]="","",TEXT(FOcorrencias[[#This Row],[Data da Ocorrência]],"mm/aaaa")) -> 09/2025
B7: 4 | C7: 28/04/2025 | D7: =IF(FOcorrencias[[#This Row],[Data da Ocorrência]]="","",TEXT(FOcorrencias[[#This Row],[Data da Ocorrência]],"dddd")) -> segunda-feira | E7: 1 | F7: =IF(FOcorrencias[[#This Row],[Matricula]]="","",VLOOKUP(FOcorrencias[[#This Row],[Matricula]],Cadastros!$P:$Q,2,0)) -> Funcionario 1 | G7: Atitude disciplinar | H7: Consulta médica | I7: Z00 | J7: Sim | K7: 08:00 | M7: {=INDEX('Jornada Prevista'!$H:$H,MATCH(1,('Jornada Prevista'!$B:$B=FOcorrencias[[#This Row],[Matricula]])*('Jornada Prevista'!$P:$P=FOcorrencias[[#This Row],[Mês/Ano]]),0))} -> Empresa Y | N7: {=INDEX('Jornada Prevista'!$I:$I,MATCH(1,('Jornada Prevista'!$B:$B=FOcorrencias[[#This Row],[Matricula]])*('Jornada Prevista'!$P:$P=FOcorrencias[[#This Row],[Mês/Ano]]),0))} -> Contabilidade | O7: {=INDEX('Jornada Prevista'!$J:$J,MATCH(1,('Jornada Prevista'!$B:$B=FOcorrencias[[#This Row],[Matricula]])*('Jornada Prevista'!$P:$P=FOcorrencias[[#This Row],[Mês/Ano]]),0))} -> Estagiário | P7: {=INDEX('Jornada Prevista'!$K:$K,MATCH(1,('Jornada Prevista'!$B:$B=FOcorrencias[[#This Row],[Matricula]])*('Jornada Prevista'!$P:$P=FOcorrencias[[#This Row],[Mês/Ano]]),0))} -> Turno Folguista | Q7: {=INDEX('Jornada Prevista'!$L:$L,MATCH(1,('Jornada Prevista'!$B:$B=FOcorrencias[[#This Row],[Matricula]])*('Jornada Prevista'!$P:$P=FOcorrencias[[#This Row],[Mês/Ano]]),0))} -> 6x1 | R7: {=INDEX('Jornada Prevista'!$M:$M,MATCH(1,('Jornada Prevista'!$B:$B=FOcorrencias[[#This Row],[Matricula]])*('Jornada Prevista'!$P:$P=FOcorrencias[[#This Row],[Mês/Ano]]),0))} -> Estágio | S7: =SUMIFS('Jornada Prevista'!$G:$G,'Jornada Prevista'!$B:$B,FOcorrencias[[#This Row],[Matricula]],'Jornada Prevista'!$P:$P,FOcorrencias[[#This Row],[Mês/Ano]]) -> 184.8 | T7: =SUMIFS('Jornada Prevista'!$N:$N,'Jornada Prevista'!$B:$B,FOcorrencias[[#This Row],[Matricula]],'Jornada Prevista'!$P:$P,FOcorrencias[[#This Row],[Mês/Ano]]) -> 3772.37 | U7: =SUMIFS('Jornada Prevista'!$O:$O,'Jornada Prevista'!$B:$B,FOcorrencias[[#This Row],[Matricula]],'Jornada Prevista'!$P:$P,FOcorrencias[[#This Row],[Mês/Ano]]) -> 20.413258 | V7: =IF(FOcorrencias[[#This Row],[Data da Ocorrência]]="","",TEXT(FOcorrencias[[#This Row],[Data da Ocorrência]],"mm/aaaa")) -> 04/2025
B8: 5 | C8: 29/09/2025 | D8: =IF(FOcorrencias[[#This Row],[Data da Ocorrência]]="","",TEXT(FOcorrencias[[#This Row],[Data da Ocorrência]],"dddd")) -> segunda-feira | E8: 1 | F8: =IF(FOcorrencias[[#This Row],[Matricula]]="","",VLOOKUP(FOcorrencias[[#This Row],[Matricula]],Cadastros!$P:$Q,2,0)) -> Funcionario 1 | G8: Atraso | H8: Falta de transporte | J8: Sim | K8: 00:50 | M8: {=INDEX('Jornada Prevista'!$H:$H,MATCH(1,('Jornada Prevista'!$B:$B=FOcorrencias[[#This Row],[Matricula]])*('Jornada Prevista'!$P:$P=FOcorrencias[[#This Row],[Mês/Ano]]),0))} -> Empresa X | N8: {=INDEX('Jornada Prevista'!$I:$I,MATCH(1,('Jornada Prevista'!$B:$B=FOcorrencias[[#This Row],[Matricula]])*('Jornada Prevista'!$P:$P=FOcorrencias[[#This Row],[Mês/Ano]]),0))} -> Qualidade | O8: {=INDEX('Jornada Prevista'!$J:$J,MATCH(1,('Jornada Prevista'!$B:$B=FOcorrencias[[#This Row],[Matricula]])*('Jornada Prevista'!$P:$P=FOcorrencias[[#This Row],[Mês/Ano]]),0))} -> Especialista | P8: {=INDEX('Jornada Prevista'!$K:$K,MATCH(1,('Jornada Prevista'!$B:$B=FOcorrencias[[#This Row],[Matricula]])*('Jornada Prevista'!$P:$P=FOcorrencias[[#This Row],[Mês/Ano]]),0))} -> Turno C | Q8: {=INDEX('Jornada Prevista'!$L:$L,MATCH(1,('Jornada Prevista'!$B:$B=FOcorrencias[[#This Row],[Matricula]])*('Jornada Prevista'!$P:$P=FOcorrencias[[#This Row],[Mês/Ano]]),0))} -> 12x36 | R8: {=INDEX('Jornada Prevista'!$M:$M,MATCH(1,('Jornada Prevista'!$B:$B=FOcorrencias[[#This Row],[Matricula]])*('Jornada Prevista'!$P:$P=FOcorrencias[[#This Row],[Mês/Ano]]),0))} -> PJ | S8: =SUMIFS('Jornada Prevista'!$G:$G,'Jornada Prevista'!$B:$B,FOcorrencias[[#This Row],[Matricula]],'Jornada Prevista'!$P:$P,FOcorrencias[[#This Row],[Mês/Ano]]) -> 184.8 | T8: =SUMIFS('Jornada Prevista'!$N:$N,'Jornada Prevista'!$B:$B,FOcorrencias[[#This Row],[Matricula]],'Jornada Prevista'!$P:$P,FOcorrencias[[#This Row],[Mês/Ano]]) -> 6808.49 | U8: =SUMIFS('Jornada Prevista'!$O:$O,'Jornada Prevista'!$B:$B,FOcorrencias[[#This Row],[Matricula]],'Jornada Prevista'!$P:$P,FOcorrencias[[#This Row],[Mês/Ano]]) -> 36.842478 | V8: =IF(FOcorrencias[[#This Row],[Data da Ocorrência]]="","",TEXT(FOcorrencias[[#This Row],[Data da Ocorrência]],"mm/aaaa")) -> 09/2025
B9: 6 | C9: 07/09/2025 | D9: =IF(FOcorrencias[[#This Row],[Data da Ocorrência]]="","",TEXT(FOcorrencias[[#This Row],[Data da Ocorrência]],"dddd")) -> domingo | E9: 1 | F9: =IF(FOcorrencias[[#This Row],[Matricula]]="","",VLOOKUP(FOcorrencias[[#This Row],[Matricula]],Cadastros!$P:$Q,2,0)) -> Funcionario 1 | G9: Falta | H9: Indisciplina | J9: Não | K9: 04:00 | M9: {=INDEX('Jornada Prevista'!$H:$H,MATCH(1,('Jornada Prevista'!$B:$B=FOcorrencias[[#This Row],[Matricula]])*('Jornada Prevista'!$P:$P=FOcorrencias[[#This Row],[Mês/Ano]]),0))} -> Empresa X | N9: {=INDEX('Jornada Prevista'!$I:$I,MATCH(1,('Jornada Prevista'!$B:$B=FOcorrencias[[#This Row],[Matricula]])*('Jornada Prevista'!$P:$P=FOcorrencias[[#This Row],[Mês/Ano]]),0))} -> Qualidade | O9: {=INDEX('Jornada Prevista'!$J:$J,MATCH(1,('Jornada Prevista'!$B:$B=FOcorrencias[[#This Row],[Matricula]])*('Jornada Prevista'!$P:$P=FOcorrencias[[#This Row],[Mês/Ano]]),0))} -> Especialista | P9: {=INDEX('Jornada Prevista'!$K:$K,MATCH(1,('Jornada Prevista'!$B:$B=FOcorrencias[[#This Row],[Matricula]])*('Jornada Prevista'!$P:$P=FOcorrencias[[#This Row],[Mês/Ano]]),0))} -> Turno C | Q9: {=INDEX('Jornada Prevista'!$L:$L,MATCH(1,('Jornada Prevista'!$B:$B=FOcorrencias[[#This Row],[Matricula]])*('Jornada Prevista'!$P:$P=FOcorrencias[[#This Row],[Mês/Ano]]),0))} -> 12x36 | R9: {=INDEX('Jornada Prevista'!$M:$M,MATCH(1,('Jornada Prevista'!$B:$B=FOcorrencias[[#This Row],[Matricula]])*('Jornada Prevista'!$P:$P=FOcorrencias[[#This Row],[Mês/Ano]]),0))} -> PJ | S9: =SUMIFS('Jornada Prevista'!$G:$G,'Jornada Prevista'!$B:$B,FOcorrencias[[#This Row],[Matricula]],'Jornada Prevista'!$P:$P,FOcorrencias[[#This Row],[Mês/Ano]]) -> 184.8 | T9: =SUMIFS('Jornada Prevista'!$N:$N,'Jornada Prevista'!$B:$B,FOcorrencias[[#This Row],[Matricula]],'Jornada Prevista'!$P:$P,FOcorrencias[[#This Row],[Mês/Ano]]) -> 6808.49 | U9: =SUMIFS('Jornada Prevista'!$O:$O,'Jornada Prevista'!$B:$B,FOcorrencias[[#This Row],[Matricula]],'Jornada Prevista'!$P:$P,FOcorrencias[[#This Row],[Mês/Ano]]) -> 36.842478 | V9: =IF(FOcorrencias[[#This Row],[Data da Ocorrência]]="","",TEXT(FOcorrencias[[#This Row],[Data da Ocorrência]],"mm/aaaa")) -> 09/2025
B10: 7 | C10: 05/12/2025 | D10: =IF(FOcorrencias[[#This Row],[Data da Ocorrência]]="","",TEXT(FOcorrencias[[#This Row],[Data da Ocorrência]],"dddd")) -> sexta-feira | E10: 1 | F10: =IF(FOcorrencias[[#This Row],[Matricula]]="","",VLOOKUP(FOcorrencias[[#This Row],[Matricula]],Cadastros!$P:$Q,2,0)) -> Funcionario 1 | G10: Falta | H10: Indisciplina | J10: Sim | K10: 08:48 | M10: {=INDEX('Jornada Prevista'!$H:$H,MATCH(1,('Jornada Prevista'!$B:$B=FOcorrencias[[#This Row],[Matricula]])*('Jornada Prevista'!$P:$P=FOcorrencias[[#This Row],[Mês/Ano]]),0))} -> Empresa Z | N10: {=INDEX('Jornada Prevista'!$I:$I,MATCH(1,('Jornada Prevista'!$B:$B=FOcorrencias[[#This Row],[Matricula]])*('Jornada Prevista'!$P:$P=FOcorrencias[[#This Row],[Mês/Ano]]),0))} -> Qualidade | O10: {=INDEX('Jornada Prevista'!$J:$J,MATCH(1,('Jornada Prevista'!$B:$B=FOcorrencias[[#This Row],[Matricula]])*('Jornada Prevista'!$P:$P=FOcorrencias[[#This Row],[Mês/Ano]]),0))} -> Diretor | P10: {=INDEX('Jornada Prevista'!$K:$K,MATCH(1,('Jornada Prevista'!$B:$B=FOcorrencias[[#This Row],[Matricula]])*('Jornada Prevista'!$P:$P=FOcorrencias[[#This Row],[Mês/Ano]]),0))} -> Turno C | Q10: {=INDEX('Jornada Prevista'!$L:$L,MATCH(1,('Jornada Prevista'!$B:$B=FOcorrencias[[#This Row],[Matricula]])*('Jornada Prevista'!$P:$P=FOcorrencias[[#This Row],[Mês/Ano]]),0))} -> 6x1 | R10: {=INDEX('Jornada Prevista'!$M:$M,MATCH(1,('Jornada Prevista'!$B:$B=FOcorrencias[[#This Row],[Matricula]])*('Jornada Prevista'!$P:$P=FOcorrencias[[#This Row],[Mês/Ano]]),0))} -> Estágio | S10: =SUMIFS('Jornada Prevista'!$G:$G,'Jornada Prevista'!$B:$B,FOcorrencias[[#This Row],[Matricula]],'Jornada Prevista'!$P:$P,FOcorrencias[[#This Row],[Mês/Ano]]) -> 184.8 | T10: =SUMIFS('Jornada Prevista'!$N:$N,'Jornada Prevista'!$B:$B,FOcorrencias[[#This Row],[Matricula]],'Jornada Prevista'!$P:$P,FOcorrencias[[#This Row],[Mês/Ano]]) -> 5627.07 | U10: =SUMIFS('Jornada Prevista'!$O:$O,'Jornada Prevista'!$B:$B,FOcorrencias[[#This Row],[Matricula]],'Jornada Prevista'!$P:$P,FOcorrencias[[#This Row],[Mês/Ano]]) -> 30.449513 | V10: =IF(FOcorrencias[[#This Row],[Data da Ocorrência]]="","",TEXT(FOcorrencias[[#This Row],[Data da Ocorrência]],"mm/aaaa")) -> 12/2025
B11: 8 | C11: 04/10/2025 | D11: =IF(FOcorrencias[[#This Row],[Data da Ocorrência]]="","",TEXT(FOcorrencias[[#This Row],[Data da Ocorrência]],"dddd")) -> sábado | E11: 1 | F11: =IF(FOcorrencias[[#This Row],[Matricula]]="","",VLOOKUP(FOcorrencias[[#This Row],[Matricula]],Cadastros!$P:$Q,2,0)) -> Funcionario 1 | G11: Falta | H11: Indisciplina | J11: Não | K11: 08:00 | M11: {=INDEX('Jornada Prevista'!$H:$H,MATCH(1,('Jornada Prevista'!$B:$B=FOcorrencias[[#This Row],[Matricula]])*('Jornada Prevista'!$P:$P=FOcorrencias[[#This Row],[Mês/Ano]]),0))} -> Empresa X | N11: {=INDEX('Jornada Prevista'!$I:$I,MATCH(1,('Jornada Prevista'!$B:$B=FOcorrencias[[#This Row],[Matricula]])*('Jornada Prevista'!$P:$P=FOcorrencias[[#This Row],[Mês/Ano]]),0))} -> Atendimento | O11: {=INDEX('Jornada Prevista'!$J:$J,MATCH(1,('Jornada Prevista'!$B:$B=FOcorrencias[[#This Row],[Matricula]])*('Jornada Prevista'!$P:$P=FOcorrencias[[#This Row],[Mês/Ano]]),0))} -> Atendente | P11: {=INDEX('Jornada Prevista'!$K:$K,MATCH(1,('Jornada Prevista'!$B:$B=FOcorrencias[[#This Row],[Matricula]])*('Jornada Prevista'!$P:$P=FOcorrencias[[#This Row],[Mês/Ano]]),0))} -> Turno B | Q11: {=INDEX('Jornada Prevista'!$L:$L,MATCH(1,('Jornada Prevista'!$B:$B=FOcorrencias[[#This Row],[Matricula]])*('Jornada Prevista'!$P:$P=FOcorrencias[[#This Row],[Mês/Ano]]),0))} -> 6x1 | R11: {=INDEX('Jornada Prevista'!$M:$M,MATCH(1,('Jornada Prevista'!$B:$B=FOcorrencias[[#This Row],[Matricula]])*('Jornada Prevista'!$P:$P=FOcorrencias[[#This Row],[Mês/Ano]]),0))} -> CLT | S11: =SUMIFS('Jornada Prevista'!$G:$G,'Jornada Prevista'!$B:$B,FOcorrencias[[#This Row],[Matricula]],'Jornada Prevista'!$P:$P,FOcorrencias[[#This Row],[Mês/Ano]]) -> 184.8 | T11: =SUMIFS('Jornada Prevista'!$N:$N,'Jornada Prevista'!$B:$B,FOcorrencias[[#This Row],[Matricula]],'Jornada Prevista'!$P:$P,FOcorrencias[[#This Row],[Mês/Ano]]) -> 3155.76 | U11: =SUMIFS('Jornada Prevista'!$O:$O,'Jornada Prevista'!$B:$B,FOcorrencias[[#This Row],[Matricula]],'Jornada Prevista'!$P:$P,FOcorrencias[[#This Row],[Mês/Ano]]) -> 17.076623 | V11: =IF(FOcorrencias[[#This Row],[Data da Ocorrência]]="","",TEXT(FOcorrencias[[#This Row],[Data da Ocorrência]],"mm/aaaa")) -> 10/2025
B12: 9 | C12: 04/03/2025 | D12: =IF(FOcorrencias[[#This Row],[Data da Ocorrência]]="","",TEXT(FOcorrencias[[#This Row],[Data da Ocorrência]],"dddd")) -> terça-feira | E12: 2 | F12: =IF(FOcorrencias[[#This Row],[Matricula]]="","",VLOOKUP(FOcorrencias[[#This Row],[Matricula]],Cadastros!$P:$Q,2,0)) -> Funcionario 2 | G12: Atitude disciplinar | H12: Atestado médico | I12: Z00 | J12: Sim | K12: 08:00 | M12: {=INDEX('Jornada Prevista'!$H:$H,MATCH(1,('Jornada Prevista'!$B:$B=FOcorrencias[[#This Row],[Matricula]])*('Jornada Prevista'!$P:$P=FOcorrencias[[#This Row],[Mês/Ano]]),0))} -> Empresa X | N12: {=INDEX('Jornada Prevista'!$I:$I,MATCH(1,('Jornada Prevista'!$B:$B=FOcorrencias[[#This Row],[Matricula]])*('Jornada Prevista'!$P:$P=FOcorrencias[[#This Row],[Mês/Ano]]),0))} -> Recursos Humanos | O12: {=INDEX('Jornada Prevista'!$J:$J,MATCH(1,('Jornada Prevista'!$B:$B=FOcorrencias[[#This Row],[Matricula]])*('Jornada Prevista'!$P:$P=FOcorrencias[[#This Row],[Mês/Ano]]),0))} -> Auxiliar | P12: {=INDEX('Jornada Prevista'!$K:$K,MATCH(1,('Jornada Prevista'!$B:$B=FOcorrencias[[#This Row],[Matricula]])*('Jornada Prevista'!$P:$P=FOcorrencias[[#This Row],[Mês/Ano]]),0))} -> Turno B | Q12: {=INDEX('Jornada Prevista'!$L:$L,MATCH(1,('Jornada Prevista'!$B:$B=FOcorrencias[[#This Row],[Matricula]])*('Jornada Prevista'!$P:$P=FOcorrencias[[#This Row],[Mês/Ano]]),0))} -> 12x36 | R12: {=INDEX('Jornada Prevista'!$M:$M,MATCH(1,('Jornada Prevista'!$B:$B=FOcorrencias[[#This Row],[Matricula]])*('Jornada Prevista'!$P:$P=FOcorrencias[[#This Row],[Mês/Ano]]),0))} -> Estágio | S12: =SUMIFS('Jornada Prevista'!$G:$G,'Jornada Prevista'!$B:$B,FOcorrencias[[#This Row],[Matricula]],'Jornada Prevista'!$P:$P,FOcorrencias[[#This Row],[Mês/Ano]]) -> 184.8 | T12: =SUMIFS('Jornada Prevista'!$N:$N,'Jornada Prevista'!$B:$B,FOcorrencias[[#This Row],[Matricula]],'Jornada Prevista'!$P:$P,FOcorrencias[[#This Row],[Mês/Ano]]) -> 2303.92 | U12: =SUMIFS('Jornada Prevista'!$O:$O,'Jornada Prevista'!$B:$B,FOcorrencias[[#This Row],[Matricula]],'Jornada Prevista'!$P:$P,FOcorrencias[[#This Row],[Mês/Ano]]) -> 12.4671 | V12: =IF(FOcorrencias[[#This Row],[Data da Ocorrência]]="","",TEXT(FOcorrencias[[#This Row],[Data da Ocorrência]],"mm/aaaa")) -> 03/2025
B13: 10 | C13: 03/07/2025 | D13: =IF(FOcorrencias[[#This Row],[Data da Ocorrência]]="","",TEXT(FOcorrencias[[#This Row],[Data da Ocorrência]],"dddd")) -> quinta-feira | E13: 2 | F13: =IF(FOcorrencias[[#This Row],[Matricula]]="","",VLOOKUP(FOcorrencias[[#This Row],[Matricula]],Cadastros!$P:$Q,2,0)) -> Funcionario 2 | G13: Saída Antecipada | H13: Doença | I13: K21 | J13: Sim | K13: 01:00 | M13: {=INDEX('Jornada Prevista'!$H:$H,MATCH(1,('Jornada Prevista'!$B:$B=FOcorrencias[[#This Row],[Matricula]])*('Jornada Prevista'!$P:$P=FOcorrencias[[#This Row],[Mês/Ano]]),0))} -> Empresa Z | N13: {=INDEX('Jornada Prevista'!$I:$I,MATCH(1,('Jornada Prevista'!$B:$B=FOcorrencias[[#This Row],[Matricula]])*('Jornada Prevista'!$P:$P=FOcorrencias[[#This Row],[Mês/Ano]]),0))} -> Atendimento | O13: {=INDEX('Jornada Prevista'!$J:$J,MATCH(1,('Jornada Prevista'!$B:$B=FOcorrencias[[#This Row],[Matricula]])*('Jornada Prevista'!$P:$P=FOcorrencias[[#This Row],[Mês/Ano]]),0))} -> Analista | P13: {=INDEX('Jornada Prevista'!$K:$K,MATCH(1,('Jornada Prevista'!$B:$B=FOcorrencias[[#This Row],[Matricula]])*('Jornada Prevista'!$P:$P=FOcorrencias[[#This Row],[Mês/Ano]]),0))} -> Turno C | Q13: {=INDEX('Jornada Prevista'!$L:$L,MATCH(1,('Jornada Prevista'!$B:$B=FOcorrencias[[#This Row],[Matricula]])*('Jornada Prevista'!$P:$P=FOcorrencias[[#This Row],[Mês/Ano]]),0))} -> 12x36 | R13: {=INDEX('Jornada Prevista'!$M:$M,MATCH(1,('Jornada Prevista'!$B:$B=FOcorrencias[[#This Row],[Matricula]])*('Jornada Prevista'!$P:$P=FOcorrencias[[#This Row],[Mês/Ano]]),0))} -> CLT | S13: =SUMIFS('Jornada Prevista'!$G:$G,'Jornada Prevista'!$B:$B,FOcorrencias[[#This Row],[Matricula]],'Jornada Prevista'!$P:$P,FOcorrencias[[#This Row],[Mês/Ano]]) -> 184.8 | T13: =SUMIFS('Jornada Prevista'!$N:$N,'Jornada Prevista'!$B:$B,FOcorrencias[[#This Row],[Matricula]],'Jornada Prevista'!$P:$P,FOcorrencias[[#This Row],[Mês/Ano]]) -> 6201.03 | U13: =SUMIFS('Jornada Prevista'!$O:$O,'Jornada Prevista'!$B:$B,FOcorrencias[[#This Row],[Matricula]],'Jornada Prevista'!$P:$P,FOcorrencias[[#This Row],[Mês/Ano]]) -> 33.555357 | V13: =IF(FOcorrencias[[#This Row],[Data da Ocorrência]]="","",TEXT(FOcorrencias[[#This Row],[Data da Ocorrência]],"mm/aaaa")) -> 07/2025
B14: 11 | C14: 03/03/2025 | D14: =IF(FOcorrencias[[#This Row],[Data da Ocorrência]]="","",TEXT(FOcorrencias[[#This Row],[Data da Ocorrência]],"dddd")) -> segunda-feira | E14: 2 | F14: =IF(FOcorrencias[[#This Row],[Matricula]]="","",VLOOKUP(FOcorrencias[[#This Row],[Matricula]],Cadastros!$P:$Q,2,0)) -> Funcionario 2 | G14: Atitude disciplinar | H14: Indisciplina | J14: Não | K14: 02:00 | M14: {=INDEX('Jornada Prevista'!$H:$H,MATCH(1,('Jornada Prevista'!$B:$B=FOcorrencias[[#This Row],[Matricula]])*('Jornada Prevista'!$P:$P=FOcorrencias[[#This Row],[Mês/Ano]]),0))} -> Empresa X | N14: {=INDEX('Jornada Prevista'!$I:$I,MATCH(1,('Jornada Prevista'!$B:$B=FOcorrencias[[#This Row],[Matricula]])*('Jornada Prevista'!$P:$P=FOcorrencias[[#This Row],[Mês/Ano]]),0))} -> Recursos Humanos | O14: {=INDEX('Jornada Prevista'!$J:$J,MATCH(1,('Jornada Prevista'!$B:$B=FOcorrencias[[#This Row],[Matricula]])*('Jornada Prevista'!$P:$P=FOcorrencias[[#This Row],[Mês/Ano]]),0))} -> Auxiliar | P14: {=INDEX('Jornada Prevista'!$K:$K,MATCH(1,('Jornada Prevista'!$B:$B=FOcorrencias[[#This Row],[Matricula]])*('Jornada Prevista'!$P:$P=FOcorrencias[[#This Row],[Mês/Ano]]),0))} -> Turno B | Q14: {=INDEX('Jornada Prevista'!$L:$L,MATCH(1,('Jornada Prevista'!$B:$B=FOcorrencias[[#This Row],[Matricula]])*('Jornada Prevista'!$P:$P=FOcorrencias[[#This Row],[Mês/Ano]]),0))} -> 12x36 | R14: {=INDEX('Jornada Prevista'!$M:$M,MATCH(1,('Jornada Prevista'!$B:$B=FOcorrencias[[#This Row],[Matricula]])*('Jornada Prevista'!$P:$P=FOcorrencias[[#This Row],[Mês/Ano]]),0))} -> Estágio | S14: =SUMIFS('Jornada Prevista'!$G:$G,'Jornada Prevista'!$B:$B,FOcorrencias[[#This Row],[Matricula]],'Jornada Prevista'!$P:$P,FOcorrencias[[#This Row],[Mês/Ano]]) -> 184.8 | T14: =SUMIFS('Jornada Prevista'!$N:$N,'Jornada Prevista'!$B:$B,FOcorrencias[[#This Row],[Matricula]],'Jornada Prevista'!$P:$P,FOcorrencias[[#This Row],[Mês/Ano]]) -> 2303.92 | U14: =SUMIFS('Jornada Prevista'!$O:$O,'Jornada Prevista'!$B:$B,FOcorrencias[[#This Row],[Matricula]],'Jornada Prevista'!$P:$P,FOcorrencias[[#This Row],[Mês/Ano]]) -> 12.4671 | V14: =IF(FOcorrencias[[#This Row],[Data da Ocorrência]]="","",TEXT(FOcorrencias[[#This Row],[Data da Ocorrência]],"mm/aaaa")) -> 03/2025
B15: 12 | C15: 11/02/2025 | D15: =IF(FOcorrencias[[#This Row],[Data da Ocorrência]]="","",TEXT(FOcorrencias[[#This Row],[Data da Ocorrência]],"dddd")) -> terça-feira | E15: 2 | F15: =IF(FOcorrencias[[#This Row],[Matricula]]="","",VLOOKUP(FOcorrencias[[#This Row],[Matricula]],Cadastros!$P:$Q,2,0)) -> Funcionario 2 | G15: Atraso | H15: Indisciplina | J15: Não | K15: 00:45 | M15: {=INDEX('Jornada Prevista'!$H:$H,MATCH(1,('Jornada Prevista'!$B:$B=FOcorrencias[[#This Row],[Matricula]])*('Jornada Prevista'!$P:$P=FOcorrencias[[#This Row],[Mês/Ano]]),0))} -> Empresa Z | N15: {=INDEX('Jornada Prevista'!$I:$I,MATCH(1,('Jornada Prevista'!$B:$B=FOcorrencias[[#This Row],[Matricula]])*('Jornada Prevista'!$P:$P=FOcorrencias[[#This Row],[Mês/Ano]]),0))} -> Contabilidade | O15: {=INDEX('Jornada Prevista'!$J:$J,MATCH(1,('Jornada Prevista'!$B:$B=FOcorrencias[[#This Row],[Matricula]])*('Jornada Prevista'!$P:$P=FOcorrencias[[#This Row],[Mês/Ano]]),0))} -> Auxiliar Administrativo | P15: {=INDEX('Jornada Prevista'!$K:$K,MATCH(1,('Jornada Prevista'!$B:$B=FOcorrencias[[#This Row],[Matricula]])*('Jornada Prevista'!$P:$P=FOcorrencias[[#This Row],[Mês/Ano]]),0))} -> Turno C | Q15: {=INDEX('Jornada Prevista'!$L:$L,MATCH(1,('Jornada Prevista'!$B:$B=FOcorrencias[[#This Row],[Matricula]])*('Jornada Prevista'!$P:$P=FOcorrencias[[#This Row],[Mês/Ano]]),0))} -> 6x1 | R15: {=INDEX('Jornada Prevista'!$M:$M,MATCH(1,('Jornada Prevista'!$B:$B=FOcorrencias[[#This Row],[Matricula]])*('Jornada Prevista'!$P:$P=FOcorrencias[[#This Row],[Mês/Ano]]),0))} -> Estágio | S15: =SUMIFS('Jornada Prevista'!$G:$G,'Jornada Prevista'!$B:$B,FOcorrencias[[#This Row],[Matricula]],'Jornada Prevista'!$P:$P,FOcorrencias[[#This Row],[Mês/Ano]]) -> 184.8 | T15: =SUMIFS('Jornada Prevista'!$N:$N,'Jornada Prevista'!$B:$B,FOcorrencias[[#This Row],[Matricula]],'Jornada Prevista'!$P:$P,FOcorrencias[[#This Row],[Mês/Ano]]) -> 2386.89 | U15: =SUMIFS('Jornada Prevista'!$O:$O,'Jornada Prevista'!$B:$B,FOcorrencias[[#This Row],[Matricula]],'Jornada Prevista'!$P:$P,FOcorrencias[[#This Row],[Mês/Ano]]) -> 12.916071 | V15: =IF(FOcorrencias[[#This Row],[Data da Ocorrência]]="","",TEXT(FOcorrencias[[#This Row],[Data da Ocorrência]],"mm/aaaa")) -> 02/2025
B16: 13 | C16: 21/04/2025 | D16: =IF(FOcorrencias[[#This Row],[Data da Ocorrência]]="","",TEXT(FOcorrencias[[#This Row],[Data da Ocorrência]],"dddd")) -> segunda-feira | E16: 2 | F16: =IF(FOcorrencias[[#This Row],[Matricula]]="","",VLOOKUP(FOcorrencias[[#This Row],[Matricula]],Cadastros!$P:$Q,2,0)) -> Funcionario 2 | G16: Falta | H16: Falta de transporte | J16: Não | K16: 04:00 | L16: Saída autorizada pela coordenação. | M16: {=INDEX('Jornada Prevista'!$H:$H,MATCH(1,('Jornada Prevista'!$B:$B=FOcorrencias[[#This Row],[Matricula]])*('Jornada Prevista'!$P:$P=FOcorrencias[[#This Row],[Mês/Ano]]),0))} -> Empresa X | N16: {=INDEX('Jornada Prevista'!$I:$I,MATCH(1,('Jornada Prevista'!$B:$B=FOcorrencias[[#This Row],[Matricula]])*('Jornada Prevista'!$P:$P=FOcorrencias[[#This Row],[Mês/Ano]]),0))} -> TI | O16: {=INDEX('Jornada Prevista'!$J:$J,MATCH(1,('Jornada Prevista'!$B:$B=FOcorrencias[[#This Row],[Matricula]])*('Jornada Prevista'!$P:$P=FOcorrencias[[#This Row],[Mês/Ano]]),0))} -> Especialista | P16: {=INDEX('Jornada Prevista'!$K:$K,MATCH(1,('Jornada Prevista'!$B:$B=FOcorrencias[[#This Row],[Matricula]])*('Jornada Prevista'!$P:$P=FOcorrencias[[#This Row],[Mês/Ano]]),0))} -> Turno A | Q16: {=INDEX('Jornada Prevista'!$L:$L,MATCH(1,('Jornada Prevista'!$B:$B=FOcorrencias[[#This Row],[Matricula]])*('Jornada Prevista'!$P:$P=FOcorrencias[[#This Row],[Mês/Ano]]),0))} -> 6x1 | R16: {=INDEX('Jornada Prevista'!$M:$M,MATCH(1,('Jornada Prevista'!$B:$B=FOcorrencias[[#This Row],[Matricula]])*('Jornada Prevista'!$P:$P=FOcorrencias[[#This Row],[Mês/Ano]]),0))} -> PJ | S16: =SUMIFS('Jornada Prevista'!$G:$G,'Jornada Prevista'!$B:$B,FOcorrencias[[#This Row],[Matricula]],'Jornada Prevista'!$P:$P,FOcorrencias[[#This Row],[Mês/Ano]]) -> 184.8 | T16: =SUMIFS('Jornada Prevista'!$N:$N,'Jornada Prevista'!$B:$B,FOcorrencias[[#This Row],[Matricula]],'Jornada Prevista'!$P:$P,FOcorrencias[[#This Row],[Mês/Ano]]) -> 11336.74 | U16: =SUMIFS('Jornada Prevista'!$O:$O,'Jornada Prevista'!$B:$B,FOcorrencias[[#This Row],[Matricula]],'Jornada Prevista'!$P:$P,FOcorrencias[[#This Row],[Mês/Ano]]) -> 61.345996 | V16: =IF(FOcorrencias[[#This Row],[Data da Ocorrência]]="","",TEXT(FOcorrencias[[#This Row],[Data da Ocorrência]],"mm/aaaa")) -> 04/2025
B17: 14 | C17: 01/01/2025 | D17: =IF(FOcorrencias[[#This Row],[Data da Ocorrência]]="","",TEXT(FOcorrencias[[#This Row],[Data da Ocorrência]],"dddd")) -> quarta-feira | E17: 2 | F17: =IF(FOcorrencias[[#This Row],[Matricula]]="","",VLOOKUP(FOcorrencias[[#This Row],[Matricula]],Cadastros!$P:$Q,2,0)) -> Funcionario 2 | G17: Atraso | H17: Trânsito | J17: Sim | K17: 00:25 | M17: {=INDEX('Jornada Prevista'!$H:$H,MATCH(1,('Jornada Prevista'!$B:$B=FOcorrencias[[#This Row],[Matricula]])*('Jornada Prevista'!$P:$P=FOcorrencias[[#This Row],[Mês/Ano]]),0))} -> Empresa Y | N17: {=INDEX('Jornada Prevista'!$I:$I,MATCH(1,('Jornada Prevista'!$B:$B=FOcorrencias[[#This Row],[Matricula]])*('Jornada Prevista'!$P:$P=FOcorrencias[[#This Row],[Mês/Ano]]),0))} -> Operações | O17: {=INDEX('Jornada Prevista'!$J:$J,MATCH(1,('Jornada Prevista'!$B:$B=FOcorrencias[[#This Row],[Matricula]])*('Jornada Prevista'!$P:$P=FOcorrencias[[#This Row],[Mês/Ano]]),0))} -> Analista de Projetos | P17: {=INDEX('Jornada Prevista'!$K:$K,MATCH(1,('Jornada Prevista'!$B:$B=FOcorrencias[[#This Row],[Matricula]])*('Jornada Prevista'!$P:$P=FOcorrencias[[#This Row],[Mês/Ano]]),0))} -> Turno Folguista | Q17: {=INDEX('Jornada Prevista'!$L:$L,MATCH(1,('Jornada Prevista'!$B:$B=FOcorrencias[[#This Row],[Matricula]])*('Jornada Prevista'!$P:$P=FOcorrencias[[#This Row],[Mês/Ano]]),0))} -> 6x1 | R17: {=INDEX('Jornada Prevista'!$M:$M,MATCH(1,('Jornada Prevista'!$B:$B=FOcorrencias[[#This Row],[Matricula]])*('Jornada Prevista'!$P:$P=FOcorrencias[[#This Row],[Mês/Ano]]),0))} -> CLT | S17: =SUMIFS('Jornada Prevista'!$G:$G,'Jornada Prevista'!$B:$B,FOcorrencias[[#This Row],[Matricula]],'Jornada Prevista'!$P:$P,FOcorrencias[[#This Row],[Mês/Ano]]) -> 184.8 | T17: =SUMIFS('Jornada Prevista'!$N:$N,'Jornada Prevista'!$B:$B,FOcorrencias[[#This Row],[Matricula]],'Jornada Prevista'!$P:$P,FOcorrencias[[#This Row],[Mês/Ano]]) -> 11555.79 | U17: =SUMIFS('Jornada Prevista'!$O:$O,'Jornada Prevista'!$B:$B,FOcorrencias[[#This Row],[Matricula]],'Jornada Prevista'!$P:$P,FOcorrencias[[#This Row],[Mês/Ano]]) -> 62.531331 | V17: =IF(FOcorrencias[[#This Row],[Data da Ocorrência]]="","",TEXT(FOcorrencias[[#This Row],[Data da Ocorrência]],"mm/aaaa")) -> 01/2025
B18: 15 | C18: 25/10/2025 | D18: =IF(FOcorrencias[[#This Row],[Data da Ocorrência]]="","",TEXT(FOcorrencias[[#This Row],[Data da Ocorrência]],"dddd")) -> sábado | E18: 2 | F18: =IF(FOcorrencias[[#This Row],[Matricula]]="","",VLOOKUP(FOcorrencias[[#This Row],[Matricula]],Cadastros!$P:$Q,2,0)) -> Funcionario 2 | G18: Atraso | H18: Reunião externa | J18: Não | K18: 00:45 | M18: {=INDEX('Jornada Prevista'!$H:$H,MATCH(1,('Jornada Prevista'!$B:$B=FOcorrencias[[#This Row],[Matricula]])*('Jornada Prevista'!$P:$P=FOcorrencias[[#This Row],[Mês/Ano]]),0))} -> Empresa Z | N18: {=INDEX('Jornada Prevista'!$I:$I,MATCH(1,('Jornada Prevista'!$B:$B=FOcorrencias[[#This Row],[Matricula]])*('Jornada Prevista'!$P:$P=FOcorrencias[[#This Row],[Mês/Ano]]),0))} -> Marketing | O18: {=INDEX('Jornada Prevista'!$J:$J,MATCH(1,('Jornada Prevista'!$B:$B=FOcorrencias[[#This Row],[Matricula]])*('Jornada Prevista'!$P:$P=FOcorrencias[[#This Row],[Mês/Ano]]),0))} -> Operador | P18: {=INDEX('Jornada Prevista'!$K:$K,MATCH(1,('Jornada Prevista'!$B:$B=FOcorrencias[[#This Row],[Matricula]])*('Jornada Prevista'!$P:$P=FOcorrencias[[#This Row],[Mês/Ano]]),0))} -> Turno A | Q18: {=INDEX('Jornada Prevista'!$L:$L,MATCH(1,('Jornada Prevista'!$B:$B=FOcorrencias[[#This Row],[Matricula]])*('Jornada Prevista'!$P:$P=FOcorrencias[[#This Row],[Mês/Ano]]),0))} -> 12x36 | R18: {=INDEX('Jornada Prevista'!$M:$M,MATCH(1,('Jornada Prevista'!$B:$B=FOcorrencias[[#This Row],[Matricula]])*('Jornada Prevista'!$P:$P=FOcorrencias[[#This Row],[Mês/Ano]]),0))} -> Estágio | S18: =SUMIFS('Jornada Prevista'!$G:$G,'Jornada Prevista'!$B:$B,FOcorrencias[[#This Row],[Matricula]],'Jornada Prevista'!$P:$P,FOcorrencias[[#This Row],[Mês/Ano]]) -> 184.8 | T18: =SUMIFS('Jornada Prevista'!$N:$N,'Jornada Prevista'!$B:$B,FOcorrencias[[#This Row],[Matricula]],'Jornada Prevista'!$P:$P,FOcorrencias[[#This Row],[Mês/Ano]]) -> 8771.52 | U18: =SUMIFS('Jornada Prevista'!$O:$O,'Jornada Prevista'!$B:$B,FOcorrencias[[#This Row],[Matricula]],'Jornada Prevista'!$P:$P,FOcorrencias[[#This Row],[Mês/Ano]]) -> 47.464935 | V18: =IF(FOcorrencias[[#This Row],[Data da Ocorrência]]="","",TEXT(FOcorrencias[[#This Row],[Data da Ocorrência]],"mm/aaaa")) -> 10/2025
B19: 16 | C19: 23/03/2025 | D19: =IF(FOcorrencias[[#This Row],[Data da Ocorrência]]="","",TEXT(FOcorrencias[[#This Row],[Data da Ocorrência]],"dddd")) -> domingo | E19: 2 | F19: =IF(FOcorrencias[[#This Row],[Matricula]]="","",VLOOKUP(FOcorrencias[[#This Row],[Matricula]],Cadastros!$P:$Q,2,0)) -> Funcionario 2 | G19: Falta | H19: Consulta médica | I19: F32 | J19: Sim | K19: 08:00 | M19: {=INDEX('Jornada Prevista'!$H:$H,MATCH(1,('Jornada Prevista'!$B:$B=FOcorrencias[[#This Row],[Matricula]])*('Jornada Prevista'!$P:$P=FOcorrencias[[#This Row],[Mês/Ano]]),0))} -> Empresa X | N19: {=INDEX('Jornada Prevista'!$I:$I,MATCH(1,('Jornada Prevista'!$B:$B=FOcorrencias[[#This Row],[Matricula]])*('Jornada Prevista'!$P:$P=FOcorrencias[[#This Row],[Mês/Ano]]),0))} -> Recursos Humanos | O19: {=INDEX('Jornada Prevista'!$J:$J,MATCH(1,('Jornada Prevista'!$B:$B=FOcorrencias[[#This Row],[Matricula]])*('Jornada Prevista'!$P:$P=FOcorrencias[[#This Row],[Mês/Ano]]),0))} -> Auxiliar | P19: {=INDEX('Jornada Prevista'!$K:$K,MATCH(1,('Jornada Prevista'!$B:$B=FOcorrencias[[#This Row],[Matricula]])*('Jornada Prevista'!$P:$P=FOcorrencias[[#This Row],[Mês/Ano]]),0))} -> Turno B | Q19: {=INDEX('Jornada Prevista'!$L:$L,MATCH(1,('Jornada Prevista'!$B:$B=FOcorrencias[[#This Row],[Matricula]])*('Jornada Prevista'!$P:$P=FOcorrencias[[#This Row],[Mês/Ano]]),0))} -> 12x36 | R19: {=INDEX('Jornada Prevista'!$M:$M,MATCH(1,('Jornada Prevista'!$B:$B=FOcorrencias[[#This Row],[Matricula]])*('Jornada Prevista'!$P:$P=FOcorrencias[[#This Row],[Mês/Ano]]),0))} -> Estágio | S19: =SUMIFS('Jornada Prevista'!$G:$G,'Jornada Prevista'!$B:$B,FOcorrencias[[#This Row],[Matricula]],'Jornada Prevista'!$P:$P,FOcorrencias[[#This Row],[Mês/Ano]]) -> 184.8 | T19: =SUMIFS('Jornada Prevista'!$N:$N,'Jornada Prevista'!$B:$B,FOcorrencias[[#This Row],[Matricula]],'Jornada Prevista'!$P:$P,FOcorrencias[[#This Row],[Mês/Ano]]) -> 2303.92 | U19: =SUMIFS('Jornada Prevista'!$O:$O,'Jornada Prevista'!$B:$B,FOcorrencias[[#This Row],[Matricula]],'Jornada Prevista'!$P:$P,FOcorrencias[[#This Row],[Mês/Ano]]) -> 12.4671 | V19: =IF(FOcorrencias[[#This Row],[Data da Ocorrência]]="","",TEXT(FOcorrencias[[#This Row],[Data da Ocorrência]],"mm/aaaa")) -> 03/2025
