Workbook

Sheet DSeleções
B3: Seleções | C3: UrlBandeira
B4: Uruguai | C4: https://flagcdn.com/w40/uy.png
B5: Itália | C5: https://flagcdn.com/w40/it.png
B6: Alemanha | C6: https://flagcdn.com/w40/de.png
B7: Brasil | C7: https://flagcdn.com/w40/br.png
B8: Inglaterra | C8: https://flagcdn.com/w40/gb-eng.png
B9: Argentina | C9: https://flagcdn.com/w40/ar.png
B10: França | C10: https://flagcdn.com/w40/fr.png
B11: Espanha | C11: https://flagcdn.com/w40/es.png

Sheet FCopas
B3: Ano | C3: País Sede | D3: Continente Sede | E3: Campeão | F3: Vice | G3: 3º Lugar | H3: 4º Lugar | I3: Nº Seleções | J3: Nº Partidas | K3: Nº Gols | L3: Público Total | M3: Média Público/Jogo | N3: Artilheiro | O3: Gols Artilheiro | P3: Década | Q3: Sede Label | R3: País | S3: Continetes Campeões
B4: 1930 | C4: Uruguai | D4: América do Sul | E4: Uruguai | F4: Argentina | G4: Estados Unidos | H4: Iugoslávia | I4: 13 | J4: 18 | K4: 70 | L4: 590549 | M4: 32808 | N4: Guillermo Stábile | O4: 8 | P4: 1930s | Q4: Uruguai (1930) | R4: =IF(FCopas[[#This Row],[Campeão]]="","",FCopas[[#This Row],[Campeão]]) -> Uruguai | S4: América do Sul
B5: 1934 | C5: Itália | D5: Europa | E5: Itália | F5: Tchecoslováquia | G5: Alemanha | H5: Áustria | I5: 16 | J5: 17 | K5: 70 | L5: 363000 | M5: 21353 | N5: Oldřich Nejedlý | O5: 5 | P5: 1930s | Q5: Itália (1934) | R5: =IF(FCopas[[#This Row],[Campeão]]="","",FCopas[[#This Row],[Campeão]]) -> Itália | S5: Europa
B6: 1938 | C6: França | D6: Europa | E6: Itália | F6: Hungria | G6: Brasil | H6: Suécia | I6: 15 | J6: 18 | K6: 84 | L6: 375700 | M6: 20872 | N6: Leônidas | O6: 7 | P6: 1930s | Q6: França (1938) | R6: =IF(FCopas[[#This Row],[Campeão]]="","",FCopas[[#This Row],[Campeão]]) -> Itália | S6: Europa
B7: 1950 | C7: Brasil | D7: América do Sul | E7: Uruguai | F7: Brasil | G7: Suécia | H7: Espanha | I7: 13 | J7: 22 | K7: 88 | L7: 1045246 | M7: 47511 | N7: Ademir | O7: 8 | P7: 1950s | Q7: Brasil (1950) | R7: =IF(FCopas[[#This Row],[Campeão]]="","",FCopas[[#This Row],[Campeão]]) -> Uruguai | S7: América do Sul
B8: 1954 | C8: Suíça | D8: Europa | E8: Alemanha | F8: Hungria | G8: Áustria | H8: Uruguai | I8: 16 | J8: 26 | K8: 140 | L8: 768607 | M8: 29562 | N8: Sándor Kocsis | O8: 11 | P8: 1950s | Q8: Suíça (1954) | R8: =IF(FCopas[[#This Row],[Campeão]]="","",FCopas[[#This Row],[Campeão]]) -> Alemanha | S8: Europa
B9: 1958 | C9: Suécia | D9: Europa | E9: Brasil | F9: Suécia | G9: França | H9: Alemanha Ocidental | I9: 16 | J9: 35 | K9: 126 | L9: 819810 | M9: 23423 | N9: Just Fontaine | O9: 13 | P9: 1950s | Q9: Suécia (1958) | R9: =IF(FCopas[[#This Row],[Campeão]]="","",FCopas[[#This Row],[Campeão]]) -> Brasil | S9: América do Sul
B10: 1962 | C10: Chile | D10: América do Sul | E10: Brasil | F10: Tchecoslováquia | G10: Chile | H10: Iugoslávia | I10: 16 | J10: 32 | K10: 89 | L10: 893172 | M10: 27912 | N10: Vários jogadores | O10: 4 | P10: 1960s | Q10: Chile (1962) | R10: =IF(FCopas[[#This Row],[Campeão]]="","",FCopas[[#This Row],[Campeão]]) -> Brasil | S10: América do Sul
B11: 1966 | C11: Inglaterra | D11: Europa | E11: Inglaterra | F11: Alemanha Ocidental | G11: Portugal | H11: União Soviética | I11: 16 | J11: 32 | K11: 89 | L11: 1563135 | M11: 48848 | N11: Eusébio | O11: 9 | P11: 1960s | Q11: Inglaterra (1966) | R11: =IF(FCopas[[#This Row],[Campeão]]="","",FCopas[[#This Row],[Campeão]]) -> Inglaterra | S11: Europa
B12: 1970 | C12: México | D12: América do Norte | E12: Brasil | F12: Itália | G12: Alemanha Ocidental | H12: Uruguai | I12: 16 | J12: 32 | K12: 95 | L12: 1603975 | M12: 50124 | N12: Gerd Müller | O12: 10 | P12: 1970s | Q12: México (1970) | R12: =IF(FCopas[[#This Row],[Campeão]]="","",FCopas[[#This Row],[Campeão]]) -> Brasil | S12: América do Sul
B13: 1974 | C13: Alemanha | D13: Europa | E13: Alemanha | F13: Países Baixos | G13: Polônia | H13: Brasil | I13: 16 | J13: 38 | K13: 97 | L13: 1774022 | M13: 46685 | N13: Grzegorz Lato | O13: 7 | P13: 1970s | Q13: Alemanha Ocidental (1974) | R13: =IF(FCopas[[#This Row],[Campeão]]="","",FCopas[[#This Row],[Campeão]]) -> Alemanha | S13: Europa
B14: 1978 | C14: Argentina | D14: América do Sul | E14: Argentina | F14: Países Baixos | G14: Brasil | H14: Itália | I14: 16 | J14: 38 | K14: 102 | L14: 1545791 | M14: 40679 | N14: Mario Kempes | O14: 6 | P14: 1970s | Q14: Argentina (1978) | R14: =IF(FCopas[[#This Row],[Campeão]]="","",FCopas[[#This Row],[Campeão]]) -> Argentina | S14: América do Sul
B15: 1982 | C15: Espanha | D15: Europa | E15: Itália | F15: Alemanha Ocidental | G15: Polônia | H15: França | I15: 24 | J15: 52 | K15: 146 | L15: 2109723 | M15: 40572 | N15: Paolo Rossi | O15: 6 | P15: 1980s | Q15: Espanha (1982) | R15: =IF(FCopas[[#This Row],[Campeão]]="","",FCopas[[#This Row],[Campeão]]) -> Itália | S15: Europa
... B25: 2022 | C25: Catar | D25: Ásia | E25: Argentina | F25: França | G25: Croácia | H25: Marrocos | I25: 32 | J25: 64 | K25: 172 | L25: 3404252 | M25: 53191 | N25: Kylian Mbappé | O25: 8 | P25: 2020s | Q25: Catar (2022) | R25: =IF(FCopas[[#This Row],[Campeão]]="","",FCopas[[#This Row],[Campeão]]) -> Argentina | S25: América do Sul

Sheet FArtilheiros
B3: Posição | C3: Jogador | D3: Seleção | E3: Gols | F3: Copas | G3: Imagem
B4: 1 | C4: Miroslav Klose | D4: Alemanha | E4: 16 | F4: 2002, 2006, 2010, 2014 | G4: =IFERROR(IF(FArtilheiros[[#This Row],[Seleção]]="","",VLOOKUP(FArtilheiros[[#This Row],[Seleção]],DSeleções!$B:$C,2,0)),"-") -> https://flagcdn.com/w40/de.png
B5: 2 | C5: Ronaldo | D5: Brasil | E5: 15 | F5: 1994, 1998, 2002, 2006 | G5: =IFERROR(IF(FArtilheiros[[#This Row],[Seleção]]="","",VLOOKUP(FArtilheiros[[#This Row],[Seleção]],DSeleções!$B:$C,2,0)),"-") -> https://flagcdn.com/w40/br.png
B6: 3 | C6: Gerd Müller | D6: Alemanha | E6: 14 | F6: 1970, 1974 | G6: =IFERROR(IF(FArtilheiros[[#This Row],[Seleção]]="","",VLOOKUP(FArtilheiros[[#This Row],[Seleção]],DSeleções!$B:$C,2,0)),"-") -> https://flagcdn.com/w40/de.png
B7: 4 | C7: Just Fontaine | D7: França | E7: 13 | F7: 1958 | G7: =IFERROR(IF(FArtilheiros[[#This Row],[Seleção]]="","",VLOOKUP(FArtilheiros[[#This Row],[Seleção]],DSeleções!$B:$C,2,0)),"-") -> https://flagcdn.com/w40/fr.png
B8: 5 | C8: Lionel Messi | D8: Argentina | E8: 13 | F8: 2006, 2010, 2014, 2018, 2022 | G8: =IFERROR(IF(FArtilheiros[[#This Row],[Seleção]]="","",VLOOKUP(FArtilheiros[[#This Row],[Seleção]],DSeleções!$B:$C,2,0)),"-") -> https://flagcdn.com/w40/ar.png
B9: 6 | C9: Kylian Mbappé | D9: França | E9: 12 | F9: 2018, 2022 | G9: =IFERROR(IF(FArtilheiros[[#This Row],[Seleção]]="","",VLOOKUP(FArtilheiros[[#This Row],[Seleção]],DSeleções!$B:$C,2,0)),"-") -> https://flagcdn.com/w40/fr.png
B10: 7 | C10: Pelé | D10: Brasil | E10: 12 | F10: 1958, 1962, 1966, 1970 | G10: =IFERROR(IF(FArtilheiros[[#This Row],[Seleção]]="","",VLOOKUP(FArtilheiros[[#This Row],[Seleção]],DSeleções!$B:$C,2,0)),"-") -> https://flagcdn.com/w40/br.png
B11: 8 | C11: Sándor Kocsis | D11: Hungria | E11: 11 | F11: 1954 | G11: =IFERROR(IF(FArtilheiros[[#This Row],[Seleção]]="","",VLOOKUP(FArtilheiros[[#This Row],[Seleção]],DSeleções!$B:$C,2,0)),"-") -> -
B12: 9 | C12: Jürgen Klinsmann | D12: Alemanha | E12: 11 | F12: 1990, 1994, 1998 | G12: =IFERROR(IF(FArtilheiros[[#This Row],[Seleção]]="","",VLOOKUP(FArtilheiros[[#This Row],[Seleção]],DSeleções!$B:$C,2,0)),"-") -> https://flagcdn.com/w40/de.png
B13: 10 | C13: Helmut Rahn | D13: Alemanha | E13: 10 | F13: 1954, 1958 | G13: =IFERROR(IF(FArtilheiros[[#This Row],[Seleção]]="","",VLOOKUP(FArtilheiros[[#This Row],[Seleção]],DSeleções!$B:$C,2,0)),"-") -> https://flagcdn.com/w40/de.png

Sheet FFinais
B3: Ano | C3: Campeão | D3: Placar | E3: Vice | F3: Estádio | G3: Cidade | H3: Público
B4: 1930 | C4: Uruguai | D4: 4-2 | E4: Argentina | F4: Estádio Centenário | G4: Montevidéu | H4: 68346
B5: 1934 | C5: Itália | D5: 2-1 | E5: Tchecoslováquia | F5: Stadio Nazionale PNF | G5: Roma | H5: 55000
B6: 1938 | C6: Itália | D6: 4-2 | E6: Hungria | F6: Stade Olympique de Colombes | G6: Paris | H6: 45000
B7: 1950 | C7: Uruguai | D7: 2-1 | E7: Brasil | F7: Maracanã | G7: Rio de Janeiro | H7: 173850
B8: 1954 | C8: Alemanha Ocidental | D8: 3-2 | E8: Hungria | F8: Wankdorf Stadium | G8: Berna | H8: 62500
B9: 1958 | C9: Brasil | D9: 5-2 | E9: Suécia | F9: Råsunda Stadium | G9: Solna | H9: 49737
B10: 1962 | C10: Brasil | D10: 3-1 | E10: Tchecoslováquia | F10: Estadio Nacional | G10: Santiago | H10: 68679
B11: 1966 | C11: Inglaterra | D11: 4-2 | E11: Alemanha Ocidental | F11: Wembley Stadium | G11: Londres | H11: 96924
B12: 1970 | C12: Brasil | D12: 4-1 | E12: Itália | F12: Estadio Azteca | G12: Cidade do México | H12: 107412
B13: 1974 | C13: Alemanha Ocidental | D13: 2-1 | E13: Países Baixos | F13: Olympiastadion | G13: Munique | H13: 78200
B14: 1978 | C14: Argentina | D14: 3-1 | E14: Países Baixos | F14: Estadio Monumental | G14: Buenos Aires | H14: 71483
B15: 1982 | C15: Itália | D15: 3-1 | E15: Alemanha Ocidental | F15: Santiago Bernabéu | G15: Madri | H15: 90000
... B25: 2022 | C25: Argentina | D25: 3-3 (4-2 pen.) | E25: França | F25: Lusail Stadium | G25: Lusail | H25: 88966

Sheet DMomentosHistoricos
B3: Ano | C3: Momento Histórico | D3: Categoria | E3: Seleção | F3: Imagem
B4: 1930 | C4: Primeira Copa do Mundo, realizada no Uruguai. | D4: Início | E4: Uruguai | F4: =IFERROR(IF(FMomentos[[#This Row],[Seleção]]="","",VLOOKUP(FMomentos[[#This Row],[Seleção]],DSeleções!$B:$C,2,0)),"-") -> https://flagcdn.com/w40/uy.png
B5: 1950 | C5: Maracanazo: Uruguai vence o Brasil no Maracanã. | D5: Final histórica | E5: Uruguai | F5: =IFERROR(IF(FMomentos[[#This Row],[Seleção]]="","",VLOOKUP(FMomentos[[#This Row],[Seleção]],DSeleções!$B:$C,2,0)),"-") -> https://flagcdn.com/w40/uy.png
B6: 1958 | C6: Pelé surge como protagonista e o Brasil conquista seu primeiro título. | D6: Craque histórico | E6: Brasil | F6: =IFERROR(IF(FMomentos[[#This Row],[Seleção]]="","",VLOOKUP(FMomentos[[#This Row],[Seleção]],DSeleções!$B:$C,2,0)),"-") -> https://flagcdn.com/w40/br.png
B7: 1970 | C7: Brasil conquista o tricampeonato no México. | D7: Dinastia | E7: Brasil | F7: =IFERROR(IF(FMomentos[[#This Row],[Seleção]]="","",VLOOKUP(FMomentos[[#This Row],[Seleção]],DSeleções!$B:$C,2,0)),"-") -> https://flagcdn.com/w40/br.png
B8: 1986 | C8: Argentina campeã com Maradona como grande destaque. | D8: Craque histórico | E8: Argentina | F8: =IFERROR(IF(FMomentos[[#This Row],[Seleção]]="","",VLOOKUP(FMomentos[[#This Row],[Seleção]],DSeleções!$B:$C,2,0)),"-") -> https://flagcdn.com/w40/ar.png
B9: 1994 | C9: Brasil volta a ser campeão após 24 anos, nos Estados Unidos. | D9: Título brasileiro | E9: Brasil | F9: =IFERROR(IF(FMomentos[[#This Row],[Seleção]]="","",VLOOKUP(FMomentos[[#This Row],[Seleção]],DSeleções!$B:$C,2,0)),"-") -> https://flagcdn.com/w40/br.png
B10: 1998 | C10: França vence sua primeira Copa, em casa. | D10: Anfitrião campeão | E10: França | F10: =IFERROR(IF(FMomentos[[#This Row],[Seleção]]="","",VLOOKUP(FMomentos[[#This Row],[Seleção]],DSeleções!$B:$C,2,0)),"-") -> https://flagcdn.com/w40/fr.png
B11: 2002 | C11: Brasil conquista o pentacampeonato com Ronaldo artilheiro. | D11: Pentacampeonato | E11: Brasil | F11: =IFERROR(IF(FMomentos[[#This Row],[Seleção]]="","",VLOOKUP(FMomentos[[#This Row],[Seleção]],DSeleções!$B:$C,2,0)),"-") -> https://flagcdn.com/w40/br.png
B12: 2010 | C12: Espanha conquista sua primeira Copa do Mundo. | D12: Primeiro título | E12: Espanha | F12: =IFERROR(IF(FMomentos[[#This Row],[Seleção]]="","",VLOOKUP(FMomentos[[#This Row],[Seleção]],DSeleções!$B:$C,2,0)),"-") -> https://flagcdn.com/w40/es.png
B13: 2014 | C13: Alemanha vence a Copa no Brasil. | D13: Título europeu nas Américas | E13: Alemanha | F13: =IFERROR(IF(FMomentos[[#This Row],[Seleção]]="","",VLOOKUP(FMomentos[[#This Row],[Seleção]],DSeleções!$B:$C,2,0)),"-") -> https://flagcdn.com/w40/de.png
B14: 2022 | C14: Argentina campeã em final histórica contra a França. | D14: Final histórica | E14: Argentina | F14: =IFERROR(IF(FMomentos[[#This Row],[Seleção]]="","",VLOOKUP(FMomentos[[#This Row],[Seleção]],DSeleções!$B:$C,2,0)),"-") -> https://flagcdn.com/w40/ar.png
